BEGIN:VCALENDAR
VERSION:2.0
PRODID:-//JentlFlow - ECPv6.15.20//NONSGML v1.0//EN
CALSCALE:GREGORIAN
METHOD:PUBLISH
X-ORIGINAL-URL:https://www.jentlflow.at
X-WR-CALDESC:Veranstaltungen für JentlFlow
REFRESH-INTERVAL;VALUE=DURATION:PT1H
X-Robots-Tag:noindex
X-PUBLISHED-TTL:PT1H
BEGIN:VTIMEZONE
TZID:Europe/Vienna
BEGIN:DAYLIGHT
TZOFFSETFROM:+0100
TZOFFSETTO:+0200
TZNAME:CEST
DTSTART:20210328T010000
END:DAYLIGHT
BEGIN:STANDARD
TZOFFSETFROM:+0200
TZOFFSETTO:+0100
TZNAME:CET
DTSTART:20211031T010000
END:STANDARD
BEGIN:DAYLIGHT
TZOFFSETFROM:+0100
TZOFFSETTO:+0200
TZNAME:CEST
DTSTART:20220327T010000
END:DAYLIGHT
BEGIN:STANDARD
TZOFFSETFROM:+0200
TZOFFSETTO:+0100
TZNAME:CET
DTSTART:20221030T010000
END:STANDARD
BEGIN:DAYLIGHT
TZOFFSETFROM:+0100
TZOFFSETTO:+0200
TZNAME:CEST
DTSTART:20230326T010000
END:DAYLIGHT
BEGIN:STANDARD
TZOFFSETFROM:+0200
TZOFFSETTO:+0100
TZNAME:CET
DTSTART:20231029T010000
END:STANDARD
END:VTIMEZONE
BEGIN:VEVENT
DTSTART;TZID=Europe/Vienna:20220412T100000
DTEND;TZID=Europe/Vienna:20220412T150000
DTSTAMP:20260424T234156
CREATED:20211111T195834Z
LAST-MODIFIED:20220320T202330Z
UID:8001-1649757600-1649775600@www.jentlflow.at
SUMMARY:Enduro Motocross Einsteigertraining
DESCRIPTION:< Diese Veranstaltung ist ausgebucht. Individuelle Termine auf Anfrage > \nSpeziell für Motocross/Enduro Einsteiger und Hobbyfahrer ist dieses Training am Offroadgelände in Szentgotthárd ideal. Mit den richtigen Techniken ist man sowohl auf der Motocross-Strecke als auch auf der Endurorunde gleich schneller und sicherer unterwegs. Der Termin ist unter der Woche\, da ist die Strecke nicht so frequentiert wie am Wochenende und wir haben mehr Platz zum Üben. \nTrainingsinhalte\n\nSteh- und Sitzposition\nMotorrad-Setup\nKurventechnik – die Basics\nKupplungskontrolle\, Balance\nFahrtechnik Auffahrten\, Abfahrten\nBewältigen von kleineren Hindernissen\n\n\n  \nZirka eine Stunde Süd/östlich von Graz liegt das Offroadgelände in Szentgotthárd. Hier findet man eine Motocross-Strecke\, eine Endurorunde und einen Superenduro-Parcours vor. Über Streckenbeschaffenheit und genaue Öffnungszeiten informiert die Facebookseite Motocross Szentgotthárd. \nInfo\n\nZeitplan: Training 10:00-15:00\nEigenes Motorrad (Sportenduro oder Motocross)\nStreckengebühr 20\,-/Tag beim Betreiber vor Ort zu zahlen\nTeilnahme auf eigene Gefahr: >> Teilnahmebedingungen\n\nPreis: 199\,-\nAnmeldung\n\n\n  \n\n\n\nName (erforderlich)\nEmail (erforderlich)  \n Straße (erforderlich) \n Postleitzahl (erforderlich) \n Ort (erforderlich) \n Telefon (erforderlich)\nMotorrad \nAnmerkungen \n \n Ich melde mich verbindlich für das Training an.\n \n Ich stimme den Teilnahmebedingungen/AGB zu.\n-> Link zu den Teilnahmebedingungen\n \nIch habe die Datenschutzerklärung zur Kenntnis genommen und akzeptiert. Ich stimme zu\, dass meine Formularangaben zur Kontaktaufnahme bzw. zur Bearbeitung meines Anliegens gespeichert werden.\n-> Link zur Datenschutzerklärung\n \n\n \nFalls nach der Anmeldung keine Antwort kommt bitte SPAM-Ordner prüfen.\n ×
URL:https://www.jentlflow.at/event/enduro-motocross-einsteigertraining-12-04-2022/
LOCATION:Offroadgelände Szentgotthard\, Szentgotthard\, Ungarn
CATEGORIES:Endurotraining
ORGANIZER;CN="JentlFlow":MAILTO:jentl@jeneweinflow.at
END:VEVENT
END:VCALENDAR