BEGIN:VCALENDAR
VERSION:2.0
PRODID:-//JentlFlow - ECPv6.15.20//NONSGML v1.0//EN
CALSCALE:GREGORIAN
METHOD:PUBLISH
X-ORIGINAL-URL:https://www.jentlflow.at
X-WR-CALDESC:Veranstaltungen für JentlFlow
REFRESH-INTERVAL;VALUE=DURATION:PT1H
X-Robots-Tag:noindex
X-PUBLISHED-TTL:PT1H
BEGIN:VTIMEZONE
TZID:Europe/Vienna
BEGIN:DAYLIGHT
TZOFFSETFROM:+0100
TZOFFSETTO:+0200
TZNAME:CEST
DTSTART:20190331T010000
END:DAYLIGHT
BEGIN:STANDARD
TZOFFSETFROM:+0200
TZOFFSETTO:+0100
TZNAME:CET
DTSTART:20191027T010000
END:STANDARD
BEGIN:DAYLIGHT
TZOFFSETFROM:+0100
TZOFFSETTO:+0200
TZNAME:CEST
DTSTART:20200329T010000
END:DAYLIGHT
BEGIN:STANDARD
TZOFFSETFROM:+0200
TZOFFSETTO:+0100
TZNAME:CET
DTSTART:20201025T010000
END:STANDARD
BEGIN:DAYLIGHT
TZOFFSETFROM:+0100
TZOFFSETTO:+0200
TZNAME:CEST
DTSTART:20210328T010000
END:DAYLIGHT
BEGIN:STANDARD
TZOFFSETFROM:+0200
TZOFFSETTO:+0100
TZNAME:CET
DTSTART:20211031T010000
END:STANDARD
END:VTIMEZONE
BEGIN:VEVENT
DTSTART;TZID=Europe/Vienna:20201017T100000
DTEND;TZID=Europe/Vienna:20201017T160000
DTSTAMP:20260426T015650
CREATED:20200926T085924Z
LAST-MODIFIED:20201011T093425Z
UID:5958-1602928800-1602950400@www.jentlflow.at
SUMMARY:Enduro Einsteigertraining Plus
DESCRIPTION:>> Termin abgesagt\, das Training findet im Frühjahr 2021 statt\, Info folgt  <<\nSpeziell für Enduro Einsteiger und Hobbyfahrer (Erwachsene) ist dieses Training am Offroadgelände Motocross und Enduro Nagycenk ideal. Mit den richtigen Techniken ist man sowohl auf der Motocross-Strecke als auch auf der Endurorunde gleich schneller und sicherer unterwegs. Auf- und Abfahrten und das Überwinden von kleineren Hindernissen fällt ebenfalls schnell leichter. \nDas Plus: Leihbikeoption\nDas besondere an diesem Training ist die Möglichkeit sich ein Motocross- oder Endurobike (inkl. Ausrüstung) auszuleihen. Motocross Verleih Zwetti ist mit 20 Bikes vor Ort und macht uns für dieses Training einen Sonderpreis von Euro 190\,- (statt 220\,-).  Hier der Link zu den Leihbikes. So können z.B Adventurebikefahrer Offroadtechniken mit einem leichten Motorrad trainieren und dann am großen Bike umsetzten. Oder Offroadbeginner gleich mit der richtigen Technik starten. \nTrainingsinhalte Enduro Einsteigertraining:\n\nMotorrad-Setup\nSteh- und Sitzposition\nKurventechnik\nRichtig bremsen/beschleunigen\nAuf- und Abfahrten\nBlicktechnik/Ideallinie\nÜberwinden von kleineren Hindernissen\n\n\n  \nZirka eine 2 Stunden östlich von Graz oder eine Stunde 15 südlich von Wien liegt das Offroadgelände Motocross und Enduro Nagycenk. Hier gibt es vielfältige Möglichkeiten für Offroader. Von verschiedenen Motocross Strecken\, einer große Endurorunde mit vielen Optionen bis hin zum Trailparcour ist alles vorhanden. Das Besondere ist\, das es viele Streckenabschnitte gibt\, die sich ideal für Einsteiger und zum Üben eignen. Über Streckenbeschaffenheit und genaue Öffnungszeiten informiert die Facebookseite Motocross und Enduro Nagycenk. \nInfo\n\nTraining ideal für Einsteiger und Hobbyfahrer (Erwachsene)\nEigenes Motorrad (Hardenduro oder Motocross) oder Leihbikeoption\nTrainingszeit 10:00-16:00\nBei Schlechtwetter verschieben wir\nAlternativer Termin/Einzeltraining jederzeit möglich; bitte anfragen\nLeihbike und Streckengebühr im Preis nicht inbegriffen\nBegrenzte Teilnehmerzahl: maximal 6 Personen\nMindestteilnehmerzahl: 4 Personen\nTeilnahme auf eigene Gefahr: >> Teilnahmebedingungen\n\nPreis: 99\,-\nTraining Info: Michael Jentl\, Tel: 00436643915363\, e-mail: jentl@jeneweinflow.at \nLeihbike Info: Oliver Zwetti\, Tel: 00436646526080 e-mail: info@motocross-verleih.at \nAnmeldung\nFehler: Kontaktformular wurde nicht gefunden.
URL:https://www.jentlflow.at/event/enduro-einsteigertraining-plus-17-10-2020/
CATEGORIES:Endurotraining
ORGANIZER;CN="JentlFlow":MAILTO:jentl@jeneweinflow.at
END:VEVENT
END:VCALENDAR