BEGIN:VCALENDAR
VERSION:2.0
PRODID:-//JentlFlow - ECPv6.15.20//NONSGML v1.0//EN
CALSCALE:GREGORIAN
METHOD:PUBLISH
X-ORIGINAL-URL:https://www.jentlflow.at
X-WR-CALDESC:Veranstaltungen für JentlFlow
REFRESH-INTERVAL;VALUE=DURATION:PT1H
X-Robots-Tag:noindex
X-PUBLISHED-TTL:PT1H
BEGIN:VTIMEZONE
TZID:Europe/Vienna
BEGIN:DAYLIGHT
TZOFFSETFROM:+0100
TZOFFSETTO:+0200
TZNAME:CEST
DTSTART:20250330T010000
END:DAYLIGHT
BEGIN:STANDARD
TZOFFSETFROM:+0200
TZOFFSETTO:+0100
TZNAME:CET
DTSTART:20251026T010000
END:STANDARD
BEGIN:DAYLIGHT
TZOFFSETFROM:+0100
TZOFFSETTO:+0200
TZNAME:CEST
DTSTART:20260329T010000
END:DAYLIGHT
BEGIN:STANDARD
TZOFFSETFROM:+0200
TZOFFSETTO:+0100
TZNAME:CET
DTSTART:20261025T010000
END:STANDARD
BEGIN:DAYLIGHT
TZOFFSETFROM:+0100
TZOFFSETTO:+0200
TZNAME:CEST
DTSTART:20270328T010000
END:DAYLIGHT
BEGIN:STANDARD
TZOFFSETFROM:+0200
TZOFFSETTO:+0100
TZNAME:CET
DTSTART:20271031T010000
END:STANDARD
END:VTIMEZONE
BEGIN:VEVENT
DTSTART;VALUE=DATE:20261002
DTEND;VALUE=DATE:20261006
DTSTAMP:20260422T031128
CREATED:20251109T193449Z
LAST-MODIFIED:20260108T085247Z
UID:13065-1790899200-1791244799@www.jentlflow.at
SUMMARY:4 Tage Kroatien Adventurebiketour
DESCRIPTION:< Diese Veranstaltung ist ausgebucht. Individuelle Termine auf Nachfrage > \nVoraussetzung für die Teilnahme ist ein absolviertes JentlFlow Basic Training.\n \nHerrliche Adventurebiketour für fortgeschrittene Fahrer. Kroatien ist extrem vielseitig. An der Küste das schroffe Velebit Gebirge mit herrlichen Meerblicken und im Landesinneren kaum besiedelte Hochebenen. Entsprechend wechselt auch das Gelände öfter von steinig auf gatschig. Genau diese Vielseitigkeit macht den Reiz dieser Tour aus. \n\nKroatien Adventurebiketour\nWir wollen sportlich ohne Gepäck fahren\, daher starten wir die Touren zentral in Gospic. Direkt in der Umgebung gibt es ein riesiges Forst-Schotterstraßennetz\, dass sich perfekt für kleinere Runden eignet. Dazu können wir von hier aus eine große 300km Nord- und Südschleife fahren. Die herrlichen Schotterstraßen im Velebitgebirge sind ebenso dabei wie die legendären Winnetou Drehorte am Mali Alan. Dazu gibt es typisches Rallygelände auf den Hochebenen im Landesinneren aber auch feuchte Wälder und Forststrassen. Hier ein Video der Herbsttour 2021 von Teilnehmer Gerald Weiser: \n\nInfo\n\n2 Halbtags- und 2 Tagestouren:\nErster Tag: Anreise und Halbtagestour\nZweiter und dritter Tag: Ganztagestouren\nLetzter Tag: Halbtagstour und Heimreise\nQuartier: Es gibt mehrere Möglichkeiten bei Gospic (350km / 3:30 von Graz)\nBegrenzte Teilnehmerzahl: maximal 5 Personen\n\nFahrlevel: Advanced Rider\n\nPreis: 349\,-\nAnmeldung\n\n\n  \n\n\n\nVor-Nachname \nEmail  \nStraße \nPostleitzahl \nOrt  \nTelefon \nGeburtsjahr \nMotorrad \nAnmerkungen \nMein Fahrlevel - bitte auswählen:\n \n\n	Nach unten scrollen und Fahrlevel wählenOffroad BeginnerOffroad Advanced RiderOffroad Expert Rider\nTour bitte auswählen:\nNach unten scrollen und Tour wählen21-22.April Adventurebike Guidining Plus Rene D.28.Apr-1.Mai Rallyfahrtechniktraining Gospic 11-4.Mai Rallyfahrtechniktraining Gospic 26-7.Mai Adventurebike Guiding Plus Level 2 Pro Patricia K12-15.Mai Rallyfahrtechniktraining Gospic 315-18.Mai Rallyfahrtechniktraining Gospic 424-25.Mai Adventurebike Training Pro Offroad Basics31.Mai-1.Juni Adventurebike Training Pro Offroad Basics5-8.Juni Rallyfahrtechniktraining Gospic 528-29.Juni Adventurebike Training Pro Offroad Basics14-15.Juni Adventurebike Guiding Plus Level 2 Technik5-6.Juli Adventurebike Guiding Plus Level 2 Driften26-27.Juli Adventurebike Training Pro Offroad Basics7-10.Aug Adventurebike Advanced Tour Rakek26-30.Aug Westalpen Adventurebike Explor Week1-5.Sept Westalpen Adventurebike Enjoy Week7-11.Sept Westalpen Adventurebike Fast Week19-20.Sept Adventurebike Guiding Plus Gery S.26-28.Sep Adventurebike Training Pro Ronald N.2-5.Okt 4-Tage Adventurebike Kroatientour Gospic\n	 \n\n Ich melde mich verbindlich für die Tour an.\n \n Ich stimme den Teilnahmebedingungen/AGB zu.\n-> Link zu den Teilnahmebedingungen\n \nIch habe die Datenschutzerklärung zur Kenntnis genommen und akzeptiert. Ich stimme zu\, dass meine Formularangaben zur Kontaktaufnahme bzw. zur Bearbeitung meines Anliegens gespeichert werden.\n-> Link zur Datenschutzerklärung\n \n\n \nFalls nach der Anmeldung keine Antwort kommt bitte SPAM-Ordner prüfen.\n ×
URL:https://www.jentlflow.at/event/4-tage-kroatien-adventurebiketour-2-10-2026/
LOCATION:Gospic\, Gospic\, Croatia (Local Name: Hrvatska)
CATEGORIES:Adventurebiketour advanced
ATTACH;FMTTYPE=image/jpeg:https://www.jentlflow.at/wp-content/uploads/2025/11/Kro-Tour-Sold.jpg
ORGANIZER;CN="JentlFlow":MAILTO:jentl@jeneweinflow.at
END:VEVENT
END:VCALENDAR