BEGIN:VCALENDAR
VERSION:2.0
PRODID:-//JentlFlow - ECPv6.15.20//NONSGML v1.0//EN
CALSCALE:GREGORIAN
METHOD:PUBLISH
X-WR-CALNAME:JentlFlow
X-ORIGINAL-URL:https://www.jentlflow.at
X-WR-CALDESC:Veranstaltungen für JentlFlow
REFRESH-INTERVAL;VALUE=DURATION:PT1H
X-Robots-Tag:noindex
X-PUBLISHED-TTL:PT1H
BEGIN:VTIMEZONE
TZID:Europe/Vienna
BEGIN:DAYLIGHT
TZOFFSETFROM:+0100
TZOFFSETTO:+0200
TZNAME:CEST
DTSTART:20230326T010000
END:DAYLIGHT
BEGIN:STANDARD
TZOFFSETFROM:+0200
TZOFFSETTO:+0100
TZNAME:CET
DTSTART:20231029T010000
END:STANDARD
BEGIN:DAYLIGHT
TZOFFSETFROM:+0100
TZOFFSETTO:+0200
TZNAME:CEST
DTSTART:20240331T010000
END:DAYLIGHT
BEGIN:STANDARD
TZOFFSETFROM:+0200
TZOFFSETTO:+0100
TZNAME:CET
DTSTART:20241027T010000
END:STANDARD
BEGIN:DAYLIGHT
TZOFFSETFROM:+0100
TZOFFSETTO:+0200
TZNAME:CEST
DTSTART:20250330T010000
END:DAYLIGHT
BEGIN:STANDARD
TZOFFSETFROM:+0200
TZOFFSETTO:+0100
TZNAME:CET
DTSTART:20251026T010000
END:STANDARD
END:VTIMEZONE
BEGIN:VEVENT
DTSTART;VALUE=DATE:20240707
DTEND;VALUE=DATE:20240709
DTSTAMP:20260425T172110
CREATED:20231102T161204Z
LAST-MODIFIED:20240514T151815Z
UID:10617-1720310400-1720483199@www.jentlflow.at
SUMMARY:2 Tage Adventurebike Guiding Plus Level 2 Slowenien
DESCRIPTION:< Diese Veranstaltung ist ausgebucht. Individuelle Termine auf Nachfrage >\n \nIhr habt das JentlFlow Basic Training gemacht?  Die Schotterstraßen und Forstwege gleich hinter der steirisch – slowenischen Grenze bieten ideale Voraussetzungen\, weiter an Eurer Fahrtechnik zu arbeiten. \n2 Tage Adventurebike Guiding Plus Level 2\nBei dieser Tour liegt der Schwerpunkt auf Guiding durch das wunderschöne Hügelland hinter der österreichischen Grenze. Je nach Gruppe fahren wir diesmal auch etwas anspruchsvollere Wege. In den Pausen gibt es Setup- und Fahrtechniktipps vom Ridingcoach. \nDie Guiding Plus Level 2 Tour schließt an den JentlFlow Basic Trainings („Training Pro“ und „Guiding Plus“) an\, bietet die Möglichkeit\, das Gelernte zu wiederholen und neue Techniken für härteres Gelände sowie sicheres\, schnelleres Fahren dazuzulernen. Die erste Anmeldung bestimmt dabei den Schwierigkeitsgrad der Tour. Auch die Fahrtechnikinhalte variieren je nach Gruppe. Ob Vertiefung der Basics bei einer Offroadeinsteiger Gruppe bis zum  Erlernen von Rallyfahrtechniken oder technisches Gelände bei einer Expert Rider Gruppe ist alles möglich. \n  \n\n  \nDie Teilnehmerzahl ist auf maximal 5 Biker begrenzt\, um eine gute Betreuung zu gewährleisten. Mindestteilnehmerzahl sind 3 Personen. Bei Schlechtwetter verschieben wir. Alternative Termine\, auch unter der Woche\, sind auch möglich\, ebenso Mehrtagestrainings. Einfach anfragen. \nDas Video von Teilnehmer Theodor Stelzl zeigt den Ablauf einer Level2 Guiding Plus Tour recht gut: \n\nInfo:\n\n„Level 2“ bedeutet Anschlusstour an ein JentlFlow Basic Training oder ein Level2 Training\nFür Offroad Beginner bis Expert Rider geeignet\, je nach Gruppe\nDen Schwierigkeitsgrad  und die Fahrtechnikinhalte bestimmt die erste Anmeldung\, bei weiteren Anmeldungen erfolgt eine Rückmeldung\, ob Ihr in diese Gruppe passt\nMaximal 5 Teilnehmer\nWir starten beide Tage von Arnfels aus\, 10:00 Socar Tankstelle\nAnkunft wieder in Arnfels ca 17:00\nTagestouren mit ca 150km mit Mittagspause\n\nPreis: 329\,-\nAnmeldung\n\n\n  \n\n\n\nVor-Nachname \nEmail  \nStraße \nPostleitzahl \nOrt  \nTelefon \nGeburtsjahr \nMotorrad \nAnmerkungen \nMein Fahrlevel - bitte auswählen:\n \n\n	Nach unten scrollen und Fahrlevel wählenOffroad BeginnerOffroad Advanced RiderOffroad Expert Rider\nTour bitte auswählen:\nNach unten scrollen und Tour wählen28.Apr-1.Mai Rallyfahrtechniktraining Gospic 11-4.Mai Rallyfahrtechniktraining Gospic 26-7.Mai Adventurebike Guiding Plus Level 2 Pro Patricia K12-15.Mai Rallyfahrtechniktraining Gospic 315-18.Mai Rallyfahrtechniktraining Gospic 424-25.Mai Adventurebike Training Pro Offroad Basics31.Mai-1.Juni Adventurebike Training Pro Offroad Basics5-8.Juni Rallyfahrtechniktraining Gospic 528-29.Juni Adventurebike Training Pro Offroad Basics14-15.Juni Adventurebike Guiding Plus Level 2 Technik5-6.Juli Adventurebike Guiding Plus Level 2 Driften26-27.Juli Adventurebike Training Pro Offroad Basics7-10.Aug Adventurebike Advanced Tour Rakek18-19.Aug Adventurebike Training Pro Offroad Basics26-30.Aug Westalpen Adventurebike Explor Week1-5.Sept Westalpen Adventurebike Enjoy Week7-11.Sept Westalpen Adventurebike Fast Week19-20.Sept Adventurebike Guiding Plus Gery S.26-28.Sep Adventurebike Training Pro Ronald N.2-5.Okt 4-Tage Adventurebike Kroatientour Gospic\n	 \n\n Ich melde mich verbindlich für die Tour an.\n \n Ich stimme den Teilnahmebedingungen/AGB zu.\n-> Link zu den Teilnahmebedingungen\n \nIch habe die Datenschutzerklärung zur Kenntnis genommen und akzeptiert. Ich stimme zu\, dass meine Formularangaben zur Kontaktaufnahme bzw. zur Bearbeitung meines Anliegens gespeichert werden.\n-> Link zur Datenschutzerklärung\n \n\n \nFalls nach der Anmeldung keine Antwort kommt bitte SPAM-Ordner prüfen.\n ×
URL:https://www.jentlflow.at/event/2-tage-adventurebike-guiding-plus-level-2-slowenien-7-7-2024/
LOCATION:Arnfels\, Socar Tankstelle\, Leibnitzer Str. 277\, Arnfels\, Steiermark\, 8454\, Österreich
CATEGORIES:Adventurebiketraining advanced
ORGANIZER;CN="JentlFlow":MAILTO:jentl@jeneweinflow.at
END:VEVENT
END:VCALENDAR