BEGIN:VCALENDAR
VERSION:2.0
PRODID:-//JentlFlow - ECPv6.15.20//NONSGML v1.0//EN
CALSCALE:GREGORIAN
METHOD:PUBLISH
X-WR-CALNAME:JentlFlow
X-ORIGINAL-URL:https://www.jentlflow.at
X-WR-CALDESC:Veranstaltungen für JentlFlow
REFRESH-INTERVAL;VALUE=DURATION:PT1H
X-Robots-Tag:noindex
X-PUBLISHED-TTL:PT1H
BEGIN:VTIMEZONE
TZID:Europe/Vienna
BEGIN:DAYLIGHT
TZOFFSETFROM:+0100
TZOFFSETTO:+0200
TZNAME:CEST
DTSTART:20210328T010000
END:DAYLIGHT
BEGIN:STANDARD
TZOFFSETFROM:+0200
TZOFFSETTO:+0100
TZNAME:CET
DTSTART:20211031T010000
END:STANDARD
BEGIN:DAYLIGHT
TZOFFSETFROM:+0100
TZOFFSETTO:+0200
TZNAME:CEST
DTSTART:20220327T010000
END:DAYLIGHT
BEGIN:STANDARD
TZOFFSETFROM:+0200
TZOFFSETTO:+0100
TZNAME:CET
DTSTART:20221030T010000
END:STANDARD
BEGIN:DAYLIGHT
TZOFFSETFROM:+0100
TZOFFSETTO:+0200
TZNAME:CEST
DTSTART:20230326T010000
END:DAYLIGHT
BEGIN:STANDARD
TZOFFSETFROM:+0200
TZOFFSETTO:+0100
TZNAME:CET
DTSTART:20231029T010000
END:STANDARD
END:VTIMEZONE
BEGIN:VEVENT
DTSTART;VALUE=DATE:20220701
DTEND;VALUE=DATE:20220703
DTSTAMP:20260421T173157
CREATED:20211105T134325Z
LAST-MODIFIED:20220226T090752Z
UID:7954-1656633600-1656806399@www.jentlflow.at
SUMMARY:2 Tage Adventurebike Training Pro Slowenien
DESCRIPTION:< Diese Tour ist ausgebucht. Individuelle Termine auf Anfrage > \nNur 45 Minuten südlich von Graz oder süd-östlich von Klagenfurt bietet ein riesiges Schotterstaßennetz Offroadfahrspaß ohne Ende. Für die ersten Versuche auf Schotter mit dem Adventurebike eigenen sich die Tagestouren in Slowenien perfekt. Auf den leichten Schotterstraßen gewinnt man mit der richtigen Fahrtechnik schnell Vertrauen. Aber auch für fortgeschrittene Adventurebiker gibt es durchaus anspruchsvolle Traktorwege und Forststraßen. Je nach Fahrlevel und Bereifung der Gruppe richtet sich der Schwierigkeitsgrad der Touren. \nAdventurebike Training PRO\nWir starten beide Tage von Eibiswald aus. Am ersten Tag geht es in erster Linie um Motorradsetup und Fahrtechnik Basics. Dazu nutzen wir das Übungsgelände. Danach geht es auf eine Schotterrunde nach Slowenien; inkl. Videoanalyse vom Ridingcoach. Am zweiten Tag vertiefen wir das Gelernte auf einer größeren Tour im slowenischen Hügelland. So ist der Lernerfolg deutlich größer als bei Tagestrainings. \n\nFahrlevel\nDas Training gestaltet sich nach Deinen bisherigen Offroaderfahrungen und Deinem Fahrkönnen. Wir haben 3 Trainingslevels. \n\nLevel 1 Offroad Beginner: Für Deine ersten Offroaderfahrungen möchtest Du die Basics lernen.\nLevel 2 Offroad Advanced Rider: Du beherrscht die Offroad Basics und willst besser werden.\nLevel 3 Offroad Expert Rider: Als erfahrener Offroad Biker geht es Dir um den Feinschliff.\n\nDurch die Angabe Deines Fahrlevels gestalten wir die Gruppen. Die Teilnehmerzahl ist auf maximal 4 Biker begrenzt\, um eine gute Betreuung zu gewährleisten. Bei Schlechtwetter verschieben wir. Alternative Termine\, auch unter der Woche\, sind gerne auch möglich. Einfach anfragen. \nVorbereitung\nWelches Motorrad ist geeignet? Kann ich mit „Straßenreifen“ mitfahren? Soll ich bei den Reifen Luft ablassen? Welches Gepäck ist ideal? Kann ich sonst mein Motorrad vorbereiten? Was soll ich anziehen? Was soll ich mitnehmen? Alles über die richtige Vorbereitung erfahrt Ihr im JentlFlow Adventurebike Blog Beitrag Jentlflow Adventurebike Offroad Fahrtechnik Training – perfekt vorbereitet am Start. \nInfo:\n\n2-Tages Adventurebike Training von Eibiswald aus\nStart beide Tage 10:00 in Eibiswald\, A1 Tankstelle\nTrainingsende beide Tage 17:00 in Eibiswald\nÜbernachtungsmöglichkeiten gibt es in den Ausläufern der steirischen Weinstraße\nMindestens 2\, maximal 4 Personen\n\nPreis: 349\,-\nAnmeldung\n\n\n  \n\n\n\nVor-Nachname \nEmail  \nStraße \nPostleitzahl \nOrt  \nTelefon \nGeburtsjahr \nMotorrad \nAnmerkungen \nMein Fahrlevel - bitte auswählen:\n \n\n	Nach unten scrollen und Fahrlevel wählenOffroad BeginnerOffroad Advanced RiderOffroad Expert Rider\nTour bitte auswählen:\nNach unten scrollen und Tour wählen21-22.April Adventurebike Guidining Plus Rene D.28.Apr-1.Mai Rallyfahrtechniktraining Gospic 11-4.Mai Rallyfahrtechniktraining Gospic 26-7.Mai Adventurebike Guiding Plus Level 2 Pro Patricia K12-15.Mai Rallyfahrtechniktraining Gospic 315-18.Mai Rallyfahrtechniktraining Gospic 424-25.Mai Adventurebike Training Pro Offroad Basics31.Mai-1.Juni Adventurebike Training Pro Offroad Basics5-8.Juni Rallyfahrtechniktraining Gospic 528-29.Juni Adventurebike Training Pro Offroad Basics14-15.Juni Adventurebike Guiding Plus Level 2 Technik5-6.Juli Adventurebike Guiding Plus Level 2 Driften26-27.Juli Adventurebike Training Pro Offroad Basics7-10.Aug Adventurebike Advanced Tour Rakek26-30.Aug Westalpen Adventurebike Explor Week1-5.Sept Westalpen Adventurebike Enjoy Week7-11.Sept Westalpen Adventurebike Fast Week19-20.Sept Adventurebike Guiding Plus Gery S.26-28.Sep Adventurebike Training Pro Ronald N.2-5.Okt 4-Tage Adventurebike Kroatientour Gospic\n	 \n\n Ich melde mich verbindlich für die Tour an.\n \n Ich stimme den Teilnahmebedingungen/AGB zu.\n-> Link zu den Teilnahmebedingungen\n \nIch habe die Datenschutzerklärung zur Kenntnis genommen und akzeptiert. Ich stimme zu\, dass meine Formularangaben zur Kontaktaufnahme bzw. zur Bearbeitung meines Anliegens gespeichert werden.\n-> Link zur Datenschutzerklärung\n \n\n \nFalls nach der Anmeldung keine Antwort kommt bitte SPAM-Ordner prüfen.\n ×
URL:https://www.jentlflow.at/event/2-tage-adventurebike-training-pro-slowenien-01-07-2022/
LOCATION:Eibiswald Socar Tankstelle\, Eibiswald 242a\, Eibiswald\, Steiermark\, 8552\, Österreich
CATEGORIES:Adventurebiketraining Basic
ORGANIZER;CN="JentlFlow":MAILTO:jentl@jeneweinflow.at
END:VEVENT
BEGIN:VEVENT
DTSTART;TZID=Europe/Vienna:20220706T100000
DTEND;TZID=Europe/Vienna:20220706T170000
DTSTAMP:20260421T173157
CREATED:20220427T103630Z
LAST-MODIFIED:20220705T081135Z
UID:8823-1657101600-1657126800@www.jentlflow.at
SUMMARY:Adventurebike Training Pro Slowenien
DESCRIPTION:< Individueller Termin\, geschlossene Gruppe Gruppe Alexander P.  > \nNur 45 Minuten südlich von Graz oder süd-östlich von Klagenfurt bietet ein riesiges Schotterstaßennetz Offroadfahrspaß ohne Ende. Für die ersten Versuche auf Schotter mit dem Adventurebike eigenen sich die Tagestouren in Slowenien perfekt. Auf den leichten Schotterstraßen gewinnt man mit der richtigen Fahrtechnik schnell Vertrauen. Aber auch für fortgeschrittene Adventurebiker gibt es durchaus anspruchsvolle Traktorwege und Forststraßen. Je nach Fahrlevel und Bereifung der Gruppe richtet sich der Schwierigkeitsgrad der Touren. \nAdventurebike Training PRO\nHier geht es in erster Linie um Fahrtechnik. Dazu machen wir am Übungsgelände das Motorradsetup und Techniktraining. Danach geht es auf eine Schotterrunde nach Slowenien; inkl. Videoanalyse vom Ridingcoach. Dieses Training bringt Dich garantiert einen Fahrlevel weiter. \n\nFahrlevel\nDein Training gestaltet sich nach Deinen bisherigen Offroaderfahrungen und Deinem Fahrkönnen. Wir haben 3 Trainingslevels. \n\nLevel 1 Offroad Beginner: Für Deine ersten Offroaderfahrungen möchtest Du die Basics lernen.\nLevel 2 Offroad Advanced Rider: Du beherrscht die Offroad Basics und willst besser werden.\nLevel 3 Offroad Expert Rider: Als erfahrener Offroad Biker geht es Dir um den Feinschliff.\n\nDurch die Angabe Deines Fahrlevels gestalten wir die Gruppen. Die Teilnehmerzahl ist auf maximal 3 Biker begrenzt um eine gute Betreuung zu gewährleisten. Mindestteilnehmerzahl sind 2 Personen. Bei Schlechtwetter verschieben wir. Alternative Termine\, auch unter der Woche\, sind auch möglich\, ebenso Mehrtagestrainings. Einfach anfragen. \nVorbereitung\nWelches Motorrad ist geeignet? Kann ich mit „Straßenreifen“ mitfahren? Soll ich bei den Reifen Luft ablassen? Welches Gepäck ist ideal? Kann ich sonst mein Motorrad vorbereiten? Was soll ich anziehen? Was soll ich mitnehmen? Alles über die richtige Vorbereitung erfahrt Ihr im JentlFlow Adventurebike Blog Beitrag Jentlflow Adventurebike Offroad Fahrtechnik Training – perfekt vorbereitet am Start. \nAnmeldung\n\n\n  \n\n\n\nVor-Nachname \nEmail \nStrasse \nPostleitzahl \nOrt \nTelefon \nGeburtsjahr \nMotorrad \nAnmerkungen \n \nMein Fahrlevel - bitte auswählen:\n \n\n	Nach unten scrollen und Fahrlevel wählenOffroad BeginnerOffroad Advanced RiderOffroad Expert Rider\nTermin bitte auswählen:\nNach unten scrollen und Tour wählen15.April Adventurebike Guiding Plus Level 217.April Adventurebike Schöckl Warm Up Offroad Basics19.April Adventurebike Guiding Plus Level 224.April Adventurebike Schöckl Warm Up Offroad Basics26.April Adventurebike Guiding Plus Level 2 Technik10.Mai Adventurebike Training Pro Offroad Basics21. Mai Adventurebike Training Pro Stefan M.29.Mai Adventurebike Guiding Plus Level 2 Driften12.Juni Adventurebike Guiding Plus Offroad Basics20.Juni Adventurebike Guiding Plus Level 2 Stefan J.25.Juni Adventurebike Training Pro Stefan M.11.July Rallyfahrtechniktraining Kupres12.July Rallyfahrtechniktraining Kupres\n	 \n\n Ich melde mich verbindlich für die Tour an.\n \n Ich stimme den Teilnahmebedingungen/AGB zu.\n-> Link zu den Teilnahmebedingungen\n \nIch habe die Datenschutzerklärung zur Kenntnis genommen und akzeptiert. Ich stimme zu\, dass meine Formularangaben zur Kontaktaufnahme bzw. zur Bearbeitung meines Anliegens gespeichert werden.\n-> Link zur Datenschutzerklärung\n \n\n \nFalls nach der Anmeldung keine Antwort kommt bitte SPAM-Ordner prüfen.\n ×
URL:https://www.jentlflow.at/event/adventurebike-training-pro-slowenien-5-7-2022/
LOCATION:Eibiswald Socar Tankstelle\, Eibiswald 242a\, Eibiswald\, Steiermark\, 8552\, Österreich
CATEGORIES:Adventurebiketraining Basic
ORGANIZER;CN="JentlFlow":MAILTO:jentl@jeneweinflow.at
END:VEVENT
BEGIN:VEVENT
DTSTART;TZID=Europe/Vienna:20220710T100000
DTEND;TZID=Europe/Vienna:20220710T170000
DTSTAMP:20260421T173157
CREATED:20211105T092051Z
LAST-MODIFIED:20220515T183900Z
UID:7922-1657447200-1657472400@www.jentlflow.at
SUMMARY:Adventurebike Guiding Plus Slowenien
DESCRIPTION:< Diese Tour ist ausgebucht. Individuelle Termine auf Anfrage > \nNur 45 Minuten südlich von Graz oder süd-östlich von Klagenfurt bietet ein riesiges Schotterstaßennetz Offroadfahrspaß ohne Ende. Für die ersten Versuche auf Schotter mit dem Adventurebike eigenen sich die Tagestouren in Slowenien perfekt. Auf den leichten Schotterstraßen gewinnt man mit der richtigen Fahrtechnik schnell Vertrauen. Aber auch für fortgeschrittene Adventurebiker gibt es durchaus anspruchsvolle Traktorwege und Forststraßen. Je nach Fahrlevel und Bereifung der Gruppe richtet sich der Schwierigkeitsgrad der Touren. \nAdventurebike Guiding Plus\nBei dieser Tour liegt der Schwerpunkt auf Guiding durch das wunderschöne Hügelland hinter der österreichischen Grenze. Das Fahrerlebnis steht hier im Vordergrund. In den Pausen gibt es Setup- und Fahrtechniktipps vom Ridingcoach. Alternativ gibt es das Adventurebike Training Pro mit Fokus auf Fahrtechnik an anderen Terminen. \n\nFahrlevel\nDas Guiding gestaltet sich nach Deinen bisherigen Offroaderfahrungen und Deinem Fahrkönnen. Wir haben 3 Trainingslevels. Dieser Termin richtet sich speziell an fortgeschrittene Offroad Biker! \n\nLevel 1 Offroad Beginner: Für Deine ersten Offroaderfahrungen möchtest Du die Basics lernen.\nLevel 2 Offroad Advanced Rider: Du beherrscht die Offroad Basics und willst besser werden.\nLevel 3 Offroad Expert Rider: Als erfahrener Offroad Biker geht es Dir um den Feinschliff.\n\nDurch die Angabe Deines Fahrlevels gestalten wir die Gruppen. Die Teilnehmerzahl ist auf maximal 4 Biker begrenzt um eine gute Betreuung zu gewährleisten. Mindestteilnehmerzahl sind 2 Personen. Bei Schlechtwetter verschieben wir. Alternative Termine\, auch unter der Woche\, sind auch möglich\, ebenso Mehrtagestrainings. Einfach anfragen. \nVorbereitung\nWelches Motorrad ist geeignet? Kann ich mit „Straßenreifen“ mitfahren? Soll ich bei den Reifen Luft ablassen? Welches Gepäck ist ideal? Kann ich sonst mein Motorrad vorbereiten? Was soll ich anziehen? Was soll ich mitnehmen? Alles über die richtige Vorbereitung erfahrt Ihr im JentlFlow Adventurebike Blog Beitrag Jentlflow Adventurebike Offroad Fahrtechnik Training – perfekt vorbereitet am Start. \nPreis: 149\,-\nAnmeldung\n\n\n  \n\n\n\nVor-Nachname \nEmail \nStrasse \nPostleitzahl \nOrt \nTelefon \nGeburtsjahr \nMotorrad \nAnmerkungen \n \nMein Fahrlevel - bitte auswählen:\n \n\n	Nach unten scrollen und Fahrlevel wählenOffroad BeginnerOffroad Advanced RiderOffroad Expert Rider\nTermin bitte auswählen:\nNach unten scrollen und Tour wählen15.April Adventurebike Guiding Plus Level 217.April Adventurebike Schöckl Warm Up Offroad Basics19.April Adventurebike Guiding Plus Level 224.April Adventurebike Schöckl Warm Up Offroad Basics26.April Adventurebike Guiding Plus Level 2 Technik10.Mai Adventurebike Training Pro Offroad Basics21. Mai Adventurebike Training Pro Stefan M.29.Mai Adventurebike Guiding Plus Level 2 Driften12.Juni Adventurebike Guiding Plus Offroad Basics20.Juni Adventurebike Guiding Plus Level 2 Stefan J.25.Juni Adventurebike Training Pro Stefan M.11.July Rallyfahrtechniktraining Kupres12.July Rallyfahrtechniktraining Kupres\n	 \n\n Ich melde mich verbindlich für die Tour an.\n \n Ich stimme den Teilnahmebedingungen/AGB zu.\n-> Link zu den Teilnahmebedingungen\n \nIch habe die Datenschutzerklärung zur Kenntnis genommen und akzeptiert. Ich stimme zu\, dass meine Formularangaben zur Kontaktaufnahme bzw. zur Bearbeitung meines Anliegens gespeichert werden.\n-> Link zur Datenschutzerklärung\n \n\n \nFalls nach der Anmeldung keine Antwort kommt bitte SPAM-Ordner prüfen.\n ×
URL:https://www.jentlflow.at/event/adventurebike-guiding-plus-slowenien-10-07-2022/
LOCATION:Eibiswald Socar Tankstelle\, Eibiswald 242a\, Eibiswald\, Steiermark\, 8552\, Österreich
CATEGORIES:Adventurebiketraining Basic
ORGANIZER;CN="JentlFlow":MAILTO:jentl@jeneweinflow.at
END:VEVENT
BEGIN:VEVENT
DTSTART;VALUE=DATE:20220713
DTEND;VALUE=DATE:20220715
DTSTAMP:20260421T173157
CREATED:20220531T131310Z
LAST-MODIFIED:20220705T085209Z
UID:8855-1657670400-1657843199@www.jentlflow.at
SUMMARY:2 Tage Adventurebike Training Pro Slowenien
DESCRIPTION:< noch ein Platz frei! >am Start Peter E. KTM 790R\, Josef R. KTM 890\, Emiljano P. BMW GS 150\n \nNur 45 Minuten südlich von Graz oder süd-östlich von Klagenfurt bietet ein riesiges Schotterstaßennetz Offroadfahrspaß ohne Ende. Für die ersten Versuche auf Schotter mit dem Adventurebike eigenen sich die Tagestouren in Slowenien perfekt. Auf den leichten Schotterstraßen gewinnt man mit der richtigen Fahrtechnik schnell Vertrauen. Aber auch für fortgeschrittene Adventurebiker gibt es durchaus anspruchsvolle Traktorwege und Forststraßen. Je nach Fahrlevel und Bereifung der Gruppe richtet sich der Schwierigkeitsgrad der Touren. \nAdventurebike Training PRO\nWir starten beide Tage von Eibiswald aus. Am ersten Tag geht es in erster Linie um Motorradsetup und Fahrtechnik Basics. Dazu nutzen wir das Übungsgelände. Danach geht es auf eine Schotterrunde nach Slowenien; inkl. Videoanalyse vom Ridingcoach. Am zweiten Tag vertiefen wir das Gelernte auf einer größeren Tour im slowenischen Hügelland. So ist der Lernerfolg deutlich größer als bei Tagestrainings. \n\nFahrlevel\nDas Training gestaltet sich nach Deinen bisherigen Offroaderfahrungen und Deinem Fahrkönnen. Wir haben 3 Trainingslevels. \n\nLevel 1 Offroad Beginner: Für Deine ersten Offroaderfahrungen möchtest Du die Basics lernen.\nLevel 2 Offroad Advanced Rider: Du beherrscht die Offroad Basics und willst besser werden.\nLevel 3 Offroad Expert Rider: Als erfahrener Offroad Biker geht es Dir um den Feinschliff.\n\nDurch die Angabe Deines Fahrlevels gestalten wir die Gruppen. Die Teilnehmerzahl ist auf maximal 4 Biker begrenzt\, um eine gute Betreuung zu gewährleisten. Bei Schlechtwetter verschieben wir. Alternative Termine\, auch unter der Woche\, sind gerne auch möglich. Einfach anfragen. \nVorbereitung\nWelches Motorrad ist geeignet? Kann ich mit „Straßenreifen“ mitfahren? Soll ich bei den Reifen Luft ablassen? Welches Gepäck ist ideal? Kann ich sonst mein Motorrad vorbereiten? Was soll ich anziehen? Was soll ich mitnehmen? Alles über die richtige Vorbereitung erfahrt Ihr im JentlFlow Adventurebike Blog Beitrag Jentlflow Adventurebike Offroad Fahrtechnik Training – perfekt vorbereitet am Start. \nInfo:\n\n2-Tages Adventurebike Training von Eibiswald aus\nStart beide Tage 10:00 in Eibiswald\, Socar Tankstelle\nTrainingsende beide Tage 17:00 in Eibiswald\nÜbernachtungsmöglichkeiten gibt es in den Ausläufern der steirischen Weinstraße\nMindestens 2\, maximal 4 Personen\n\nPreis: 349\,-  (bei 2 Personen 399\,-)\nAnmeldung\n\n\n  \n\n\n\nVor-Nachname \nEmail  \nStraße \nPostleitzahl \nOrt  \nTelefon \nGeburtsjahr \nMotorrad \nAnmerkungen \nMein Fahrlevel - bitte auswählen:\n \n\n	Nach unten scrollen und Fahrlevel wählenOffroad BeginnerOffroad Advanced RiderOffroad Expert Rider\nTour bitte auswählen:\nNach unten scrollen und Tour wählen21-22.April Adventurebike Guidining Plus Rene D.28.Apr-1.Mai Rallyfahrtechniktraining Gospic 11-4.Mai Rallyfahrtechniktraining Gospic 26-7.Mai Adventurebike Guiding Plus Level 2 Pro Patricia K12-15.Mai Rallyfahrtechniktraining Gospic 315-18.Mai Rallyfahrtechniktraining Gospic 424-25.Mai Adventurebike Training Pro Offroad Basics31.Mai-1.Juni Adventurebike Training Pro Offroad Basics5-8.Juni Rallyfahrtechniktraining Gospic 528-29.Juni Adventurebike Training Pro Offroad Basics14-15.Juni Adventurebike Guiding Plus Level 2 Technik5-6.Juli Adventurebike Guiding Plus Level 2 Driften26-27.Juli Adventurebike Training Pro Offroad Basics7-10.Aug Adventurebike Advanced Tour Rakek26-30.Aug Westalpen Adventurebike Explor Week1-5.Sept Westalpen Adventurebike Enjoy Week7-11.Sept Westalpen Adventurebike Fast Week19-20.Sept Adventurebike Guiding Plus Gery S.26-28.Sep Adventurebike Training Pro Ronald N.2-5.Okt 4-Tage Adventurebike Kroatientour Gospic\n	 \n\n Ich melde mich verbindlich für die Tour an.\n \n Ich stimme den Teilnahmebedingungen/AGB zu.\n-> Link zu den Teilnahmebedingungen\n \nIch habe die Datenschutzerklärung zur Kenntnis genommen und akzeptiert. Ich stimme zu\, dass meine Formularangaben zur Kontaktaufnahme bzw. zur Bearbeitung meines Anliegens gespeichert werden.\n-> Link zur Datenschutzerklärung\n \n\n \nFalls nach der Anmeldung keine Antwort kommt bitte SPAM-Ordner prüfen.\n ×
URL:https://www.jentlflow.at/event/2-tage-adventurebike-training-pro-slowenien-13-7-2022/
LOCATION:Eibiswald Socar Tankstelle\, Eibiswald 242a\, Eibiswald\, Steiermark\, 8552\, Österreich
CATEGORIES:Adventurebiketraining Basic
ORGANIZER;CN="JentlFlow":MAILTO:jentl@jeneweinflow.at
END:VEVENT
BEGIN:VEVENT
DTSTART;TZID=Europe/Vienna:20220716T100000
DTEND;TZID=Europe/Vienna:20220716T170000
DTSTAMP:20260421T173157
CREATED:20211105T101000Z
LAST-MODIFIED:20220711T172839Z
UID:7936-1657965600-1657990800@www.jentlflow.at
SUMMARY:Adventurebike Guiding Plus Level 2 Slowenien
DESCRIPTION:<noch ein Platz frei! > \n \nIhr habt das JentlFlow Basic Training gemacht? Dann könnt Ihr bei dieser Tour an Eurer Technik feilen und weiter dazulernen. Die Schotterstraßen und Forstwege gleich hinter der steirisch – slowenischen Grenze bieten auch fortgeschrittenen Adventurebikern perfekte Voraussetzungen. \nAdventurebike Guiding Plus Level 2\nBei dieser Tour liegt der Schwerpunkt auf Guiding durch das wunderschöne Hügelland hinter der österreichischen Grenze. Dabei fahren wir diesmal auch etwas anspruchsvollere Wege. In den Pausen gibt es Setup- und Fahrtechniktipps vom Ridingcoach. Dabei geht es vor allem darum\, die Basictechniken für härteres Gelände und schnellers Fahren weiterzuentwickeln. \n\n  \nDie Teilnehmerzahl ist auf maximal 4 Biker begrenzt um eine gute Betreuung zu gewährleisten. Mindestteilnehmerzahl sind 2 Personen. Bei Schlechtwetter verschieben wir. Alternative Termine\, auch unter der Woche\, sind auch möglich\, ebenso Mehrtagestrainings. Einfach anfragen. \nPreis: 149\,-\nAnmeldung\n\n\n  \n\n\n\nVor-Nachname \nEmail \nStrasse \nPostleitzahl \nOrt \nTelefon \nGeburtsjahr \nMotorrad \nAnmerkungen \n \nMein Fahrlevel - bitte auswählen:\n \n\n	Nach unten scrollen und Fahrlevel wählenOffroad BeginnerOffroad Advanced RiderOffroad Expert Rider\nTermin bitte auswählen:\nNach unten scrollen und Tour wählen15.April Adventurebike Guiding Plus Level 217.April Adventurebike Schöckl Warm Up Offroad Basics19.April Adventurebike Guiding Plus Level 224.April Adventurebike Schöckl Warm Up Offroad Basics26.April Adventurebike Guiding Plus Level 2 Technik10.Mai Adventurebike Training Pro Offroad Basics21. Mai Adventurebike Training Pro Stefan M.29.Mai Adventurebike Guiding Plus Level 2 Driften12.Juni Adventurebike Guiding Plus Offroad Basics20.Juni Adventurebike Guiding Plus Level 2 Stefan J.25.Juni Adventurebike Training Pro Stefan M.11.July Rallyfahrtechniktraining Kupres12.July Rallyfahrtechniktraining Kupres\n	 \n\n Ich melde mich verbindlich für die Tour an.\n \n Ich stimme den Teilnahmebedingungen/AGB zu.\n-> Link zu den Teilnahmebedingungen\n \nIch habe die Datenschutzerklärung zur Kenntnis genommen und akzeptiert. Ich stimme zu\, dass meine Formularangaben zur Kontaktaufnahme bzw. zur Bearbeitung meines Anliegens gespeichert werden.\n-> Link zur Datenschutzerklärung\n \n\n \nFalls nach der Anmeldung keine Antwort kommt bitte SPAM-Ordner prüfen.\n ×
URL:https://www.jentlflow.at/event/adventurebike-guiding-plus-level-2-slowenien-16-07-2022/
LOCATION:Arnfels\, Socar Tankstelle\, Leibnitzer Str. 277\, Arnfels\, Steiermark\, 8454\, Österreich
CATEGORIES:Adventurebiketraining advanced
ORGANIZER;CN="JentlFlow":MAILTO:jentl@jeneweinflow.at
END:VEVENT
BEGIN:VEVENT
DTSTART;TZID=Europe/Vienna:20220723T090000
DTEND;TZID=Europe/Vienna:20220723T150000
DTSTAMP:20260421T173157
CREATED:20211103T102639Z
LAST-MODIFIED:20220712T104119Z
UID:7793-1658566800-1658588400@www.jentlflow.at
SUMMARY:Rally Fahrtechniktraining Kupres
DESCRIPTION:Noch 3 Plätze frei. \nSchnell\, aber kontrolliert\, effektiv und damit kraft- und materialschonend Offroad fahren – darum geht es beim Rallyfahren. Nirgendwo anders macht sich gute Fahrtechnik so bezahlt wie bei langen harten Geländeetappen. Dafür Voraussetzung sind eine gute Offroad Fahrtechnik und ein darauf abgestimmtes Motorradsetup. \nSpeziell für Teilnehmer der Bosnia Rally bietet dieses Training vor Ort die Möglichkeit\, Fahrtechnikskills und Motorradsetup zu verfeinern und so top vorbereitet auf die Rallyetappen zu gehen. \nRally Fahrtechniktraining Kupres\nDer Fahrtechnik Schwerpunkt wird auf einer sportlichen Stehposition und Kurventechnik liegen\, den absoluten Basics für schnelles Offroadfahren. Dabei sind auch Techniken\, die materialschonendes Fahren ermöglichen\, wie „Preloading“ und „Light weight rider technique“. Kommen diese Skills zur Anwendung\, sollte das Motorrad Setup darauf abgestimmt sein. Vor allen Lenker- und Hebeleinstellungen haben hier großen Einfluss. \n\nInfo\n\nMaximal 6 Teilnehmer\nTreppunkt 9:00 vor dem Hoteleingang Adria Ski in Kupres\nTeilnahme auf eigene Gefahr: >> Teilnahmebedingungen\nJentlFlow Bericht – Bosnia Rally 2021 mit der KTM Adventure 890 –\n\nPreis: 129\,-\nAnmeldung\n\n\n  \n\n\n\nVor-Nachname \nEmail \nStrasse \nPostleitzahl \nOrt \nTelefon \nGeburtsjahr \nMotorrad \nAnmerkungen \n \nMein Fahrlevel - bitte auswählen:\n \n\n	Nach unten scrollen und Fahrlevel wählenOffroad BeginnerOffroad Advanced RiderOffroad Expert Rider\nTermin bitte auswählen:\nNach unten scrollen und Tour wählen15.April Adventurebike Guiding Plus Level 217.April Adventurebike Schöckl Warm Up Offroad Basics19.April Adventurebike Guiding Plus Level 224.April Adventurebike Schöckl Warm Up Offroad Basics26.April Adventurebike Guiding Plus Level 2 Technik10.Mai Adventurebike Training Pro Offroad Basics21. Mai Adventurebike Training Pro Stefan M.29.Mai Adventurebike Guiding Plus Level 2 Driften12.Juni Adventurebike Guiding Plus Offroad Basics20.Juni Adventurebike Guiding Plus Level 2 Stefan J.25.Juni Adventurebike Training Pro Stefan M.11.July Rallyfahrtechniktraining Kupres12.July Rallyfahrtechniktraining Kupres\n	 \n\n Ich melde mich verbindlich für die Tour an.\n \n Ich stimme den Teilnahmebedingungen/AGB zu.\n-> Link zu den Teilnahmebedingungen\n \nIch habe die Datenschutzerklärung zur Kenntnis genommen und akzeptiert. Ich stimme zu\, dass meine Formularangaben zur Kontaktaufnahme bzw. zur Bearbeitung meines Anliegens gespeichert werden.\n-> Link zur Datenschutzerklärung\n \n\n \nFalls nach der Anmeldung keine Antwort kommt bitte SPAM-Ordner prüfen.\n ×
URL:https://www.jentlflow.at/event/rally-fahrtechniktraining-kupres-23-7-2022/
LOCATION:Kupres\, Hotel Adria Ski\, W5XQ+9HF\, Gornji Malovan\, Bosnien und Herzegowina
CATEGORIES:Adventurebiketraining advanced
ORGANIZER;CN="JentlFlow":MAILTO:jentl@jeneweinflow.at
END:VEVENT
BEGIN:VEVENT
DTSTART;TZID=Europe/Vienna:20220724T090000
DTEND;TZID=Europe/Vienna:20220724T150000
DTSTAMP:20260421T173157
CREATED:20211103T102718Z
LAST-MODIFIED:20220712T104014Z
UID:7812-1658653200-1658674800@www.jentlflow.at
SUMMARY:Rally Fahrtechniktraining Kupres
DESCRIPTION:< dieser Termin ist ausgebucht\, für 23.7 sind noch Plätze frei > \nSchnell\, aber kontrolliert\, effektiv und damit kraft- und materialschonend Offroad fahren – darum geht es beim Rallyfahren. Nirgendwo anders macht sich gute Fahrtechnik so bezahlt wie bei langen harten Geländeetappen. Dafür Voraussetzung sind eine gute Offroad Fahrtechnik und ein darauf abgestimmtes Motorradsetup. \nSpeziell für Teilnehmer der Bosnia Rally bietet dieses Training vor Ort die Möglichkeit\, Fahrtechnikskills und Motorradsetup zu verfeinern und so top vorbereitet auf die Rallyetappen zu gehen. \nRally Fahrtechniktraining Kupres\nDer Fahrtechnik Schwerpunkt wird auf einer sportlichen Stehposition und Kurventechnik liegen\, den absoluten Basics für schnelles Offroadfahren. Dabei sind auch Techniken\, die materialschonendes Fahren ermöglichen\, wie „Preloading“ und „Light weight rider technique“. Kommen diese Skills zur Anwendung\, sollte das Motorrad Setup darauf abgestimmt sein. Vor allen Lenker- und Hebeleinstellungen haben hier großen Einfluss. \n\nInfo\n\nMaximal 6 Teilnehmer\nTreppunkt 9:00 vor dem Hoteleingang Adria Ski in Kupres\nTeilnahme auf eigene Gefahr: >> Teilnahmebedingungen\nJentlFlow Bericht – Bosnia Rally 2021 mit der KTM Adventure 890 –\n\nPreis: 129\,-\nAnmeldung\n\n\n  \n\n\n\nVor-Nachname \nEmail \nStrasse \nPostleitzahl \nOrt \nTelefon \nGeburtsjahr \nMotorrad \nAnmerkungen \n \nMein Fahrlevel - bitte auswählen:\n \n\n	Nach unten scrollen und Fahrlevel wählenOffroad BeginnerOffroad Advanced RiderOffroad Expert Rider\nTermin bitte auswählen:\nNach unten scrollen und Tour wählen15.April Adventurebike Guiding Plus Level 217.April Adventurebike Schöckl Warm Up Offroad Basics19.April Adventurebike Guiding Plus Level 224.April Adventurebike Schöckl Warm Up Offroad Basics26.April Adventurebike Guiding Plus Level 2 Technik10.Mai Adventurebike Training Pro Offroad Basics21. Mai Adventurebike Training Pro Stefan M.29.Mai Adventurebike Guiding Plus Level 2 Driften12.Juni Adventurebike Guiding Plus Offroad Basics20.Juni Adventurebike Guiding Plus Level 2 Stefan J.25.Juni Adventurebike Training Pro Stefan M.11.July Rallyfahrtechniktraining Kupres12.July Rallyfahrtechniktraining Kupres\n	 \n\n Ich melde mich verbindlich für die Tour an.\n \n Ich stimme den Teilnahmebedingungen/AGB zu.\n-> Link zu den Teilnahmebedingungen\n \nIch habe die Datenschutzerklärung zur Kenntnis genommen und akzeptiert. Ich stimme zu\, dass meine Formularangaben zur Kontaktaufnahme bzw. zur Bearbeitung meines Anliegens gespeichert werden.\n-> Link zur Datenschutzerklärung\n \n\n \nFalls nach der Anmeldung keine Antwort kommt bitte SPAM-Ordner prüfen.\n ×
URL:https://www.jentlflow.at/event/rally-fahrtechniktraining-kupres-24-07-2022/
LOCATION:Kupres\, Hotel Adria Ski\, W5XQ+9HF\, Gornji Malovan\, Bosnien und Herzegowina
CATEGORIES:Adventurebiketraining advanced
ORGANIZER;CN="JentlFlow":MAILTO:jentl@jeneweinflow.at
END:VEVENT
END:VCALENDAR