BEGIN:VCALENDAR
VERSION:2.0
PRODID:-//JentlFlow - ECPv6.15.20//NONSGML v1.0//EN
CALSCALE:GREGORIAN
METHOD:PUBLISH
X-ORIGINAL-URL:https://www.jentlflow.at
X-WR-CALDESC:Veranstaltungen für JentlFlow
REFRESH-INTERVAL;VALUE=DURATION:PT1H
X-Robots-Tag:noindex
X-PUBLISHED-TTL:PT1H
BEGIN:VTIMEZONE
TZID:Europe/Vienna
BEGIN:DAYLIGHT
TZOFFSETFROM:+0100
TZOFFSETTO:+0200
TZNAME:CEST
DTSTART:20210328T010000
END:DAYLIGHT
BEGIN:STANDARD
TZOFFSETFROM:+0200
TZOFFSETTO:+0100
TZNAME:CET
DTSTART:20211031T010000
END:STANDARD
BEGIN:DAYLIGHT
TZOFFSETFROM:+0100
TZOFFSETTO:+0200
TZNAME:CEST
DTSTART:20220327T010000
END:DAYLIGHT
BEGIN:STANDARD
TZOFFSETFROM:+0200
TZOFFSETTO:+0100
TZNAME:CET
DTSTART:20221030T010000
END:STANDARD
BEGIN:DAYLIGHT
TZOFFSETFROM:+0100
TZOFFSETTO:+0200
TZNAME:CEST
DTSTART:20230326T010000
END:DAYLIGHT
BEGIN:STANDARD
TZOFFSETFROM:+0200
TZOFFSETTO:+0100
TZNAME:CET
DTSTART:20231029T010000
END:STANDARD
END:VTIMEZONE
BEGIN:VTIMEZONE
TZID:UTC
BEGIN:STANDARD
TZOFFSETFROM:+0000
TZOFFSETTO:+0000
TZNAME:UTC
DTSTART:20210101T000000
END:STANDARD
END:VTIMEZONE
BEGIN:VEVENT
DTSTART;TZID=Europe/Vienna:20220412T100000
DTEND;TZID=Europe/Vienna:20220412T150000
DTSTAMP:20260421T221622
CREATED:20211111T195834Z
LAST-MODIFIED:20220320T202330Z
UID:8001-1649757600-1649775600@www.jentlflow.at
SUMMARY:Enduro Motocross Einsteigertraining
DESCRIPTION:< Diese Veranstaltung ist ausgebucht. Individuelle Termine auf Anfrage > \nSpeziell für Motocross/Enduro Einsteiger und Hobbyfahrer ist dieses Training am Offroadgelände in Szentgotthárd ideal. Mit den richtigen Techniken ist man sowohl auf der Motocross-Strecke als auch auf der Endurorunde gleich schneller und sicherer unterwegs. Der Termin ist unter der Woche\, da ist die Strecke nicht so frequentiert wie am Wochenende und wir haben mehr Platz zum Üben. \nTrainingsinhalte\n\nSteh- und Sitzposition\nMotorrad-Setup\nKurventechnik – die Basics\nKupplungskontrolle\, Balance\nFahrtechnik Auffahrten\, Abfahrten\nBewältigen von kleineren Hindernissen\n\n\n  \nZirka eine Stunde Süd/östlich von Graz liegt das Offroadgelände in Szentgotthárd. Hier findet man eine Motocross-Strecke\, eine Endurorunde und einen Superenduro-Parcours vor. Über Streckenbeschaffenheit und genaue Öffnungszeiten informiert die Facebookseite Motocross Szentgotthárd. \nInfo\n\nZeitplan: Training 10:00-15:00\nEigenes Motorrad (Sportenduro oder Motocross)\nStreckengebühr 20\,-/Tag beim Betreiber vor Ort zu zahlen\nTeilnahme auf eigene Gefahr: >> Teilnahmebedingungen\n\nPreis: 199\,-\nAnmeldung\n\n\n  \n\n\n\nName (erforderlich)\nEmail (erforderlich)  \n Straße (erforderlich) \n Postleitzahl (erforderlich) \n Ort (erforderlich) \n Telefon (erforderlich)\nMotorrad \nAnmerkungen \n \n Ich melde mich verbindlich für das Training an.\n \n Ich stimme den Teilnahmebedingungen/AGB zu.\n-> Link zu den Teilnahmebedingungen\n \nIch habe die Datenschutzerklärung zur Kenntnis genommen und akzeptiert. Ich stimme zu\, dass meine Formularangaben zur Kontaktaufnahme bzw. zur Bearbeitung meines Anliegens gespeichert werden.\n-> Link zur Datenschutzerklärung\n \n\n \nFalls nach der Anmeldung keine Antwort kommt bitte SPAM-Ordner prüfen.\n ×
URL:https://www.jentlflow.at/event/enduro-motocross-einsteigertraining-12-04-2022/
LOCATION:Offroadgelände Szentgotthard\, Szentgotthard\, Ungarn
CATEGORIES:Endurotraining
ORGANIZER;CN="JentlFlow":MAILTO:jentl@jeneweinflow.at
END:VEVENT
BEGIN:VEVENT
DTSTART;TZID=UTC:20220417T100000
DTEND;TZID=UTC:20220417T170000
DTSTAMP:20260421T221622
CREATED:20220226T092436Z
LAST-MODIFIED:20220331T115815Z
UID:8589-1650189600-1650214800@www.jentlflow.at
SUMMARY:Adventurebike Guiding Plus Level 2 Slowenien
DESCRIPTION:< Individueller Termin Gerd R.> \nIhr habt das JentlFlow Basic Training gemacht? Dann könnt Ihr bei dieser Tour an Eurer Technik feilen und weiter dazulernen. Die Schotterstraßen und Forstwege gleich hinter der steirisch – slowenischen Grenze bieten auch fortgeschrittenen Adventurebikern perfekte Voraussetzungen. \nAdventurebike Guiding Plus Level 2\nBei dieser Tour liegt der Schwerpunkt auf Guiding durch das wunderschöne Hügelland hinter der österreichischen Grenze. Dabei fahren wir diesmal auch etwas anspruchsvollere Wege. In den Pausen gibt es Setup- und Fahrtechniktipps vom Ridingcoach. Dabei geht es vor allem darum\, die Basictechniken für härteres Gelände und schnellers Fahren weiterzuentwickeln. \n\n\nAnmeldung\n\n\n  \n\n\n\nVor-Nachname \nEmail \nStrasse \nPostleitzahl \nOrt \nTelefon \nGeburtsjahr \nMotorrad \nAnmerkungen \n \nMein Fahrlevel - bitte auswählen:\n \n\n	Nach unten scrollen und Fahrlevel wählenOffroad BeginnerOffroad Advanced RiderOffroad Expert Rider\nTermin bitte auswählen:\nNach unten scrollen und Tour wählen15.April Adventurebike Guiding Plus Level 217.April Adventurebike Schöckl Warm Up Offroad Basics19.April Adventurebike Guiding Plus Level 224.April Adventurebike Schöckl Warm Up Offroad Basics26.April Adventurebike Guiding Plus Level 2 Technik10.Mai Adventurebike Training Pro Offroad Basics21. Mai Adventurebike Training Pro Stefan M.29.Mai Adventurebike Guiding Plus Level 2 Driften12.Juni Adventurebike Guiding Plus Offroad Basics20.Juni Adventurebike Guiding Plus Level 2 Stefan J.25.Juni Adventurebike Training Pro Stefan M.11.July Rallyfahrtechniktraining Kupres12.July Rallyfahrtechniktraining Kupres\n	 \n\n Ich melde mich verbindlich für die Tour an.\n \n Ich stimme den Teilnahmebedingungen/AGB zu.\n-> Link zu den Teilnahmebedingungen\n \nIch habe die Datenschutzerklärung zur Kenntnis genommen und akzeptiert. Ich stimme zu\, dass meine Formularangaben zur Kontaktaufnahme bzw. zur Bearbeitung meines Anliegens gespeichert werden.\n-> Link zur Datenschutzerklärung\n \n\n \nFalls nach der Anmeldung keine Antwort kommt bitte SPAM-Ordner prüfen.\n ×
URL:https://www.jentlflow.at/event/adventurebike-guiding-plus-level-2-slowenien-17-4-2022/
LOCATION:Eibiswald Socar Tankstelle\, Eibiswald 242a\, Eibiswald\, Steiermark\, 8552\, Österreich
CATEGORIES:Adventurebiketraining advanced
ORGANIZER;CN="JentlFlow":MAILTO:jentl@jeneweinflow.at
END:VEVENT
BEGIN:VEVENT
DTSTART;TZID=Europe/Vienna:20220423T100000
DTEND;TZID=Europe/Vienna:20220423T170000
DTSTAMP:20260421T221622
CREATED:20220110T183626Z
LAST-MODIFIED:20220110T183626Z
UID:8427-1650708000-1650733200@www.jentlflow.at
SUMMARY:Adventurebike Training Pro Slowenien
DESCRIPTION:< Individueller Termin\, geschlossene Gruppe Gruppe Sepp K.  > \nNur 45 Minuten südlich von Graz oder süd-östlich von Klagenfurt bietet ein riesiges Schotterstaßennetz Offroadfahrspaß ohne Ende. Für die ersten Versuche auf Schotter mit dem Adventurebike eigenen sich die Tagestouren in Slowenien perfekt. Auf den leichten Schotterstraßen gewinnt man mit der richtigen Fahrtechnik schnell Vertrauen. Aber auch für fortgeschrittene Adventurebiker gibt es durchaus anspruchsvolle Traktorwege und Forststraßen. Je nach Fahrlevel und Bereifung der Gruppe richtet sich der Schwierigkeitsgrad der Touren. \nAdventurebike Training PRO\nHier geht es in erster Linie um Fahrtechnik. Dazu machen wir am Übungsgelände das Motorradsetup und Techniktraining. Danach geht es auf eine Schotterrunde nach Slowenien; inkl. Videoanalyse vom Ridingcoach. Dieses Training bringt Dich garantiert einen Fahrlevel weiter. \n\nFahrlevel\nDein Training gestaltet sich nach Deinen bisherigen Offroaderfahrungen und Deinem Fahrkönnen. Wir haben 3 Trainingslevels. \n\nLevel 1 Offroad Beginner: Für Deine ersten Offroaderfahrungen möchtest Du die Basics lernen.\nLevel 2 Offroad Advanced Rider: Du beherrscht die Offroad Basics und willst besser werden.\nLevel 3 Offroad Expert Rider: Als erfahrener Offroad Biker geht es Dir um den Feinschliff.\n\nDurch die Angabe Deines Fahrlevels gestalten wir die Gruppen. Die Teilnehmerzahl ist auf maximal 3 Biker begrenzt um eine gute Betreuung zu gewährleisten. Mindestteilnehmerzahl sind 2 Personen. Bei Schlechtwetter verschieben wir. Alternative Termine\, auch unter der Woche\, sind auch möglich\, ebenso Mehrtagestrainings. Einfach anfragen. \nVorbereitung\nWelches Motorrad ist geeignet? Kann ich mit „Straßenreifen“ mitfahren? Soll ich bei den Reifen Luft ablassen? Welches Gepäck ist ideal? Kann ich sonst mein Motorrad vorbereiten? Was soll ich anziehen? Was soll ich mitnehmen? Alles über die richtige Vorbereitung erfahrt Ihr im JentlFlow Adventurebike Blog Beitrag Jentlflow Adventurebike Offroad Fahrtechnik Training – perfekt vorbereitet am Start. \nAnmeldung\n\n\n  \n\n\n\nVor-Nachname \nEmail \nStrasse \nPostleitzahl \nOrt \nTelefon \nGeburtsjahr \nMotorrad \nAnmerkungen \n \nMein Fahrlevel - bitte auswählen:\n \n\n	Nach unten scrollen und Fahrlevel wählenOffroad BeginnerOffroad Advanced RiderOffroad Expert Rider\nTermin bitte auswählen:\nNach unten scrollen und Tour wählen15.April Adventurebike Guiding Plus Level 217.April Adventurebike Schöckl Warm Up Offroad Basics19.April Adventurebike Guiding Plus Level 224.April Adventurebike Schöckl Warm Up Offroad Basics26.April Adventurebike Guiding Plus Level 2 Technik10.Mai Adventurebike Training Pro Offroad Basics21. Mai Adventurebike Training Pro Stefan M.29.Mai Adventurebike Guiding Plus Level 2 Driften12.Juni Adventurebike Guiding Plus Offroad Basics20.Juni Adventurebike Guiding Plus Level 2 Stefan J.25.Juni Adventurebike Training Pro Stefan M.11.July Rallyfahrtechniktraining Kupres12.July Rallyfahrtechniktraining Kupres\n	 \n\n Ich melde mich verbindlich für die Tour an.\n \n Ich stimme den Teilnahmebedingungen/AGB zu.\n-> Link zu den Teilnahmebedingungen\n \nIch habe die Datenschutzerklärung zur Kenntnis genommen und akzeptiert. Ich stimme zu\, dass meine Formularangaben zur Kontaktaufnahme bzw. zur Bearbeitung meines Anliegens gespeichert werden.\n-> Link zur Datenschutzerklärung\n \n\n \nFalls nach der Anmeldung keine Antwort kommt bitte SPAM-Ordner prüfen.\n ×
URL:https://www.jentlflow.at/event/adventurebike-training-pro-slowenien-23-04-2022/
LOCATION:Eibiswald Socar Tankstelle\, Eibiswald 242a\, Eibiswald\, Steiermark\, 8552\, Österreich
CATEGORIES:Adventurebiketraining Basic
ORGANIZER;CN="JentlFlow":MAILTO:jentl@jeneweinflow.at
END:VEVENT
BEGIN:VEVENT
DTSTART;TZID=Europe/Vienna:20220424T110000
DTEND;TZID=Europe/Vienna:20220424T150000
DTSTAMP:20260421T221622
CREATED:20211105T102754Z
LAST-MODIFIED:20220222T085439Z
UID:7940-1650798000-1650812400@www.jentlflow.at
SUMMARY:Adventurebike Schöckl warm up Ladies only
DESCRIPTION:< Diese Tour ist ausgebucht. Individuelle Termine auf Anfrage > \nDer ideale Einstieg in die neue Adventurebikesaison im landschaftlich schönen Grazer Bergland. Die Runde ist über 100km lang und umrundet den Grazer Hausberg\, den Schöckl. Für Motorradsetup und Basicfahrtechnik eignen sich die kleinen Nebenstraßen recht gut. So kann das Bewegen des Motorrads im Stehen gut geübt werden. Und ein paar lässige Schotterstraßen und Offroadschmankerln sind auch dabei. ? Danach seit Ihr gut vorbereitet für weitere Schottertouren in Slowenien. \nAdventurebike warm up\nBei dieser Tour liegt der Schwerpunkt auf den Offroad Basics. Wir besprechen die Grund-Offroadfahrtechniken und fahren gemeinsam eine Tour im Grazer Bergland. Dabei gibt es Setup– und Fahrtechniktipps vom Ridingcoach. \n\n  \nFahrlevel\nDas Guiding gestaltet sich nach Deinen bisherigen Offroaderfahrungen und Deinem Fahrkönnen. Wir haben 3 Trainingslevels. Diese Tour richtet sich in erster Line an Offroad Beginner. \n\nLevel 1 Offroad Beginner: Für Deine ersten Offroaderfahrungen möchtest Du die Basics lernen.\nLevel 2 Offroad Advanced Rider: Du beherrscht die Offroad Basics und willst besser werden.\nLevel 3 Offroad Expert Rider: Als erfahrener Offroad Biker geht es Dir um den Feinschliff.\n\nDie Teilnehmerzahl ist auf maximal 4 Bikerinnen begrenzt\, um eine gute Betreuung zu gewährleisten. Mindestteilnehmerzahl sind 2 Personen. Bei Schlechtwetter verschieben wir. Alternative Termine\, auch unter der Woche\, sind gerne auch möglich\, einfach anfragen. \nVorbereitung\nWelches Motorrad ist geeignet? Kann ich mit „Straßenreifen“ mitfahren? Soll ich bei den Reifen Luft ablassen? Welches Gepäck ist ideal? Kann ich sonst mein Motorrad vorbereiten? Was soll ich anziehen? Was soll ich mitnehmen? Alles über die richtige Vorbereitung erfahrt Ihr im JentlFlow Adventurebike Blog Beitrag Jentlflow Adventurebike Offroad Fahrtechnik Training – perfekt vorbereitet am Start. \nPreis: 129\,-\nAnmeldung\n\n\n  \n\n\n\nVor-Nachname \nEmail \nStrasse \nPostleitzahl \nOrt \nTelefon \nGeburtsjahr \nMotorrad \nAnmerkungen \n \nMein Fahrlevel - bitte auswählen:\n \n\n	Nach unten scrollen und Fahrlevel wählenOffroad BeginnerOffroad Advanced RiderOffroad Expert Rider\nTermin bitte auswählen:\nNach unten scrollen und Tour wählen15.April Adventurebike Guiding Plus Level 217.April Adventurebike Schöckl Warm Up Offroad Basics19.April Adventurebike Guiding Plus Level 224.April Adventurebike Schöckl Warm Up Offroad Basics26.April Adventurebike Guiding Plus Level 2 Technik10.Mai Adventurebike Training Pro Offroad Basics21. Mai Adventurebike Training Pro Stefan M.29.Mai Adventurebike Guiding Plus Level 2 Driften12.Juni Adventurebike Guiding Plus Offroad Basics20.Juni Adventurebike Guiding Plus Level 2 Stefan J.25.Juni Adventurebike Training Pro Stefan M.11.July Rallyfahrtechniktraining Kupres12.July Rallyfahrtechniktraining Kupres\n	 \n\n Ich melde mich verbindlich für die Tour an.\n \n Ich stimme den Teilnahmebedingungen/AGB zu.\n-> Link zu den Teilnahmebedingungen\n \nIch habe die Datenschutzerklärung zur Kenntnis genommen und akzeptiert. Ich stimme zu\, dass meine Formularangaben zur Kontaktaufnahme bzw. zur Bearbeitung meines Anliegens gespeichert werden.\n-> Link zur Datenschutzerklärung\n \n\n \nFalls nach der Anmeldung keine Antwort kommt bitte SPAM-Ordner prüfen.\n ×
URL:https://www.jentlflow.at/event/adventurebike-schoeckl-warm-up-ladies-only-24-04-2022/
LOCATION:Graz Nord\, P+R Weinzödl\, P&R Weinzödl Wiener Str.\, Graz\, 8046\, Österreich
CATEGORIES:Adventurebiketraining Basic
ORGANIZER;CN="JentlFlow":MAILTO:jentl@jeneweinflow.at
END:VEVENT
BEGIN:VEVENT
DTSTART;TZID=UTC:20220429T100000
DTEND;TZID=UTC:20220429T170000
DTSTAMP:20260421T221622
CREATED:20220317T173459Z
LAST-MODIFIED:20220401T092307Z
UID:8731-1651226400-1651251600@www.jentlflow.at
SUMMARY:Adventurebike Guiding Plus Slowenien
DESCRIPTION:< Diese Tour ist ausgebucht. Individuelle Termine auf Anfrage >\n \nNur 45 Minuten südlich von Graz oder süd-östlich von Klagenfurt bietet ein riesiges Schotterstaßennetz Offroadfahrspaß ohne Ende. Für die ersten Versuche auf Schotter mit dem Adventurebike eigenen sich die Tagestouren in Slowenien perfekt. Auf den leichten Schotterstraßen gewinnt man mit der richtigen Fahrtechnik schnell Vertrauen. Aber auch für fortgeschrittene Adventurebiker gibt es durchaus anspruchsvolle Traktorwege und Forststraßen. Je nach Fahrlevel und Bereifung der Gruppe richtet sich der Schwierigkeitsgrad der Touren. \nAdventurebike Guiding Plus\nBei dieser Tour liegt der Schwerpunkt auf Guiding durch das wunderschöne Hügelland hinter der österreichischen Grenze. Das Fahrerlebnis steht hier im Vordergrund. In den Pausen gibt es Setup- und Fahrtechniktipps vom Ridingcoach. Alternativ gibt es das Adventurebike Training Pro mit Fokus auf Fahrtechnik an anderen Terminen. \n\nFahrlevel\nDas Guiding gestaltet sich nach Deinen bisherigen Offroaderfahrungen und Deinem Fahrkönnen. Wir haben 3 Trainingslevels. Dieser Termin richtet sich speziell an fortgeschrittene Offroad Biker! \n\nLevel 1 Offroad Beginner: Für Deine ersten Offroaderfahrungen möchtest Du die Basics lernen.\nLevel 2 Offroad Advanced Rider: Du beherrscht die Offroad Basics und willst besser werden.\nLevel 3 Offroad Expert Rider: Als erfahrener Offroad Biker geht es Dir um den Feinschliff.\n\nDurch die Angabe Deines Fahrlevels gestalten wir die Gruppen. Die Teilnehmerzahl ist auf maximal 4 Biker begrenzt um eine gute Betreuung zu gewährleisten. Mindestteilnehmerzahl sind 2 Personen. Bei Schlechtwetter verschieben wir. Alternative Termine\, auch unter der Woche\, sind auch möglich\, ebenso Mehrtagestrainings. Einfach anfragen. \nVorbereitung\nWelches Motorrad ist geeignet? Kann ich mit „Straßenreifen“ mitfahren? Soll ich bei den Reifen Luft ablassen? Welches Gepäck ist ideal? Kann ich sonst mein Motorrad vorbereiten? Was soll ich anziehen? Was soll ich mitnehmen? Alles über die richtige Vorbereitung erfahrt Ihr im JentlFlow Adventurebike Blog Beitrag Jentlflow Adventurebike Offroad Fahrtechnik Training – perfekt vorbereitet am Start. \nPreis: 149\,-\nAnmeldung\n\n\n  \n\n\n\nVor-Nachname \nEmail \nStrasse \nPostleitzahl \nOrt \nTelefon \nGeburtsjahr \nMotorrad \nAnmerkungen \n \nMein Fahrlevel - bitte auswählen:\n \n\n	Nach unten scrollen und Fahrlevel wählenOffroad BeginnerOffroad Advanced RiderOffroad Expert Rider\nTermin bitte auswählen:\nNach unten scrollen und Tour wählen15.April Adventurebike Guiding Plus Level 217.April Adventurebike Schöckl Warm Up Offroad Basics19.April Adventurebike Guiding Plus Level 224.April Adventurebike Schöckl Warm Up Offroad Basics26.April Adventurebike Guiding Plus Level 2 Technik10.Mai Adventurebike Training Pro Offroad Basics21. Mai Adventurebike Training Pro Stefan M.29.Mai Adventurebike Guiding Plus Level 2 Driften12.Juni Adventurebike Guiding Plus Offroad Basics20.Juni Adventurebike Guiding Plus Level 2 Stefan J.25.Juni Adventurebike Training Pro Stefan M.11.July Rallyfahrtechniktraining Kupres12.July Rallyfahrtechniktraining Kupres\n	 \n\n Ich melde mich verbindlich für die Tour an.\n \n Ich stimme den Teilnahmebedingungen/AGB zu.\n-> Link zu den Teilnahmebedingungen\n \nIch habe die Datenschutzerklärung zur Kenntnis genommen und akzeptiert. Ich stimme zu\, dass meine Formularangaben zur Kontaktaufnahme bzw. zur Bearbeitung meines Anliegens gespeichert werden.\n-> Link zur Datenschutzerklärung\n \n\n \nFalls nach der Anmeldung keine Antwort kommt bitte SPAM-Ordner prüfen.\n ×
URL:https://www.jentlflow.at/event/adventurebike-guiding-plus-slowenien-29-4-2022/
LOCATION:Eibiswald Socar Tankstelle\, Eibiswald 242a\, Eibiswald\, Steiermark\, 8552\, Österreich
CATEGORIES:Adventurebiketraining Basic
ORGANIZER;CN="JentlFlow":MAILTO:jentl@jeneweinflow.at
END:VEVENT
BEGIN:VEVENT
DTSTART;TZID=Europe/Vienna:20220430T110000
DTEND;TZID=Europe/Vienna:20220430T150000
DTSTAMP:20260421T221622
CREATED:20211105T103015Z
LAST-MODIFIED:20220402T094740Z
UID:7946-1651316400-1651330800@www.jentlflow.at
SUMMARY:Adventurebike Schöckl warm up
DESCRIPTION:< Diese Tour ist ausgebucht. Individuelle Termine auf Anfrage > \nDer ideale Einstieg in die neue Adventurebikesaison im landschaftlich schönen Grazer Bergland. Die Runde ist über 100km lang und umrundet den Grazer Hausberg\, den Schöckl. Für Motorradsetup und Basicfahrtechnik eignen sich die kleinen Nebenstraßen recht gut. So kann das Bewegen des Motorrads im Stehen gut geübt werden. Und ein paar lässige Schotterstraßen und Offroadschmankerln sind auch dabei. ? Danach seit Ihr gut vorbereitet für weitere Schottertouren in Slowenien. \nAdventurebike warm up\nBei dieser Tour liegt der Schwerpunkt auf den Offroad Basics. Wir besprechen die Grund-Offroadfahrtechniken und fahren gemeinsam eine Tour im Grazer Bergland. Dabei gibt es Setup– und Fahrtechniktipps vom Ridingcoach. \n\n  \nFahrlevel\nDas Guiding gestaltet sich nach Deinen bisherigen Offroaderfahrungen und Deinem Fahrkönnen. Wir haben 3 Trainingslevels. Diese Tour richtet sich in erster Line an Offroad Beginner. \n\nLevel 1 Offroad Beginner: Für Deine ersten Offroaderfahrungen möchtest Du die Basics lernen.\nLevel 2 Offroad Advanced Rider: Du beherrscht die Offroad Basics und willst besser werden.\nLevel 3 Offroad Expert Rider: Als erfahrener Offroad Biker geht es Dir um den Feinschliff.\n\nDie Teilnehmerzahl ist auf maximal 4 Biker begrenzt\, um eine gute Betreuung zu gewährleisten. Mindestteilnehmerzahl sind 2 Personen. Bei Schlechtwetter verschieben wir. Alternative Termine\, auch unter der Woche\, sind gerne auch möglich\, einfach anfragen. \nVorbereitung\nWelches Motorrad ist geeignet? Kann ich mit „Straßenreifen“ mitfahren? Soll ich bei den Reifen Luft ablassen? Welches Gepäck ist ideal? Kann ich sonst mein Motorrad vorbereiten? Was soll ich anziehen? Was soll ich mitnehmen? Alles über die richtige Vorbereitung erfahrt Ihr im JentlFlow Adventurebike Blog Beitrag Jentlflow Adventurebike Offroad Fahrtechnik Training – perfekt vorbereitet am Start. \nPreis: 129\,-\nAnmeldung\n\n\n  \n\n\n\nVor-Nachname \nEmail \nStrasse \nPostleitzahl \nOrt \nTelefon \nGeburtsjahr \nMotorrad \nAnmerkungen \n \nMein Fahrlevel - bitte auswählen:\n \n\n	Nach unten scrollen und Fahrlevel wählenOffroad BeginnerOffroad Advanced RiderOffroad Expert Rider\nTermin bitte auswählen:\nNach unten scrollen und Tour wählen15.April Adventurebike Guiding Plus Level 217.April Adventurebike Schöckl Warm Up Offroad Basics19.April Adventurebike Guiding Plus Level 224.April Adventurebike Schöckl Warm Up Offroad Basics26.April Adventurebike Guiding Plus Level 2 Technik10.Mai Adventurebike Training Pro Offroad Basics21. Mai Adventurebike Training Pro Stefan M.29.Mai Adventurebike Guiding Plus Level 2 Driften12.Juni Adventurebike Guiding Plus Offroad Basics20.Juni Adventurebike Guiding Plus Level 2 Stefan J.25.Juni Adventurebike Training Pro Stefan M.11.July Rallyfahrtechniktraining Kupres12.July Rallyfahrtechniktraining Kupres\n	 \n\n Ich melde mich verbindlich für die Tour an.\n \n Ich stimme den Teilnahmebedingungen/AGB zu.\n-> Link zu den Teilnahmebedingungen\n \nIch habe die Datenschutzerklärung zur Kenntnis genommen und akzeptiert. Ich stimme zu\, dass meine Formularangaben zur Kontaktaufnahme bzw. zur Bearbeitung meines Anliegens gespeichert werden.\n-> Link zur Datenschutzerklärung\n \n\n \nFalls nach der Anmeldung keine Antwort kommt bitte SPAM-Ordner prüfen.\n ×
URL:https://www.jentlflow.at/event/adventurebike-schoeckl-warm-up-30-04-2022/
LOCATION:Graz Nord\, P+R Weinzödl\, P&R Weinzödl Wiener Str.\, Graz\, 8046\, Österreich
CATEGORIES:Adventurebiketraining Basic
ORGANIZER;CN="JentlFlow":MAILTO:jentl@jeneweinflow.at
END:VEVENT
END:VCALENDAR