BEGIN:VCALENDAR
VERSION:2.0
PRODID:-//JentlFlow - ECPv6.15.20//NONSGML v1.0//EN
CALSCALE:GREGORIAN
METHOD:PUBLISH
X-WR-CALNAME:JentlFlow
X-ORIGINAL-URL:https://www.jentlflow.at
X-WR-CALDESC:Veranstaltungen für JentlFlow
REFRESH-INTERVAL;VALUE=DURATION:PT1H
X-Robots-Tag:noindex
X-PUBLISHED-TTL:PT1H
BEGIN:VTIMEZONE
TZID:Europe/Vienna
BEGIN:DAYLIGHT
TZOFFSETFROM:+0100
TZOFFSETTO:+0200
TZNAME:CEST
DTSTART:20200329T010000
END:DAYLIGHT
BEGIN:STANDARD
TZOFFSETFROM:+0200
TZOFFSETTO:+0100
TZNAME:CET
DTSTART:20201025T010000
END:STANDARD
BEGIN:DAYLIGHT
TZOFFSETFROM:+0100
TZOFFSETTO:+0200
TZNAME:CEST
DTSTART:20210328T010000
END:DAYLIGHT
BEGIN:STANDARD
TZOFFSETFROM:+0200
TZOFFSETTO:+0100
TZNAME:CET
DTSTART:20211031T010000
END:STANDARD
BEGIN:DAYLIGHT
TZOFFSETFROM:+0100
TZOFFSETTO:+0200
TZNAME:CEST
DTSTART:20220327T010000
END:DAYLIGHT
BEGIN:STANDARD
TZOFFSETFROM:+0200
TZOFFSETTO:+0100
TZNAME:CET
DTSTART:20221030T010000
END:STANDARD
END:VTIMEZONE
BEGIN:VEVENT
DTSTART;TZID=Europe/Vienna:20210403T110000
DTEND;TZID=Europe/Vienna:20210403T160000
DTSTAMP:20260422T162952
CREATED:20210308T091606Z
LAST-MODIFIED:20210325T134927Z
UID:7143-1617447600-1617465600@www.jentlflow.at
SUMMARY:Adventurebike Tour Grazer Bergland – Guiding Plus
DESCRIPTION:>noch ein Platz frei!< \nBis die Grenzen nach Slowenien\, bzw. zurück nach Österreich\, wieder geöffnet werden und wir das riesiges Schotterstaßennetz gleich hinter der Grenze nutzen können\, machen wir im landschaftlich schönen Grazer Bergland ein Warm-Up. Die Runde ist über 100km lang und umrundet den Grazer Hausberg\, den Schöckl. Für Motorradsetup und Basicfahrtechnik eignen sich die kleinen Nebenstraßen recht gut. So kann das Bewegen des Motorrads im Stehen gut geübt werden. Und ein paar lässige Schotterstraßen und Offroadschmankerln sind auch dabei. ? Danach seit Ihr gut vorbereitet für weitere Schottertouren in Slowenien. \nAdventurebike Guiding PLUS\nBei dieser Tour liegt der Schwerpunkt auf den Offroad Basics. Wir besprechen die Grund-Offroadfahrtechniken und fahren gemeinsam eine Tour im Grazer Bergland. Dabei gibt es Setup– und Fahrtechniktipps vom Ridingcoach. \n  \n\n  \nFahrlevel\nDas Guiding gestaltet sich nach Deinen bisherigen Offroaderfahrungen und Deinem Fahrkönnen. Wir haben 3 Trainingslevels. Diese Tour richtet sich in erster Line an Offroad Beginner. \n\nLevel 1 Offroad Beginner: Für Deine ersten Offroaderfahrungen möchtest Du die Basics lernen.\nLevel 2 Offroad Advanced Rider: Du beherrscht die Offroad Basics und willst besser werden.\nLevel 3 Offroad Expert Rider: Als erfahrener Offroad Biker geht es Dir um den Feinschliff.\n\nDie Teilnehmerzahl ist auf maximal 4 Biker begrenzt\, um eine gute Betreuung zu gewährleisten. Mindestteilnehmerzahl sind 2 Personen. Bei Schlechtwetter verschieben wir. Alternative Termine\, auch unter der Woche\, sind gerne auch möglich\, einfach anfragen. Start in Graz\, P+R Weinzödl 11:00\, Ende ca 16:00. \nVorbereitung\nWelches Motorrad ist geeignet? Kann ich mit „Straßenreifen“ mitfahren? Soll ich bei den Reifen Luft ablassen? Welches Gepäck ist ideal? Kann ich sonst mein Motorrad vorbereiten? Was soll ich anziehen? Was soll ich mitnehmen? Alles über die richtige Vorbereitung erfahrt Ihr im JentlFlow Adventurebike Blog Beitrag Jentlflow Adventurebike Offroad Fahrtechnik Training – perfekt vorbereitet am Start. \nPreis: 109\,-\nAnmeldung\n\n\n  \n\n\n\nVor-Nachname \nEmail \nStrasse \nPostleitzahl \nOrt \nTelefon \nGeburtsjahr \nMotorrad \nAnmerkungen \n \nMein Fahrlevel - bitte auswählen:\n \n\n	Nach unten scrollen und Fahrlevel wählenOffroad BeginnerOffroad Advanced RiderOffroad Expert Rider\nTermin bitte auswählen:\nNach unten scrollen und Tour wählen15.April Adventurebike Guiding Plus Level 217.April Adventurebike Schöckl Warm Up Offroad Basics19.April Adventurebike Guiding Plus Level 224.April Adventurebike Schöckl Warm Up Offroad Basics26.April Adventurebike Guiding Plus Level 2 Technik10.Mai Adventurebike Training Pro Offroad Basics21. Mai Adventurebike Training Pro Stefan M.29.Mai Adventurebike Guiding Plus Level 2 Driften12.Juni Adventurebike Guiding Plus Offroad Basics20.Juni Adventurebike Guiding Plus Level 2 Stefan J.25.Juni Adventurebike Training Pro Stefan M.11.July Rallyfahrtechniktraining Kupres12.July Rallyfahrtechniktraining Kupres\n	 \n\n Ich melde mich verbindlich für die Tour an.\n \n Ich stimme den Teilnahmebedingungen/AGB zu.\n-> Link zu den Teilnahmebedingungen\n \nIch habe die Datenschutzerklärung zur Kenntnis genommen und akzeptiert. Ich stimme zu\, dass meine Formularangaben zur Kontaktaufnahme bzw. zur Bearbeitung meines Anliegens gespeichert werden.\n-> Link zur Datenschutzerklärung\n \n\n \nFalls nach der Anmeldung keine Antwort kommt bitte SPAM-Ordner prüfen.\n ×
URL:https://www.jentlflow.at/event/adventurebike-tour-grazer-bergland-guiding-plus-3-4-2021/
LOCATION:Graz Nord\, P+R Weinzödl\, P&R Weinzödl Wiener Str.\, Graz\, 8046\, Österreich
ORGANIZER;CN="JentlFlow":MAILTO:jentl@jeneweinflow.at
END:VEVENT
BEGIN:VEVENT
DTSTART;TZID=Europe/Vienna:20210405T110000
DTEND;TZID=Europe/Vienna:20210405T160000
DTSTAMP:20260422T162952
CREATED:20210308T100125Z
LAST-MODIFIED:20210325T085905Z
UID:7157-1617620400-1617638400@www.jentlflow.at
SUMMARY:Adventurebike Tour Grazer Bergland – Guiding Plus
DESCRIPTION:> Nur mehr ein Platz frei < \nBis die Grenzen nach Slowenien\, bzw. zurück nach Österreich\, wieder geöffnet werden und wir das riesiges Schotterstaßennetz gleich hinter der Grenze nutzen können\, machen wir im landschaftlich schönen Grazer Bergland ein Warm-Up. Die Runde ist über 100km lang und umrundet den Grazer Hausberg\, den Schöckl. Für Motorradsetup und Basicfahrtechnik eignen sich die kleinen Nebenstraßen recht gut. So kann das Bewegen des Motorrads im Stehen gut geübt werden. Und ein paar lässige Schotterstraßen und Offroadschmankerln sind auch dabei. ? Danach seit Ihr gut vorbereitet für weitere Schottertouren in Slowenien.Adventurebike Guiding PLUS \nBei dieser Tour liegt der Schwerpunkt auf den Offroad Basics. Wir besprechen die Grund-Offroadfahrtechniken und fahren gemeinsam eine Tour im Grazer Bergland. Dabei gibt es Setup– und Fahrtechniktipps vom Ridingcoach. \n  \n\n  \nFahrlevel\nDas Guiding gestaltet sich nach Deinen bisherigen Offroaderfahrungen und Deinem Fahrkönnen. Wir haben 3 Trainingslevels. Diese Tour richtet sich in erster Line an Offroad Beginner. \n\nLevel 1 Offroad Beginner: Für Deine ersten Offroaderfahrungen möchtest Du die Basics lernen.\nLevel 2 Offroad Advanced Rider: Du beherrscht die Offroad Basics und willst besser werden.\nLevel 3 Offroad Expert Rider: Als erfahrener Offroad Biker geht es Dir um den Feinschliff.\n\nDie Teilnehmerzahl ist auf maximal 4 Biker begrenzt\, um eine gute Betreuung zu gewährleisten. Mindestteilnehmerzahl sind 2 Personen. Bei Schlechtwetter verschieben wir. Alternative Termine\, auch unter der Woche\, sind gerne auch möglich\, einfach anfragen. Start in Graz\, P+R Weinzödl 11:00\, Ende ca 16:00. \nVorbereitung\nWelches Motorrad ist geeignet? Kann ich mit „Straßenreifen“ mitfahren? Soll ich bei den Reifen Luft ablassen? Welches Gepäck ist ideal? Kann ich sonst mein Motorrad vorbereiten? Was soll ich anziehen? Was soll ich mitnehmen? Alles über die richtige Vorbereitung erfahrt Ihr im JentlFlow Adventurebike Blog Beitrag Jentlflow Adventurebike Offroad Fahrtechnik Training – perfekt vorbereitet am Start. \nPreis: 109\,-\nAnmeldung\n\n\n  \n\n\n\nVor-Nachname \nEmail \nStrasse \nPostleitzahl \nOrt \nTelefon \nGeburtsjahr \nMotorrad \nAnmerkungen \n \nMein Fahrlevel - bitte auswählen:\n \n\n	Nach unten scrollen und Fahrlevel wählenOffroad BeginnerOffroad Advanced RiderOffroad Expert Rider\nTermin bitte auswählen:\nNach unten scrollen und Tour wählen15.April Adventurebike Guiding Plus Level 217.April Adventurebike Schöckl Warm Up Offroad Basics19.April Adventurebike Guiding Plus Level 224.April Adventurebike Schöckl Warm Up Offroad Basics26.April Adventurebike Guiding Plus Level 2 Technik10.Mai Adventurebike Training Pro Offroad Basics21. Mai Adventurebike Training Pro Stefan M.29.Mai Adventurebike Guiding Plus Level 2 Driften12.Juni Adventurebike Guiding Plus Offroad Basics20.Juni Adventurebike Guiding Plus Level 2 Stefan J.25.Juni Adventurebike Training Pro Stefan M.11.July Rallyfahrtechniktraining Kupres12.July Rallyfahrtechniktraining Kupres\n	 \n\n Ich melde mich verbindlich für die Tour an.\n \n Ich stimme den Teilnahmebedingungen/AGB zu.\n-> Link zu den Teilnahmebedingungen\n \nIch habe die Datenschutzerklärung zur Kenntnis genommen und akzeptiert. Ich stimme zu\, dass meine Formularangaben zur Kontaktaufnahme bzw. zur Bearbeitung meines Anliegens gespeichert werden.\n-> Link zur Datenschutzerklärung\n \n\n \nFalls nach der Anmeldung keine Antwort kommt bitte SPAM-Ordner prüfen.\n ×
URL:https://www.jentlflow.at/event/adventurebike-tour-grazer-bergland-guiding-plus-5-4-2021/
LOCATION:Graz Nord\, P+R Weinzödl\, P&R Weinzödl Wiener Str.\, Graz\, 8046\, Österreich
ORGANIZER;CN="JentlFlow":MAILTO:jentl@jeneweinflow.at
END:VEVENT
BEGIN:VEVENT
DTSTART;TZID=Europe/Vienna:20210411T100000
DTEND;TZID=Europe/Vienna:20210411T160000
DTSTAMP:20260422T162952
CREATED:20201208T144552Z
LAST-MODIFIED:20210308T090432Z
UID:6411-1618135200-1618156800@www.jentlflow.at
SUMMARY:Gripsmania Adventurebike Tour Grazer Bergland - Guiding Plus
DESCRIPTION:< Achtung\, diese Tour ist ausverkauft > \nZusammen mit Gripsmania veranstalten wir diese Adventurebiketour speziell für Offroadeinsteiger im Grazer Bergland. Für Motorradsetup und Basicfahrtechnik eignen sich die kleinen Nebenstraßen rund um den Grazer Hausberg\, dem Schöckl\, recht gut. So kann das Bewegen des Motorrads im Stehen gut geübt werden. Und ein paar Schotterstraßen und Offroadschmankerln sind auch dabei. \nAdventurebike Guiding PLUS\nBei dieser Tour liegt der Schwerpunkt auf den Offroad Basics. Wir besprechen die Grund-Offroadfahrtechniken und fahren gemeinsam eine Tour im Grazer Bergland. Dabei gibt es Setup– und Fahrtechniktipps vom Ridingcoach. \nFahrlevel\nDas Guiding gestaltet sich nach Deinen bisherigen Offroaderfahrungen und Deinem Fahrkönnen. Wir haben 3 Trainingslevels. Diese Tour richtet sich an Offroad Beginner. \n\nLevel 1 Offroad Beginner: Für Deine ersten Offroaderfahrungen möchtest Du die Basics lernen.\nLevel 2 Offroad Advanced Rider: Du beherrscht die Offroad Basics und willst besser werden.\nLevel 3 Offroad Expert Rider: Als erfahrener Offroad Biker geht es Dir um den Feinschliff.\n\nDie Teilnehmerzahl ist auf maximal 5 Biker begrenzt\, um eine gute Betreuung zu gewährleisten. Mindestteilnehmerzahl sind 3 Personen. Bei Schlechtwetter verschieben wir. Alternative Termine\, auch unter der Woche\, sind gerne auch möglich\, einfach anfragen. Start in Graz\, P+R Weinzödl 10:00 bis ca 16:00 \nVorbereitung\nWelches Motorrad ist geeignet? Kann ich mit „Straßenreifen“ mitfahren? Soll ich bei den Reifen Luft ablassen? Welches Gepäck ist ideal? Kann ich sonst mein Motorrad vorbereiten? Was soll ich anziehen? Was soll ich mitnehmen? Alles über die richtige Vorbereitung erfahrt Ihr im JentlFlow Adventurebike Blog Beitrag Jentlflow Adventurebike Offroad Fahrtechnik Training – perfekt vorbereitet am Start. \nPreis: 99\,- Gripsmania Spezial Deal\nAnmeldelink:  Gripsmania – Exklusiv – Offroad-Basics-Training mit Jentlflow\n  \n 
URL:https://www.jentlflow.at/event/gripsmania-adventurebike-tour-grazer-bergland-guiding-plus-11-4-2021/
LOCATION:Graz Nord\, P+R Weinzödl\, P&R Weinzödl Wiener Str.\, Graz\, 8046\, Österreich
ORGANIZER;CN="JentlFlow":MAILTO:jentl@jeneweinflow.at
END:VEVENT
BEGIN:VEVENT
DTSTART;TZID=Europe/Vienna:20210418T110000
DTEND;TZID=Europe/Vienna:20210418T160000
DTSTAMP:20260422T162952
CREATED:20210309T181853Z
LAST-MODIFIED:20210323T181016Z
UID:7170-1618743600-1618761600@www.jentlflow.at
SUMMARY:Adventurebike Tour Grazer Bergland – Guiding Plus
DESCRIPTION:> Dieser Termin ist ausgebucht! < \nBis die Grenzen nach Slowenien\, bzw. zurück nach Österreich\, wieder geöffnet werden und wir das riesiges Schotterstaßennetz gleich hinter der Grenze nutzen können\, machen wir im landschaftlich schönen Grazer Bergland ein Warm-Up. Die Runde ist über 100km lang und umrundet den Grazer Hausberg\, den Schöckl. Für Motorradsetup und Basicfahrtechnik eignen sich die kleinen Nebenstraßen recht gut. So kann das Bewegen des Motorrads im Stehen gut geübt werden. Und ein paar lässige Schotterstraßen und Offroadschmankerln sind auch dabei. ? Danach seit Ihr gut vorbereitet für weitere Schottertouren in Slowenien. \nAdventurebike Guiding PLUS\nBei dieser Tour liegt der Schwerpunkt auf den Offroad Basics. Wir besprechen die Grund-Offroadfahrtechniken und fahren gemeinsam eine Tour im Grazer Bergland. Dabei gibt es Setup– und Fahrtechniktipps vom Ridingcoach. \n  \n\n  \nFahrlevel\nDas Guiding gestaltet sich nach Deinen bisherigen Offroaderfahrungen und Deinem Fahrkönnen. Wir haben 3 Trainingslevels. Diese Tour richtet sich in erster Line an Offroad Beginner. \n\nLevel 1 Offroad Beginner: Für Deine ersten Offroaderfahrungen möchtest Du die Basics lernen.\nLevel 2 Offroad Advanced Rider: Du beherrscht die Offroad Basics und willst besser werden.\nLevel 3 Offroad Expert Rider: Als erfahrener Offroad Biker geht es Dir um den Feinschliff.\n\nDie Teilnehmerzahl ist auf maximal 4 Biker begrenzt\, um eine gute Betreuung zu gewährleisten. Mindestteilnehmerzahl sind 2 Personen. Bei Schlechtwetter verschieben wir. Alternative Termine\, auch unter der Woche\, sind gerne auch möglich\, einfach anfragen. Start in Graz\, P+R Weinzödl 11:00\, Ende ca 16:00. \nVorbereitung\nWelches Motorrad ist geeignet? Kann ich mit „Straßenreifen“ mitfahren? Soll ich bei den Reifen Luft ablassen? Welches Gepäck ist ideal? Kann ich sonst mein Motorrad vorbereiten? Was soll ich anziehen? Was soll ich mitnehmen? Alles über die richtige Vorbereitung erfahrt Ihr im JentlFlow Adventurebike Blog Beitrag Jentlflow Adventurebike Offroad Fahrtechnik Training – perfekt vorbereitet am Start. \nPreis: 109\,-\nAnmeldung\n\n\n  \n\n\n\nVor-Nachname \nEmail \nStrasse \nPostleitzahl \nOrt \nTelefon \nGeburtsjahr \nMotorrad \nAnmerkungen \n \nMein Fahrlevel - bitte auswählen:\n \n\n	Nach unten scrollen und Fahrlevel wählenOffroad BeginnerOffroad Advanced RiderOffroad Expert Rider\nTermin bitte auswählen:\nNach unten scrollen und Tour wählen15.April Adventurebike Guiding Plus Level 217.April Adventurebike Schöckl Warm Up Offroad Basics19.April Adventurebike Guiding Plus Level 224.April Adventurebike Schöckl Warm Up Offroad Basics26.April Adventurebike Guiding Plus Level 2 Technik10.Mai Adventurebike Training Pro Offroad Basics21. Mai Adventurebike Training Pro Stefan M.29.Mai Adventurebike Guiding Plus Level 2 Driften12.Juni Adventurebike Guiding Plus Offroad Basics20.Juni Adventurebike Guiding Plus Level 2 Stefan J.25.Juni Adventurebike Training Pro Stefan M.11.July Rallyfahrtechniktraining Kupres12.July Rallyfahrtechniktraining Kupres\n	 \n\n Ich melde mich verbindlich für die Tour an.\n \n Ich stimme den Teilnahmebedingungen/AGB zu.\n-> Link zu den Teilnahmebedingungen\n \nIch habe die Datenschutzerklärung zur Kenntnis genommen und akzeptiert. Ich stimme zu\, dass meine Formularangaben zur Kontaktaufnahme bzw. zur Bearbeitung meines Anliegens gespeichert werden.\n-> Link zur Datenschutzerklärung\n \n\n \nFalls nach der Anmeldung keine Antwort kommt bitte SPAM-Ordner prüfen.\n ×
URL:https://www.jentlflow.at/event/adventurebike-tour-grazer-bergland-guiding-plus-18-4-2021/
LOCATION:Graz Nord\, P+R Weinzödl\, P&R Weinzödl Wiener Str.\, Graz\, 8046\, Österreich
ORGANIZER;CN="JentlFlow":MAILTO:jentl@jeneweinflow.at
END:VEVENT
BEGIN:VEVENT
DTSTART;TZID=Europe/Vienna:20210425T110000
DTEND;TZID=Europe/Vienna:20210425T160000
DTSTAMP:20260422T162952
CREATED:20210406T155039Z
LAST-MODIFIED:20210406T155039Z
UID:7290-1619348400-1619366400@www.jentlflow.at
SUMMARY:Adventurebike Tour Grazer Bergland – Guiding Plus
DESCRIPTION:> Geschlossene Gruppe Felix K. < \nBis die Grenzen nach Slowenien\, bzw. zurück nach Österreich\, wieder geöffnet werden und wir das riesiges Schotterstaßennetz gleich hinter der Grenze nutzen können\, machen wir im landschaftlich schönen Grazer Bergland ein Warm-Up. Die Runde ist über 100km lang und umrundet den Grazer Hausberg\, den Schöckl. Für Motorradsetup und Basicfahrtechnik eignen sich die kleinen Nebenstraßen recht gut. So kann das Bewegen des Motorrads im Stehen gut geübt werden. Und ein paar lässige Schotterstraßen und Offroadschmankerln sind auch dabei. ? Danach seit Ihr gut vorbereitet für weitere Schottertouren in Slowenien. \nAdventurebike Guiding PLUS\nBei dieser Tour liegt der Schwerpunkt auf den Offroad Basics. Wir besprechen die Grund-Offroadfahrtechniken und fahren gemeinsam eine Tour im Grazer Bergland. Dabei gibt es Setup– und Fahrtechniktipps vom Ridingcoach. \n  \n\n  \nFahrlevel\nDas Guiding gestaltet sich nach Deinen bisherigen Offroaderfahrungen und Deinem Fahrkönnen. Wir haben 3 Trainingslevels. Diese Tour richtet sich in erster Line an Offroad Beginner. \n\nLevel 1 Offroad Beginner: Für Deine ersten Offroaderfahrungen möchtest Du die Basics lernen.\nLevel 2 Offroad Advanced Rider: Du beherrscht die Offroad Basics und willst besser werden.\nLevel 3 Offroad Expert Rider: Als erfahrener Offroad Biker geht es Dir um den Feinschliff.\n\nDie Teilnehmerzahl ist auf maximal 4 Biker begrenzt\, um eine gute Betreuung zu gewährleisten. Mindestteilnehmerzahl sind 2 Personen. Bei Schlechtwetter verschieben wir. Alternative Termine\, auch unter der Woche\, sind gerne auch möglich\, einfach anfragen. Start in Graz\, P+R Weinzödl 11:00\, Ende ca 16:00. \nVorbereitung\nWelches Motorrad ist geeignet? Kann ich mit „Straßenreifen“ mitfahren? Soll ich bei den Reifen Luft ablassen? Welches Gepäck ist ideal? Kann ich sonst mein Motorrad vorbereiten? Was soll ich anziehen? Was soll ich mitnehmen? Alles über die richtige Vorbereitung erfahrt Ihr im JentlFlow Adventurebike Blog Beitrag Jentlflow Adventurebike Offroad Fahrtechnik Training – perfekt vorbereitet am Start. \nPreis: 109\,-\nAnmeldung\n\n\n  \n\n\n\nVor-Nachname \nEmail \nStrasse \nPostleitzahl \nOrt \nTelefon \nGeburtsjahr \nMotorrad \nAnmerkungen \n \nMein Fahrlevel - bitte auswählen:\n \n\n	Nach unten scrollen und Fahrlevel wählenOffroad BeginnerOffroad Advanced RiderOffroad Expert Rider\nTermin bitte auswählen:\nNach unten scrollen und Tour wählen15.April Adventurebike Guiding Plus Level 217.April Adventurebike Schöckl Warm Up Offroad Basics19.April Adventurebike Guiding Plus Level 224.April Adventurebike Schöckl Warm Up Offroad Basics26.April Adventurebike Guiding Plus Level 2 Technik10.Mai Adventurebike Training Pro Offroad Basics21. Mai Adventurebike Training Pro Stefan M.29.Mai Adventurebike Guiding Plus Level 2 Driften12.Juni Adventurebike Guiding Plus Offroad Basics20.Juni Adventurebike Guiding Plus Level 2 Stefan J.25.Juni Adventurebike Training Pro Stefan M.11.July Rallyfahrtechniktraining Kupres12.July Rallyfahrtechniktraining Kupres\n	 \n\n Ich melde mich verbindlich für die Tour an.\n \n Ich stimme den Teilnahmebedingungen/AGB zu.\n-> Link zu den Teilnahmebedingungen\n \nIch habe die Datenschutzerklärung zur Kenntnis genommen und akzeptiert. Ich stimme zu\, dass meine Formularangaben zur Kontaktaufnahme bzw. zur Bearbeitung meines Anliegens gespeichert werden.\n-> Link zur Datenschutzerklärung\n \n\n \nFalls nach der Anmeldung keine Antwort kommt bitte SPAM-Ordner prüfen.\n ×
URL:https://www.jentlflow.at/event/adventurebike-tour-grazer-bergland-guiding-plus-25-4-2021/
LOCATION:Graz Nord\, P+R Weinzödl\, P&R Weinzödl Wiener Str.\, Graz\, 8046\, Österreich
ORGANIZER;CN="JentlFlow":MAILTO:jentl@jeneweinflow.at
END:VEVENT
END:VCALENDAR