BEGIN:VCALENDAR
VERSION:2.0
PRODID:-//JentlFlow - ECPv6.15.20//NONSGML v1.0//EN
CALSCALE:GREGORIAN
METHOD:PUBLISH
X-WR-CALNAME:JentlFlow
X-ORIGINAL-URL:https://www.jentlflow.at
X-WR-CALDESC:Veranstaltungen für JentlFlow
REFRESH-INTERVAL;VALUE=DURATION:PT1H
X-Robots-Tag:noindex
X-PUBLISHED-TTL:PT1H
BEGIN:VTIMEZONE
TZID:Europe/Vienna
BEGIN:DAYLIGHT
TZOFFSETFROM:+0100
TZOFFSETTO:+0200
TZNAME:CEST
DTSTART:20190331T010000
END:DAYLIGHT
BEGIN:STANDARD
TZOFFSETFROM:+0200
TZOFFSETTO:+0100
TZNAME:CET
DTSTART:20191027T010000
END:STANDARD
BEGIN:DAYLIGHT
TZOFFSETFROM:+0100
TZOFFSETTO:+0200
TZNAME:CEST
DTSTART:20200329T010000
END:DAYLIGHT
BEGIN:STANDARD
TZOFFSETFROM:+0200
TZOFFSETTO:+0100
TZNAME:CET
DTSTART:20201025T010000
END:STANDARD
BEGIN:DAYLIGHT
TZOFFSETFROM:+0100
TZOFFSETTO:+0200
TZNAME:CEST
DTSTART:20210328T010000
END:DAYLIGHT
BEGIN:STANDARD
TZOFFSETFROM:+0200
TZOFFSETTO:+0100
TZNAME:CET
DTSTART:20211031T010000
END:STANDARD
END:VTIMEZONE
BEGIN:VEVENT
DTSTART;TZID=Europe/Vienna:20201010T100000
DTEND;TZID=Europe/Vienna:20201010T170000
DTSTAMP:20260423T013535
CREATED:20200915T073913Z
LAST-MODIFIED:20201005T115409Z
UID:5927-1602324000-1602349200@www.jentlflow.at
SUMMARY:Adventurebike Tagestour Slowenien Training Pro
DESCRIPTION:>> geschlossene Gruppe Karl Heinz P. << \n \nNur 45 Minuten südlich von Graz oder süd-östlich von Klagenfurt bietet ein riesiges Schotterstaßennetz Offroadfahrspaß ohne Ende. Für die ersten Versuche auf Schotter mit dem Adventurebike eigenen sich die Tagestouren in Slowenien perfekt. Auf den leichten Schotterstraßen gewinnt man mit der richtigen Fahrtechnik schnell Vertrauen. Aber auch schnellere Adventurebike Piloten nützen die Tagestouren um an Ihrer Technik zu feilen. Ideal um an Stehposition und Kurventechnik zu arbeiten. \nAdventurebike Training PRO\nHier geht es in erster Linie um Fahrtechnik. Dazu machen wir am Übungsgelände das Motorradsetup und Techniktraining. Danach geht es auf eine Schotterrunde nach Slowenien; inkl. Videoanalyse vom Ridingcoach. Dieses Training bringt Dich garantiert einen Fahrlevel weiter nach oben. \n\nFahrlevel\nDein Training gestaltet sich nach Deinen bisherigen Offroaderfahrungen und Deinem Fahrkönnen. Wir haben 3 Trainingslevels. \n\nLevel 1 Offroad Beginner: Für Deine ersten Offroaderfahrungen möchtest Du die Basics lernen.\nLevel 2 Offroad Advanced Rider: Du beherrscht die Offroad Basics und willst besser werden.\nLevel 3 Offroad Expert Rider: Als erfahrener Offroad Biker geht es Dir um den Feinschliff.\n\nDie Teilnehmerzahl ist auf maximal 3 Biker begrenzt um eine gute Betreuung zu gewährleisten. Mindestteilnehmerzahl sind 2 Personen. Bei Schlechtwetter verschieben wir.\nAlternative Termine\, auch unter der Woche\, sind gerne auch möglich\, ebenso Mehrtagestrainings. Einfach anfragen. \nPreis: vereinbarter Gruppenpreis\n 
URL:https://www.jentlflow.at/event/adventurebike-tagestour-slowenien-training-pro-10-10-2020/
LOCATION:Eibiswald Socar Tankstelle\, Eibiswald 242a\, Eibiswald\, Steiermark\, 8552\, Österreich
ORGANIZER;CN="JentlFlow":MAILTO:jentl@jeneweinflow.at
END:VEVENT
BEGIN:VEVENT
DTSTART;TZID=Europe/Vienna:20201017T100000
DTEND;TZID=Europe/Vienna:20201017T160000
DTSTAMP:20260423T013535
CREATED:20200926T085924Z
LAST-MODIFIED:20201011T093425Z
UID:5958-1602928800-1602950400@www.jentlflow.at
SUMMARY:Enduro Einsteigertraining Plus
DESCRIPTION:>> Termin abgesagt\, das Training findet im Frühjahr 2021 statt\, Info folgt  <<\nSpeziell für Enduro Einsteiger und Hobbyfahrer (Erwachsene) ist dieses Training am Offroadgelände Motocross und Enduro Nagycenk ideal. Mit den richtigen Techniken ist man sowohl auf der Motocross-Strecke als auch auf der Endurorunde gleich schneller und sicherer unterwegs. Auf- und Abfahrten und das Überwinden von kleineren Hindernissen fällt ebenfalls schnell leichter. \nDas Plus: Leihbikeoption\nDas besondere an diesem Training ist die Möglichkeit sich ein Motocross- oder Endurobike (inkl. Ausrüstung) auszuleihen. Motocross Verleih Zwetti ist mit 20 Bikes vor Ort und macht uns für dieses Training einen Sonderpreis von Euro 190\,- (statt 220\,-).  Hier der Link zu den Leihbikes. So können z.B Adventurebikefahrer Offroadtechniken mit einem leichten Motorrad trainieren und dann am großen Bike umsetzten. Oder Offroadbeginner gleich mit der richtigen Technik starten. \nTrainingsinhalte Enduro Einsteigertraining:\n\nMotorrad-Setup\nSteh- und Sitzposition\nKurventechnik\nRichtig bremsen/beschleunigen\nAuf- und Abfahrten\nBlicktechnik/Ideallinie\nÜberwinden von kleineren Hindernissen\n\n\n  \nZirka eine 2 Stunden östlich von Graz oder eine Stunde 15 südlich von Wien liegt das Offroadgelände Motocross und Enduro Nagycenk. Hier gibt es vielfältige Möglichkeiten für Offroader. Von verschiedenen Motocross Strecken\, einer große Endurorunde mit vielen Optionen bis hin zum Trailparcour ist alles vorhanden. Das Besondere ist\, das es viele Streckenabschnitte gibt\, die sich ideal für Einsteiger und zum Üben eignen. Über Streckenbeschaffenheit und genaue Öffnungszeiten informiert die Facebookseite Motocross und Enduro Nagycenk. \nInfo\n\nTraining ideal für Einsteiger und Hobbyfahrer (Erwachsene)\nEigenes Motorrad (Hardenduro oder Motocross) oder Leihbikeoption\nTrainingszeit 10:00-16:00\nBei Schlechtwetter verschieben wir\nAlternativer Termin/Einzeltraining jederzeit möglich; bitte anfragen\nLeihbike und Streckengebühr im Preis nicht inbegriffen\nBegrenzte Teilnehmerzahl: maximal 6 Personen\nMindestteilnehmerzahl: 4 Personen\nTeilnahme auf eigene Gefahr: >> Teilnahmebedingungen\n\nPreis: 99\,-\nTraining Info: Michael Jentl\, Tel: 00436643915363\, e-mail: jentl@jeneweinflow.at \nLeihbike Info: Oliver Zwetti\, Tel: 00436646526080 e-mail: info@motocross-verleih.at \nAnmeldung\nFehler: Kontaktformular wurde nicht gefunden.
URL:https://www.jentlflow.at/event/enduro-einsteigertraining-plus-17-10-2020/
LOCATION:Steiermark
CATEGORIES:Endurotraining
ORGANIZER;CN="JentlFlow":MAILTO:jentl@jeneweinflow.at
END:VEVENT
BEGIN:VEVENT
DTSTART;TZID=Europe/Vienna:20201024T100000
DTEND;TZID=Europe/Vienna:20201024T170000
DTSTAMP:20260423T013535
CREATED:20201005T083614Z
LAST-MODIFIED:20201005T125012Z
UID:6011-1603533600-1603558800@www.jentlflow.at
SUMMARY:Adventurebike Tagestour Slowenien Training Pro
DESCRIPTION:>> geschlossene Gruppe Thomas J. <<    \nNur 45 Minuten südlich von Graz oder süd-östlich von Klagenfurt bietet ein riesiges Schotterstaßennetz Offroadfahrspaß ohne Ende. Für die ersten Versuche auf Schotter mit dem Adventurebike eigenen sich die Tagestouren in Slowenien perfekt. Auf den leichten Schotterstraßen gewinnt man mit der richtigen Fahrtechnik schnell Vertrauen. Aber auch schnellere Adventurebike Piloten nützen die Tagestouren um an Ihrer Technik zu feilen. Ideal um an Stehposition und Kurventechnik zu arbeiten. \nAdventurebike Training PRO\nHier geht es in erster Linie um Fahrtechnik. Dazu machen wir am Übungsgelände das Motorradsetup und Techniktraining. Danach geht es auf eine Schotterrunde nach Slowenien; inkl. Videoanalyse vom Ridingcoach. Dieses Training bringt Dich garantiert einen Fahrlevel weiter nach oben. \n\nFahrlevel\nDein Training gestaltet sich nach Deinen bisherigen Offroaderfahrungen und Deinem Fahrkönnen. Wir haben 3 Trainingslevels. \n\nLevel 1 Offroad Beginner: Für Deine ersten Offroaderfahrungen möchtest Du die Basics lernen.\nLevel 2 Offroad Advanced Rider: Du beherrscht die Offroad Basics und willst besser werden.\nLevel 3 Offroad Expert Rider: Als erfahrener Offroad Biker geht es Dir um den Feinschliff.\n\nDie Teilnehmerzahl ist auf maximal 3 Biker begrenzt um eine gute Betreuung zu gewährleisten. Mindestteilnehmerzahl sind 2 Personen. Bei Schlechtwetter verschieben wir.\nAlternative Termine\, auch unter der Woche\, sind gerne auch möglich\, ebenso Mehrtagestrainings. Einfach anfragen. \nPreis: wie vereinbart\nAnmeldung\n\n\n  \n\n\n\nVor-Nachname \nEmail \nStrasse \nPostleitzahl \nOrt \nTelefon \nGeburtsjahr \nMotorrad \nAnmerkungen \n \nMein Fahrlevel - bitte auswählen:\n \n\n	Nach unten scrollen und Fahrlevel wählenOffroad BeginnerOffroad Advanced RiderOffroad Expert Rider\nTermin bitte auswählen:\nNach unten scrollen und Tour wählen15.April Adventurebike Guiding Plus Level 217.April Adventurebike Schöckl Warm Up Offroad Basics19.April Adventurebike Guiding Plus Level 224.April Adventurebike Schöckl Warm Up Offroad Basics26.April Adventurebike Guiding Plus Level 2 Technik10.Mai Adventurebike Training Pro Offroad Basics21. Mai Adventurebike Training Pro Stefan M.29.Mai Adventurebike Guiding Plus Level 2 Driften12.Juni Adventurebike Guiding Plus Offroad Basics20.Juni Adventurebike Guiding Plus Level 2 Stefan J.25.Juni Adventurebike Training Pro Stefan M.11.July Rallyfahrtechniktraining Kupres12.July Rallyfahrtechniktraining Kupres\n	 \n\n Ich melde mich verbindlich für die Tour an.\n \n Ich stimme den Teilnahmebedingungen/AGB zu.\n-> Link zu den Teilnahmebedingungen\n \nIch habe die Datenschutzerklärung zur Kenntnis genommen und akzeptiert. Ich stimme zu\, dass meine Formularangaben zur Kontaktaufnahme bzw. zur Bearbeitung meines Anliegens gespeichert werden.\n-> Link zur Datenschutzerklärung\n \n\n \nFalls nach der Anmeldung keine Antwort kommt bitte SPAM-Ordner prüfen.\n ×
URL:https://www.jentlflow.at/event/adventurebike-tagestour-slowenien-training-pro-24-10-2020/
LOCATION:Eibiswald Socar Tankstelle\, Eibiswald 242a\, Eibiswald\, Steiermark\, 8552\, Österreich
ORGANIZER;CN="JentlFlow":MAILTO:jentl@jeneweinflow.at
END:VEVENT
BEGIN:VEVENT
DTSTART;TZID=Europe/Vienna:20201025T090000
DTEND;TZID=Europe/Vienna:20201025T170000
DTSTAMP:20260423T013535
CREATED:20200805T124001Z
LAST-MODIFIED:20201014T072333Z
UID:5659-1603616400-1603645200@www.jentlflow.at
SUMMARY:Adventurebike Tagestour Slowenien Training Pro
DESCRIPTION:>> ein Restplatz frei <<   Achtung Winterzeitumstellung\n \nNur 45 Minuten südlich von Graz oder süd-östlich von Klagenfurt bietet ein riesiges Schotterstaßennetz Offroadfahrspaß ohne Ende. Für die ersten Versuche auf Schotter mit dem Adventurebike eigenen sich die Tagestouren in Slowenien perfekt. Auf den leichten Schotterstraßen gewinnt man mit der richtigen Fahrtechnik schnell Vertrauen. Aber auch schnellere Adventurebike Piloten nützen die Tagestouren um an Ihrer Technik zu feilen. Ideal um an Stehposition und Kurventechnik zu arbeiten. \nAdventurebike Training PRO\nHier geht es in erster Linie um Fahrtechnik. Dazu machen wir am Übungsgelände das Motorradsetup und Techniktraining. Danach geht es auf eine Schotterrunde nach Slowenien; inkl. Videoanalyse vom Ridingcoach. Dieses Training bringt Dich garantiert einen Fahrlevel weiter nach oben. \n\nFahrlevel\nDein Training gestaltet sich nach Deinen bisherigen Offroaderfahrungen und Deinem Fahrkönnen. Wir haben 3 Trainingslevels. \n\nLevel 1 Offroad Beginner: Für Deine ersten Offroaderfahrungen möchtest Du die Basics lernen.\nLevel 2 Offroad Advanced Rider: Du beherrscht die Offroad Basics und willst besser werden.\nLevel 3 Offroad Expert Rider: Als erfahrener Offroad Biker geht es Dir um den Feinschliff.\n\nDie Teilnehmerzahl ist auf maximal 3 Biker begrenzt um eine gute Betreuung zu gewährleisten. Mindestteilnehmerzahl sind 2 Personen. Bei Schlechtwetter verschieben wir.\nAlternative Termine\, auch unter der Woche\, sind gerne auch möglich\, ebenso Mehrtagestrainings. Einfach anfragen. \nPreis: 169\,-\nAnmeldung\n\n\n  \n\n\n\nVor-Nachname \nEmail \nStrasse \nPostleitzahl \nOrt \nTelefon \nGeburtsjahr \nMotorrad \nAnmerkungen \n \nMein Fahrlevel - bitte auswählen:\n \n\n	Nach unten scrollen und Fahrlevel wählenOffroad BeginnerOffroad Advanced RiderOffroad Expert Rider\nTermin bitte auswählen:\nNach unten scrollen und Tour wählen15.April Adventurebike Guiding Plus Level 217.April Adventurebike Schöckl Warm Up Offroad Basics19.April Adventurebike Guiding Plus Level 224.April Adventurebike Schöckl Warm Up Offroad Basics26.April Adventurebike Guiding Plus Level 2 Technik10.Mai Adventurebike Training Pro Offroad Basics21. Mai Adventurebike Training Pro Stefan M.29.Mai Adventurebike Guiding Plus Level 2 Driften12.Juni Adventurebike Guiding Plus Offroad Basics20.Juni Adventurebike Guiding Plus Level 2 Stefan J.25.Juni Adventurebike Training Pro Stefan M.11.July Rallyfahrtechniktraining Kupres12.July Rallyfahrtechniktraining Kupres\n	 \n\n Ich melde mich verbindlich für die Tour an.\n \n Ich stimme den Teilnahmebedingungen/AGB zu.\n-> Link zu den Teilnahmebedingungen\n \nIch habe die Datenschutzerklärung zur Kenntnis genommen und akzeptiert. Ich stimme zu\, dass meine Formularangaben zur Kontaktaufnahme bzw. zur Bearbeitung meines Anliegens gespeichert werden.\n-> Link zur Datenschutzerklärung\n \n\n \nFalls nach der Anmeldung keine Antwort kommt bitte SPAM-Ordner prüfen.\n ×
URL:https://www.jentlflow.at/event/adventurebike-tagestour-slowenien-training-pro-25-10-2020/
LOCATION:Eibiswald Socar Tankstelle\, Eibiswald 242a\, Eibiswald\, Steiermark\, 8552\, Österreich
ORGANIZER;CN="JentlFlow":MAILTO:jentl@jeneweinflow.at
END:VEVENT
END:VCALENDAR