BEGIN:VCALENDAR
VERSION:2.0
PRODID:-//JentlFlow - ECPv6.15.20//NONSGML v1.0//EN
CALSCALE:GREGORIAN
METHOD:PUBLISH
X-WR-CALNAME:JentlFlow
X-ORIGINAL-URL:https://www.jentlflow.at
X-WR-CALDESC:Veranstaltungen für JentlFlow
REFRESH-INTERVAL;VALUE=DURATION:PT1H
X-Robots-Tag:noindex
X-PUBLISHED-TTL:PT1H
BEGIN:VTIMEZONE
TZID:Europe/Vienna
BEGIN:DAYLIGHT
TZOFFSETFROM:+0100
TZOFFSETTO:+0200
TZNAME:CEST
DTSTART:20190331T010000
END:DAYLIGHT
BEGIN:STANDARD
TZOFFSETFROM:+0200
TZOFFSETTO:+0100
TZNAME:CET
DTSTART:20191027T010000
END:STANDARD
BEGIN:DAYLIGHT
TZOFFSETFROM:+0100
TZOFFSETTO:+0200
TZNAME:CEST
DTSTART:20200329T010000
END:DAYLIGHT
BEGIN:STANDARD
TZOFFSETFROM:+0200
TZOFFSETTO:+0100
TZNAME:CET
DTSTART:20201025T010000
END:STANDARD
BEGIN:DAYLIGHT
TZOFFSETFROM:+0100
TZOFFSETTO:+0200
TZNAME:CEST
DTSTART:20210328T010000
END:DAYLIGHT
BEGIN:STANDARD
TZOFFSETFROM:+0200
TZOFFSETTO:+0100
TZNAME:CET
DTSTART:20211031T010000
END:STANDARD
END:VTIMEZONE
BEGIN:VEVENT
DTSTART;TZID=Europe/Vienna:20200802T100000
DTEND;TZID=Europe/Vienna:20200802T180000
DTSTAMP:20260423T043648
CREATED:20200626T142134Z
LAST-MODIFIED:20200720T091917Z
UID:5381-1596362400-1596391200@www.jentlflow.at
SUMMARY:Adventurebike Tagestour Slowenien Training Pro
DESCRIPTION:>> nur mehr 2 Plätze frei << \n \nNur 45 Minuten südlich von Graz oder süd-östlich von Klagenfurt bietet ein riesiges Schotterstaßennetz Offroadfahrspaß ohne Ende. Für die ersten Versuche auf Schotter mit dem Adventurebike eigenen sich die Tagestouren in Slowenien perfekt. Auf den leichten Schotterstraßen gewinnt man mit der richtigen Fahrtechnik schnell Vertrauen. Aber auch schnellere Adventurebike Piloten nützen die Tagestouren um an Ihrer Technik zu feilen. Ideal um an Stehposition und Kurventechnik zu arbeiten. \nAdventurebike Training PRO\nHier geht es in erster Linie um Fahrtechnik. Dazu machen wir am Übungsgelände das Motorradsetup und Techniktraining. Danach geht es auf eine Schotterrunde nach Slowenien; inkl. Videoanalyse vom Ridingcoach. Dieses Training bringt Dich garantiert einen Fahrlevel weiter nach oben. \nFahrlevel\nDein Training gestaltet sich nach Deinen bisherigen Offroaderfahrungen und Deinem Fahrkönnen. Wir haben 3 Trainingslevels. \n\nLevel 1 Offroad Beginner: Für Deine ersten Offroaderfahrungen möchtest Du die Basics lernen.\nLevel 2 Offroad Advanced Rider: Du beherrscht die Offroad Basics und willst besser werden.\nLevel 3 Offroad Expert Rider: Als erfahrener Offroad Biker geht es Dir um den Feinschliff.\n\nDie Teilnehmerzahl ist auf maximal 3 Biker begrenzt um eine gute Betreuung zu gewährleisten. Mindestteilnehmerzahl sind 2 Personen. Bei Schlechtwetter verschieben wir.\nAlternative Termine\, auch unter der Woche\, sind gerne auch möglich\, ebenso Mehrtagestrainings. Einfach anfragen. \nPreis: 169\,-\nAnmeldung\n\n\n  \n\n\n\nVor-Nachname \nEmail \nStrasse \nPostleitzahl \nOrt \nTelefon \nGeburtsjahr \nMotorrad \nAnmerkungen \n \nMein Fahrlevel - bitte auswählen:\n \n\n	Nach unten scrollen und Fahrlevel wählenOffroad BeginnerOffroad Advanced RiderOffroad Expert Rider\nTermin bitte auswählen:\nNach unten scrollen und Tour wählen15.April Adventurebike Guiding Plus Level 217.April Adventurebike Schöckl Warm Up Offroad Basics19.April Adventurebike Guiding Plus Level 224.April Adventurebike Schöckl Warm Up Offroad Basics26.April Adventurebike Guiding Plus Level 2 Technik10.Mai Adventurebike Training Pro Offroad Basics21. Mai Adventurebike Training Pro Stefan M.29.Mai Adventurebike Guiding Plus Level 2 Driften12.Juni Adventurebike Guiding Plus Offroad Basics20.Juni Adventurebike Guiding Plus Level 2 Stefan J.25.Juni Adventurebike Training Pro Stefan M.11.July Rallyfahrtechniktraining Kupres12.July Rallyfahrtechniktraining Kupres\n	 \n\n Ich melde mich verbindlich für die Tour an.\n \n Ich stimme den Teilnahmebedingungen/AGB zu.\n-> Link zu den Teilnahmebedingungen\n \nIch habe die Datenschutzerklärung zur Kenntnis genommen und akzeptiert. Ich stimme zu\, dass meine Formularangaben zur Kontaktaufnahme bzw. zur Bearbeitung meines Anliegens gespeichert werden.\n-> Link zur Datenschutzerklärung\n \n\n \nFalls nach der Anmeldung keine Antwort kommt bitte SPAM-Ordner prüfen.\n ×
URL:https://www.jentlflow.at/event/adventurebike-tagestour-slowenien-training-pro-2-8-2020/
LOCATION:Eibiswald Socar Tankstelle\, Eibiswald 242a\, Eibiswald\, Steiermark\, 8552\, Österreich
ORGANIZER;CN="JentlFlow":MAILTO:jentl@jeneweinflow.at
END:VEVENT
BEGIN:VEVENT
DTSTART;TZID=Europe/Vienna:20200808T100000
DTEND;TZID=Europe/Vienna:20200808T180000
DTSTAMP:20260423T043648
CREATED:20200716T120129Z
LAST-MODIFIED:20200716T120129Z
UID:5505-1596880800-1596909600@www.jentlflow.at
SUMMARY:Adventurebike Tagestour Slowenien Guiding Plus
DESCRIPTION:>> 4 Plätze frei << \n \nNur 45 Minuten südlich von Graz oder süd-östlich von Klagenfurt bietet ein riesiges Schotterstaßennetz Offroadfahrspaß ohne Ende. Für die ersten Versuche auf Schotter mit dem Adventurebike eigenen sich die Tagestouren in Slowenien perfekt. Auf den leichten Schotterstraßen gewinnt man mit der richtigen Fahrtechnik schnell Vertrauen. Aber auch schnellere Adventurebike Piloten nützen die Tagestouren um an Ihrer Technik zu feilen. Ideal um an Stehposition und Kurventechnik zu arbeiten. \nAdventurebike Guiding Plus\nBei dieser Tour liegt der Schwerpunkt auf Guiding durch das wunderschöne Hügelland hinter der österreichischen Grenze. Das Fahrerlebnis steht hier im Vordergrund. In den Pausen gibt es Setup- und Fahrtechniktipps vom Ridingcoach. Alternativ gibt es das Adventurebike Training Pro mit Fokus auf Fahrtechnik an anderen Terminen. Mehr dazu auf der Seite Offroad Fahrtraining. \nFahrlevel\nDas Guiding gestaltet sich nach Deinen bisherigen Offroaderfahrungen und Deinem Fahrkönnen. Wir haben 3 Trainingslevels. \n\nLevel 1 Offroad Beginner: Für Deine ersten Offroaderfahrungen möchtest Du die Basics lernen.\nLevel 2 Offroad Advanced Rider: Du beherrscht die Offroad Basics und willst besser werden.\nLevel 3 Offroad Expert Rider: Als erfahrener Offroad Biker geht es Dir um den Feinschliff.\n\nDie Teilnehmerzahl ist auf maximal 4 Biker begrenzt um eine gute Betreuung zu gewährleisten. Mindestteilnehmerzahl sind 2 Personen. Bei Schlechtwetter verschieben wir.\nAlternative Termine\, auch unter der Woche\, sind gerne auch möglich\, ebenso Mehrtagestrainings. Einfach anfragen. \nPreis: 129\,-\nAnmeldung\n\n\n  \n\n\n\nVor-Nachname \nEmail \nStrasse \nPostleitzahl \nOrt \nTelefon \nGeburtsjahr \nMotorrad \nAnmerkungen \n \nMein Fahrlevel - bitte auswählen:\n \n\n	Nach unten scrollen und Fahrlevel wählenOffroad BeginnerOffroad Advanced RiderOffroad Expert Rider\nTermin bitte auswählen:\nNach unten scrollen und Tour wählen15.April Adventurebike Guiding Plus Level 217.April Adventurebike Schöckl Warm Up Offroad Basics19.April Adventurebike Guiding Plus Level 224.April Adventurebike Schöckl Warm Up Offroad Basics26.April Adventurebike Guiding Plus Level 2 Technik10.Mai Adventurebike Training Pro Offroad Basics21. Mai Adventurebike Training Pro Stefan M.29.Mai Adventurebike Guiding Plus Level 2 Driften12.Juni Adventurebike Guiding Plus Offroad Basics20.Juni Adventurebike Guiding Plus Level 2 Stefan J.25.Juni Adventurebike Training Pro Stefan M.11.July Rallyfahrtechniktraining Kupres12.July Rallyfahrtechniktraining Kupres\n	 \n\n Ich melde mich verbindlich für die Tour an.\n \n Ich stimme den Teilnahmebedingungen/AGB zu.\n-> Link zu den Teilnahmebedingungen\n \nIch habe die Datenschutzerklärung zur Kenntnis genommen und akzeptiert. Ich stimme zu\, dass meine Formularangaben zur Kontaktaufnahme bzw. zur Bearbeitung meines Anliegens gespeichert werden.\n-> Link zur Datenschutzerklärung\n \n\n \nFalls nach der Anmeldung keine Antwort kommt bitte SPAM-Ordner prüfen.\n ×
URL:https://www.jentlflow.at/event/adventurebike-tagestour-slowenien-guiding-plus-8-8-2020/
LOCATION:Eibiswald Socar Tankstelle\, Eibiswald 242a\, Eibiswald\, Steiermark\, 8552\, Österreich
ORGANIZER;CN="JentlFlow":MAILTO:jentl@jeneweinflow.at
END:VEVENT
BEGIN:VEVENT
DTSTART;VALUE=DATE:20200814
DTEND;VALUE=DATE:20200817
DTSTAMP:20260423T043649
CREATED:20200626T175512Z
LAST-MODIFIED:20200803T110225Z
UID:5395-1597363200-1597622399@www.jentlflow.at
SUMMARY:3 Tage TET Experience Postojna
DESCRIPTION:Nur mehr 2 Plätze frei! \nDer Trans European Trail (TET) hat für Offroader einen besonderen Reiz. Der Trail zieht sich durch ganz Europa. Jedes Land hat einen „Linesman“\, der den GPS Track auf legalen Wegen durch sein Land legt. Die Tracks sind frei zum Download. Aufs Navi gespielt und es kann losgehen. Vorwiegend Offroad\, aber auch viele Asphaltpassagen\, mit viel Schotter und mit durchwegs auch heftigen Passagen. Vor allen wenn es nass ist und das Bike schwer…. \nTET light\nHardgesottene Abenteurer fahren den TET natürlich mit dem vollen Equipment\, mit Zelt und allen was dazugehört. Wir sehen das eher von der sportlichen Seite\, wollen mit möglichst wenig Gepäck fahren. Also mit Übernachtung in Pensionen. Im Fall des TET Slowenien kann man in Postojna Quartier beziehen und von dort 2x in den TET einsteigen. So ist man nur mit Tagesgepäck unterwegs. Den Asphaltteil nördlich von Ajdovcina lässt man einfach weg. \n\n3 Tage TET Experience Postojna\nZusammen mit JentlFlow besteht die Möglichkeit von Postojna aus 3 Tage Offroad zu fahren. Eine 150km 100% Offroadschleife am ersten Tag als Warm up und dann 2 Einstiege in den TET Slovenien. In der richtigen Richtung gefahren machen die Enduropassagen gleich mehr Spaß und sind vor allem fahrbar. Am zweiten Tag die TET Schleife mit Meerblick nach Triest\, das sind satte 300km mit unterschiedlichsten Landschaften und tollen Geländepassagen. Am letzten Tag geht es dann über Schotterstraßen nach Süden und über den TET zurück nach Postojna. Ca. 200km über herrliche Hochebenen. \n \nInfo\n\nZeitplan:\nFreitag 14.8.: Anreise\, Tourstart 14:00\, 150km Warmup um Postojna 100% offroad\nSamstag 15.8.: Große TET Schleife bis Triest\, ca 300km\nSonntag 16.8.: Südrunde und TET retour nach Postojna. Ca 200km\, Heimreise\nFahrlevel: Advanced Rider – Expert Rider\nQuartier: Es gibt viele Möglichkeiten zur Wahl in und um Postojna\nBegrenzte Teilnehmerzahl: maximal 4 Personen\nTeilnahme auf eigene Gefahr: >> Teilnahmebedingungen\n\nPreis: 149\,-\nMichael Jentl\, Tel: 00436643915363\, e-mail: jentl@jeneweinflow.at \nAnmeldung\n\n\n  \n\n\n\nVor-Nachname \nEmail  \nStraße \nPostleitzahl \nOrt  \nTelefon \nGeburtsjahr \nMotorrad \nAnmerkungen \nMein Fahrlevel - bitte auswählen:\n \n\n	Nach unten scrollen und Fahrlevel wählenOffroad BeginnerOffroad Advanced RiderOffroad Expert Rider\nTour bitte auswählen:\nNach unten scrollen und Tour wählen21-22.April Adventurebike Guidining Plus Rene D.28.Apr-1.Mai Rallyfahrtechniktraining Gospic 11-4.Mai Rallyfahrtechniktraining Gospic 26-7.Mai Adventurebike Guiding Plus Level 2 Pro Patricia K12-15.Mai Rallyfahrtechniktraining Gospic 315-18.Mai Rallyfahrtechniktraining Gospic 424-25.Mai Adventurebike Training Pro Offroad Basics31.Mai-1.Juni Adventurebike Training Pro Offroad Basics5-8.Juni Rallyfahrtechniktraining Gospic 528-29.Juni Adventurebike Training Pro Offroad Basics14-15.Juni Adventurebike Guiding Plus Level 2 Technik5-6.Juli Adventurebike Guiding Plus Level 2 Driften26-27.Juli Adventurebike Training Pro Offroad Basics7-10.Aug Adventurebike Advanced Tour Rakek26-30.Aug Westalpen Adventurebike Explor Week1-5.Sept Westalpen Adventurebike Enjoy Week7-11.Sept Westalpen Adventurebike Fast Week19-20.Sept Adventurebike Guiding Plus Gery S.26-28.Sep Adventurebike Training Pro Ronald N.2-5.Okt 4-Tage Adventurebike Kroatientour Gospic\n	 \n\n Ich melde mich verbindlich für die Tour an.\n \n Ich stimme den Teilnahmebedingungen/AGB zu.\n-> Link zu den Teilnahmebedingungen\n \nIch habe die Datenschutzerklärung zur Kenntnis genommen und akzeptiert. Ich stimme zu\, dass meine Formularangaben zur Kontaktaufnahme bzw. zur Bearbeitung meines Anliegens gespeichert werden.\n-> Link zur Datenschutzerklärung\n \n\n \nFalls nach der Anmeldung keine Antwort kommt bitte SPAM-Ordner prüfen.\n ×\n\n\n\n 
URL:https://www.jentlflow.at/event/3-tage-tet-experience-postojna-august-2020/
LOCATION:Steiermark
ORGANIZER;CN="JentlFlow":MAILTO:jentl@jeneweinflow.at
END:VEVENT
BEGIN:VEVENT
DTSTART;TZID=Europe/Vienna:20200823T100000
DTEND;TZID=Europe/Vienna:20200823T180000
DTSTAMP:20260423T043649
CREATED:20200716T121044Z
LAST-MODIFIED:20200811T144836Z
UID:5507-1598176800-1598205600@www.jentlflow.at
SUMMARY:Adventurebike Tagestour Slowenien Training Pro
DESCRIPTION:>> nur mehr 2 Plätze frei <<  Bitte nur Level 2 Offroad Advanced Rider: Du beherrscht die Offroad Basics und willst besser werden. \nNur 45 Minuten südlich von Graz oder süd-östlich von Klagenfurt bietet ein riesiges Schotterstaßennetz Offroadfahrspaß ohne Ende. Für die ersten Versuche auf Schotter mit dem Adventurebike eigenen sich die Tagestouren in Slowenien perfekt. Auf den leichten Schotterstraßen gewinnt man mit der richtigen Fahrtechnik schnell Vertrauen. Aber auch schnellere Adventurebike Piloten nützen die Tagestouren um an Ihrer Technik zu feilen. Ideal um an Stehposition und Kurventechnik zu arbeiten. \nAdventurebike Training PRO\nHier geht es in erster Linie um Fahrtechnik. Dazu machen wir am Übungsgelände das Motorradsetup und Techniktraining. Danach geht es auf eine Schotterrunde nach Slowenien; inkl. Videoanalyse vom Ridingcoach. Dieses Training bringt Dich garantiert einen Fahrlevel weiter nach oben. \nFahrlevel\nDein Training gestaltet sich nach Deinen bisherigen Offroaderfahrungen und Deinem Fahrkönnen. Wir haben 3 Trainingslevels. \n\nLevel 1 Offroad Beginner: Für Deine ersten Offroaderfahrungen möchtest Du die Basics lernen.\nLevel 2 Offroad Advanced Rider: Du beherrscht die Offroad Basics und willst besser werden.\nLevel 3 Offroad Expert Rider: Als erfahrener Offroad Biker geht es Dir um den Feinschliff.\n\nDie Teilnehmerzahl ist auf maximal 3 Biker begrenzt um eine gute Betreuung zu gewährleisten. Mindestteilnehmerzahl sind 2 Personen. Bei Schlechtwetter verschieben wir.\nAlternative Termine\, auch unter der Woche\, sind gerne auch möglich\, ebenso Mehrtagestrainings. Einfach anfragen. \nPreis: 169\,-\nAnmeldung\n\n\n  \n\n\n\nVor-Nachname \nEmail \nStrasse \nPostleitzahl \nOrt \nTelefon \nGeburtsjahr \nMotorrad \nAnmerkungen \n \nMein Fahrlevel - bitte auswählen:\n \n\n	Nach unten scrollen und Fahrlevel wählenOffroad BeginnerOffroad Advanced RiderOffroad Expert Rider\nTermin bitte auswählen:\nNach unten scrollen und Tour wählen15.April Adventurebike Guiding Plus Level 217.April Adventurebike Schöckl Warm Up Offroad Basics19.April Adventurebike Guiding Plus Level 224.April Adventurebike Schöckl Warm Up Offroad Basics26.April Adventurebike Guiding Plus Level 2 Technik10.Mai Adventurebike Training Pro Offroad Basics21. Mai Adventurebike Training Pro Stefan M.29.Mai Adventurebike Guiding Plus Level 2 Driften12.Juni Adventurebike Guiding Plus Offroad Basics20.Juni Adventurebike Guiding Plus Level 2 Stefan J.25.Juni Adventurebike Training Pro Stefan M.11.July Rallyfahrtechniktraining Kupres12.July Rallyfahrtechniktraining Kupres\n	 \n\n Ich melde mich verbindlich für die Tour an.\n \n Ich stimme den Teilnahmebedingungen/AGB zu.\n-> Link zu den Teilnahmebedingungen\n \nIch habe die Datenschutzerklärung zur Kenntnis genommen und akzeptiert. Ich stimme zu\, dass meine Formularangaben zur Kontaktaufnahme bzw. zur Bearbeitung meines Anliegens gespeichert werden.\n-> Link zur Datenschutzerklärung\n \n\n \nFalls nach der Anmeldung keine Antwort kommt bitte SPAM-Ordner prüfen.\n ×
URL:https://www.jentlflow.at/event/adventurebike-tagestour-slowenien-training-pro-23-8-2020/
LOCATION:Eibiswald Socar Tankstelle\, Eibiswald 242a\, Eibiswald\, Steiermark\, 8552\, Österreich
ORGANIZER;CN="JentlFlow":MAILTO:jentl@jeneweinflow.at
END:VEVENT
BEGIN:VEVENT
DTSTART;TZID=Europe/Vienna:20200828T100000
DTEND;TZID=Europe/Vienna:20200828T170000
DTSTAMP:20260423T043649
CREATED:20200824T160334Z
LAST-MODIFIED:20200824T160334Z
UID:5687-1598608800-1598634000@www.jentlflow.at
SUMMARY:Adventurebike Tagestour Slowenien Guiding Plus
DESCRIPTION:>> 4 Plätze frei << \n \nNur 45 Minuten südlich von Graz oder süd-östlich von Klagenfurt bietet ein riesiges Schotterstaßennetz Offroadfahrspaß ohne Ende. Für die ersten Versuche auf Schotter mit dem Adventurebike eigenen sich die Tagestouren in Slowenien perfekt. Auf den leichten Schotterstraßen gewinnt man mit der richtigen Fahrtechnik schnell Vertrauen. Aber auch schnellere Adventurebike Piloten nützen die Tagestouren um an Ihrer Technik zu feilen. Ideal um an Stehposition und Kurventechnik zu arbeiten. \nAdventurebike Guiding Plus\nBei dieser Tour liegt der Schwerpunkt auf Guiding durch das wunderschöne Hügelland hinter der österreichischen Grenze. Das Fahrerlebnis steht hier im Vordergrund. In den Pausen gibt es Setup- und Fahrtechniktipps vom Ridingcoach. Alternativ gibt es das Adventurebike Training Pro mit Fokus auf Fahrtechnik an anderen Terminen. Mehr dazu auf der Seite Offroad Fahrtraining. \nFahrlevel\nDas Guiding gestaltet sich nach Deinen bisherigen Offroaderfahrungen und Deinem Fahrkönnen. Wir haben 3 Trainingslevels. \n\nLevel 1 Offroad Beginner: Für Deine ersten Offroaderfahrungen möchtest Du die Basics lernen.\nLevel 2 Offroad Advanced Rider: Du beherrscht die Offroad Basics und willst besser werden.\nLevel 3 Offroad Expert Rider: Als erfahrener Offroad Biker geht es Dir um den Feinschliff.\n\nDie Teilnehmerzahl ist auf maximal 4 Biker begrenzt um eine gute Betreuung zu gewährleisten. Mindestteilnehmerzahl sind 2 Personen. Bei Schlechtwetter verschieben wir.\nAlternative Termine\, auch unter der Woche\, sind gerne auch möglich\, ebenso Mehrtagestrainings. Einfach anfragen. \nPreis: 129\,-\nAnmeldung\n\n\n  \n\n\n\nVor-Nachname \nEmail \nStrasse \nPostleitzahl \nOrt \nTelefon \nGeburtsjahr \nMotorrad \nAnmerkungen \n \nMein Fahrlevel - bitte auswählen:\n \n\n	Nach unten scrollen und Fahrlevel wählenOffroad BeginnerOffroad Advanced RiderOffroad Expert Rider\nTermin bitte auswählen:\nNach unten scrollen und Tour wählen15.April Adventurebike Guiding Plus Level 217.April Adventurebike Schöckl Warm Up Offroad Basics19.April Adventurebike Guiding Plus Level 224.April Adventurebike Schöckl Warm Up Offroad Basics26.April Adventurebike Guiding Plus Level 2 Technik10.Mai Adventurebike Training Pro Offroad Basics21. Mai Adventurebike Training Pro Stefan M.29.Mai Adventurebike Guiding Plus Level 2 Driften12.Juni Adventurebike Guiding Plus Offroad Basics20.Juni Adventurebike Guiding Plus Level 2 Stefan J.25.Juni Adventurebike Training Pro Stefan M.11.July Rallyfahrtechniktraining Kupres12.July Rallyfahrtechniktraining Kupres\n	 \n\n Ich melde mich verbindlich für die Tour an.\n \n Ich stimme den Teilnahmebedingungen/AGB zu.\n-> Link zu den Teilnahmebedingungen\n \nIch habe die Datenschutzerklärung zur Kenntnis genommen und akzeptiert. Ich stimme zu\, dass meine Formularangaben zur Kontaktaufnahme bzw. zur Bearbeitung meines Anliegens gespeichert werden.\n-> Link zur Datenschutzerklärung\n \n\n \nFalls nach der Anmeldung keine Antwort kommt bitte SPAM-Ordner prüfen.\n ×
URL:https://www.jentlflow.at/event/adventurebike-tagestour-slowenien-guiding-plus-28-08-2020/
LOCATION:Eibiswald Socar Tankstelle\, Eibiswald 242a\, Eibiswald\, Steiermark\, 8552\, Österreich
ORGANIZER;CN="JentlFlow":MAILTO:jentl@jeneweinflow.at
END:VEVENT
END:VCALENDAR