BEGIN:VCALENDAR
VERSION:2.0
PRODID:-//JentlFlow - ECPv6.15.20//NONSGML v1.0//EN
CALSCALE:GREGORIAN
METHOD:PUBLISH
X-WR-CALNAME:JentlFlow
X-ORIGINAL-URL:https://www.jentlflow.at
X-WR-CALDESC:Veranstaltungen für JentlFlow
REFRESH-INTERVAL;VALUE=DURATION:PT1H
X-Robots-Tag:noindex
X-PUBLISHED-TTL:PT1H
BEGIN:VTIMEZONE
TZID:Europe/Vienna
BEGIN:DAYLIGHT
TZOFFSETFROM:+0100
TZOFFSETTO:+0200
TZNAME:CEST
DTSTART:20190331T010000
END:DAYLIGHT
BEGIN:STANDARD
TZOFFSETFROM:+0200
TZOFFSETTO:+0100
TZNAME:CET
DTSTART:20191027T010000
END:STANDARD
BEGIN:DAYLIGHT
TZOFFSETFROM:+0100
TZOFFSETTO:+0200
TZNAME:CEST
DTSTART:20200329T010000
END:DAYLIGHT
BEGIN:STANDARD
TZOFFSETFROM:+0200
TZOFFSETTO:+0100
TZNAME:CET
DTSTART:20201025T010000
END:STANDARD
BEGIN:DAYLIGHT
TZOFFSETFROM:+0100
TZOFFSETTO:+0200
TZNAME:CEST
DTSTART:20210328T010000
END:DAYLIGHT
BEGIN:STANDARD
TZOFFSETFROM:+0200
TZOFFSETTO:+0100
TZNAME:CET
DTSTART:20211031T010000
END:STANDARD
END:VTIMEZONE
BEGIN:VEVENT
DTSTART;TZID=Europe/Vienna:20200715T100000
DTEND;TZID=Europe/Vienna:20200715T160000
DTSTAMP:20260423T054414
CREATED:20200618T173815Z
LAST-MODIFIED:20200629T152435Z
UID:5358-1594807200-1594828800@www.jentlflow.at
SUMMARY:Enduro Einsteigertraining
DESCRIPTION:Speziell für Hardenduro Einsteiger und Hobbyfahrer ist dieses Training am Offroadgelände in Szentgotthárd ideal. Mit den richtigen Techniken ist man sowohl auf der Motocross-Strecke als auch auf der Endurorunde gleich schneller und sicherer unterwegs. Auf- und Abfahrten und das Überwinden von kleineren Hindernissen fällt ebenfalls schnell leichter. Dabei hilft neben der Fahrtechnik auch ein gutes Motorrad Basic-Setup\, das wir gemeinsam erarbeiten. Der Termin ist unter der Woche\, da ist die Strecke nicht so frequentiert wie am Wochenende und wir haben mehr Platz zum Üben. \nTrainingsinhalte Enduro Einsteigertraining:\n\nMotorrad-Setup\nSteh- und Sitzposition\nKurventechnik\nRichtig bremsen/beschleunigen\nAuf- und Abfahrten\nBlicktechnik/Ideallinie\nÜberwinden von kleineren Hindernissen\n\n\nZirka eine Stunde Süd/östlich von Graz liegt das Offroadgelände in Szentgotthárd. Hier findet man eine Motocross-Strecke\, eine Endurorunde und einen Superenduro-Parcours vor. Die Strecke hat außer an Sonn- und Feiertagen immer geöffnet. Über Streckenbeschaffenheit und genaue Öffnungszeiten informiert die Facebookseite Motocross Szentgotthárd. \n\n\n\n	\n		Szentgotthárd\, 9970 Ungarn \n	\n\n\nInfo\n\nTraining ideal für Einsteiger und Hobbyfahrer\n15.7.2020 10:00-16:00\nErsatztermin bei Schlechtwetter: 16/17.6.2020\nAlternativer Termin/Einzeltraining jederzeit möglich; bitte anfragen\nEigenes Motorrad (Hardenduro oder Motocross)\nBegrenzte Teilnehmerzahl: maximal 5 Personen\nMindestteilnehmerzahl: 3 Personen\nTeilnahme auf eigene Gefahr: >> Teilnahmebedingungen\n\nPreis: 149\,-\ninkl. Streckengebühr \nMichael Jentl\, Tel: 00436643915363\, e-mail: jentl@jeneweinflow.at \nAnmeldung\n\n\n  \n\n\n\nName (erforderlich)\nEmail (erforderlich)  \n Straße (erforderlich) \n Postleitzahl (erforderlich) \n Ort (erforderlich) \n Telefon (erforderlich)\nMotorrad \nAnmerkungen \n \n Ich melde mich verbindlich für das Training an.\n \n Ich stimme den Teilnahmebedingungen/AGB zu.\n-> Link zu den Teilnahmebedingungen\n \nIch habe die Datenschutzerklärung zur Kenntnis genommen und akzeptiert. Ich stimme zu\, dass meine Formularangaben zur Kontaktaufnahme bzw. zur Bearbeitung meines Anliegens gespeichert werden.\n-> Link zur Datenschutzerklärung\n \n\n \nFalls nach der Anmeldung keine Antwort kommt bitte SPAM-Ordner prüfen.\n ×
URL:https://www.jentlflow.at/event/enduro-einsteigertraining-juli-2020/
LOCATION:Offroadgelände Szentgotthard\, Szentgotthard\, Ungarn
CATEGORIES:Endurotraining
ORGANIZER;CN="JentlFlow":MAILTO:jentl@jeneweinflow.at
END:VEVENT
BEGIN:VEVENT
DTSTART;TZID=Europe/Vienna:20200725T100000
DTEND;TZID=Europe/Vienna:20200725T180000
DTSTAMP:20260423T054414
CREATED:20200716T114921Z
LAST-MODIFIED:20200716T115059Z
UID:5503-1595671200-1595700000@www.jentlflow.at
SUMMARY:Adventurebike Tagestour Slowenien Guiding Plus
DESCRIPTION:>> 4 Plätze frei << \n \nNur 45 Minuten südlich von Graz oder süd-östlich von Klagenfurt bietet ein riesiges Schotterstaßennetz Offroadfahrspaß ohne Ende. Für die ersten Versuche auf Schotter mit dem Adventurebike eigenen sich die Tagestouren in Slowenien perfekt. Auf den leichten Schotterstraßen gewinnt man mit der richtigen Fahrtechnik schnell Vertrauen. Aber auch schnellere Adventurebike Piloten nützen die Tagestouren um an Ihrer Technik zu feilen. Ideal um an Stehposition und Kurventechnik zu arbeiten. \nAdventurebike Guiding Plus\nBei dieser Tour liegt der Schwerpunkt auf Guiding durch das wunderschöne Hügelland hinter der österreichischen Grenze. Das Fahrerlebnis steht hier im Vordergrund. In den Pausen gibt es Setup- und Fahrtechniktipps vom Ridingcoach. Alternativ gibt es das Adventurebike Training Pro mit Fokus auf Fahrtechnik an anderen Terminen. Mehr dazu auf der Seite Offroad Fahrtraining. \nFahrlevel\nDas Guiding gestaltet sich nach Deinen bisherigen Offroaderfahrungen und Deinem Fahrkönnen. Wir haben 3 Trainingslevels. \n\nLevel 1 Offroad Beginner: Für Deine ersten Offroaderfahrungen möchtest Du die Basics lernen.\nLevel 2 Offroad Advanced Rider: Du beherrscht die Offroad Basics und willst besser werden.\nLevel 3 Offroad Expert Rider: Als erfahrener Offroad Biker geht es Dir um den Feinschliff.\n\nDie Teilnehmerzahl ist auf maximal 4 Biker begrenzt um eine gute Betreuung zu gewährleisten. Mindestteilnehmerzahl sind 2 Personen. Bei Schlechtwetter verschieben wir.\nAlternative Termine\, auch unter der Woche\, sind gerne auch möglich\, ebenso Mehrtagestrainings. Einfach anfragen. \nPreis: 129\,-\nAnmeldung\n\n\n  \n\n\n\nVor-Nachname \nEmail \nStrasse \nPostleitzahl \nOrt \nTelefon \nGeburtsjahr \nMotorrad \nAnmerkungen \n \nMein Fahrlevel - bitte auswählen:\n \n\n	Nach unten scrollen und Fahrlevel wählenOffroad BeginnerOffroad Advanced RiderOffroad Expert Rider\nTermin bitte auswählen:\nNach unten scrollen und Tour wählen15.April Adventurebike Guiding Plus Level 217.April Adventurebike Schöckl Warm Up Offroad Basics19.April Adventurebike Guiding Plus Level 224.April Adventurebike Schöckl Warm Up Offroad Basics26.April Adventurebike Guiding Plus Level 2 Technik10.Mai Adventurebike Training Pro Offroad Basics21. Mai Adventurebike Training Pro Stefan M.29.Mai Adventurebike Guiding Plus Level 2 Driften12.Juni Adventurebike Guiding Plus Offroad Basics20.Juni Adventurebike Guiding Plus Level 2 Stefan J.25.Juni Adventurebike Training Pro Stefan M.11.July Rallyfahrtechniktraining Kupres12.July Rallyfahrtechniktraining Kupres\n	 \n\n Ich melde mich verbindlich für die Tour an.\n \n Ich stimme den Teilnahmebedingungen/AGB zu.\n-> Link zu den Teilnahmebedingungen\n \nIch habe die Datenschutzerklärung zur Kenntnis genommen und akzeptiert. Ich stimme zu\, dass meine Formularangaben zur Kontaktaufnahme bzw. zur Bearbeitung meines Anliegens gespeichert werden.\n-> Link zur Datenschutzerklärung\n \n\n \nFalls nach der Anmeldung keine Antwort kommt bitte SPAM-Ordner prüfen.\n ×
URL:https://www.jentlflow.at/event/adventurebike-tagestour-slowenien-guiding-plus-25-7-2020/
LOCATION:Eibiswald Socar Tankstelle\, Eibiswald 242a\, Eibiswald\, Steiermark\, 8552\, Österreich
ORGANIZER;CN="JentlFlow":MAILTO:jentl@jeneweinflow.at
END:VEVENT
END:VCALENDAR