BEGIN:VCALENDAR
VERSION:2.0
PRODID:-//JentlFlow - ECPv6.15.20//NONSGML v1.0//EN
CALSCALE:GREGORIAN
METHOD:PUBLISH
X-WR-CALNAME:JentlFlow
X-ORIGINAL-URL:https://www.jentlflow.at
X-WR-CALDESC:Veranstaltungen für JentlFlow
REFRESH-INTERVAL;VALUE=DURATION:PT1H
X-Robots-Tag:noindex
X-PUBLISHED-TTL:PT1H
BEGIN:VTIMEZONE
TZID:Europe/Vienna
BEGIN:DAYLIGHT
TZOFFSETFROM:+0100
TZOFFSETTO:+0200
TZNAME:CEST
DTSTART:20190331T010000
END:DAYLIGHT
BEGIN:STANDARD
TZOFFSETFROM:+0200
TZOFFSETTO:+0100
TZNAME:CET
DTSTART:20191027T010000
END:STANDARD
BEGIN:DAYLIGHT
TZOFFSETFROM:+0100
TZOFFSETTO:+0200
TZNAME:CEST
DTSTART:20200329T010000
END:DAYLIGHT
BEGIN:STANDARD
TZOFFSETFROM:+0200
TZOFFSETTO:+0100
TZNAME:CET
DTSTART:20201025T010000
END:STANDARD
BEGIN:DAYLIGHT
TZOFFSETFROM:+0100
TZOFFSETTO:+0200
TZNAME:CEST
DTSTART:20210328T010000
END:DAYLIGHT
BEGIN:STANDARD
TZOFFSETFROM:+0200
TZOFFSETTO:+0100
TZNAME:CET
DTSTART:20211031T010000
END:STANDARD
END:VTIMEZONE
BEGIN:VEVENT
DTSTART;TZID=Europe/Vienna:20200503T100000
DTEND;TZID=Europe/Vienna:20200503T180000
DTSTAMP:20260423T082347
CREATED:20200220T105755Z
LAST-MODIFIED:20200421T083737Z
UID:4526-1588500000-1588528800@www.jentlflow.at
SUMMARY:Adventurebike Gripsmania Schotter Basic Training
DESCRIPTION:>> ausverkauft <<  Neuer Termin wird gesucht sobald möglich! Alternativ fahren wir am 3.Mai ein Warm up im Grazer Bergland.\n \nNur 45 Minuten südlich von Graz oder süd-östlich von Klagenfurt bietet ein riesiges Schotterstaßennetz in Slowenien Offroadfahrspaß ohne Ende. Für die ersten Versuche auf Schotter mit dem Adventurebike eignet sich diese Tagestour perfekt. Auf den leichten Schotterstraßen gewinnt man mit der richtigen Fahrtechnik schnell Vertrauen. \nGripsmania Schotter Basic Training\nBei dieser Tour liegt der Schwerpunkt auf den Offroad Basics. Nach erlernen der Grund-Offroad-Fahrtechniken fahren wir gemeinsam in das wunderschöne Hügelland hinter der österreichischen Grenze. Dabei gibt es Setup– und Fahrtechniktipps vom Ridingcoach. Danach seit Ihr fit für die Schotterausfahrt mit Gripsmania am 7.6.2020. \nFahrlevel\nDas Training gestaltet sich nach Deinen bisherigen Offroaderfahrungen und Deinem Fahrkönnen. Wir haben 3 Trainingslevels. Das Gripsmania Schottertraining richtet sich in erster Linie an Level 1 – Offroad Beginner. \n\nLevel 1 Offroad Beginner: Für Deine ersten Offroaderfahrungen möchtest Du die Basics lernen.\nLevel 2 Offroad Advanced Rider: Du beherrscht die Offroad Basics und willst besser werden.\nLevel 3 Offroad Expert Rider: Als erfahrener Offroad Biker geht es Dir um den Feinschliff.\n\nDie Teilnehmerzahl ist auf maximal 4 Biker begrenzt um eine gute Betreuung zu gewährleisten. Mindestteilnehmerzahl sind 2 Personen. Bei Schlechtwetter verschieben wir. \nPreis: 99\,- Gripsmania Spezial Deal\nAnmeldung\n\n\n  \n\n\n\nVor-Nachname \nEmail \nStrasse \nPostleitzahl \nOrt \nTelefon \nGeburtsjahr \nMotorrad \nAnmerkungen \n \nMein Fahrlevel - bitte auswählen:\n \n\n	Nach unten scrollen und Fahrlevel wählenOffroad BeginnerOffroad Advanced RiderOffroad Expert Rider\nTermin bitte auswählen:\nNach unten scrollen und Tour wählen15.April Adventurebike Guiding Plus Level 217.April Adventurebike Schöckl Warm Up Offroad Basics19.April Adventurebike Guiding Plus Level 224.April Adventurebike Schöckl Warm Up Offroad Basics26.April Adventurebike Guiding Plus Level 2 Technik10.Mai Adventurebike Training Pro Offroad Basics21. Mai Adventurebike Training Pro Stefan M.29.Mai Adventurebike Guiding Plus Level 2 Driften12.Juni Adventurebike Guiding Plus Offroad Basics20.Juni Adventurebike Guiding Plus Level 2 Stefan J.25.Juni Adventurebike Training Pro Stefan M.11.July Rallyfahrtechniktraining Kupres12.July Rallyfahrtechniktraining Kupres\n	 \n\n Ich melde mich verbindlich für die Tour an.\n \n Ich stimme den Teilnahmebedingungen/AGB zu.\n-> Link zu den Teilnahmebedingungen\n \nIch habe die Datenschutzerklärung zur Kenntnis genommen und akzeptiert. Ich stimme zu\, dass meine Formularangaben zur Kontaktaufnahme bzw. zur Bearbeitung meines Anliegens gespeichert werden.\n-> Link zur Datenschutzerklärung\n \n\n \nFalls nach der Anmeldung keine Antwort kommt bitte SPAM-Ordner prüfen.\n ×
URL:https://www.jentlflow.at/event/adventurebike-gripsarea-schotter-basic-training-3-5-2020/
LOCATION:Eibiswald Socar Tankstelle\, Eibiswald 242a\, Eibiswald\, Steiermark\, 8552\, Österreich
END:VEVENT
BEGIN:VEVENT
DTSTART;TZID=Europe/Vienna:20200524T110000
DTEND;TZID=Europe/Vienna:20200524T170000
DTSTAMP:20260423T082347
CREATED:20200411T190617Z
LAST-MODIFIED:20200520T200223Z
UID:5068-1590318000-1590339600@www.jentlflow.at
SUMMARY:Adventurebike Warm up Grazer Bergland
DESCRIPTION:>> 2 Plätze frei <<\n \nBis die Grenzen nach Slowenien\, bzw. zurück nach Österreich\, wieder geöffnet werden und wir das riesiges Schotterstaßennetz nutzen können\, machen wir im Grazer Bergland ein Warm-Up. Für Motorradsetup und Basicfahrtechnik eignen sich die kleinen Nebenstraßen recht gut. So kann das Bewegen des Motorrads im Stehen gut geübt werden. Und ein paar Schotterstraßen und Offroadschmankerln sind auch dabei. Dann seit Ihr gut vorbereitet für weitere Schottertouren in Slowenien. \nAdventurebike Guiding PLUS\nBei dieser Tour liegt der Schwerpunkt auf Guiding durch das wunderschöne Grazer Hügelland. Das Fahrerlebnis steht hier im Vordergrund. In den Pausen gibt es Setup- und Fahrtechniktipps vom Ridingcoach. \nFahrlevel\nDas Guiding gestaltet sich nach Deinen bisherigen Offroaderfahrungen und Deinem Fahrkönnen. Wir haben 3 Trainingslevels. Das Warm-up richtet sich in erster Linie an Offroad Beginner. \n\nLevel 1 Offroad Beginner: Für Deine ersten Offroaderfahrungen möchtest Du die Basics lernen.\nLevel 2 Offroad Advanced Rider: Du beherrscht die Offroad Basics und willst besser werden.\nLevel 3 Offroad Expert Rider: Als erfahrener Offroad Biker geht es Dir um den Feinschliff.\n\nDie Teilnehmerzahl ist auf maximal 4 Biker begrenzt um eine gute Betreuung zu gewährleisten. Mindestteilnehmerzahl sind 2 Personen. Bei Schlechtwetter verschieben wir.\nAlternative Termine\, auch unter der Woche\, sind gerne auch möglich\, einfach anfragen. \nStart in Graz\, P+R Weinzödl 11:00 bis ca 17:00 \nPreis: 99\,-\nAnmeldung\n\n\n  \n\n\n\nVor-Nachname \nEmail \nStrasse \nPostleitzahl \nOrt \nTelefon \nGeburtsjahr \nMotorrad \nAnmerkungen \n \nMein Fahrlevel - bitte auswählen:\n \n\n	Nach unten scrollen und Fahrlevel wählenOffroad BeginnerOffroad Advanced RiderOffroad Expert Rider\nTermin bitte auswählen:\nNach unten scrollen und Tour wählen15.April Adventurebike Guiding Plus Level 217.April Adventurebike Schöckl Warm Up Offroad Basics19.April Adventurebike Guiding Plus Level 224.April Adventurebike Schöckl Warm Up Offroad Basics26.April Adventurebike Guiding Plus Level 2 Technik10.Mai Adventurebike Training Pro Offroad Basics21. Mai Adventurebike Training Pro Stefan M.29.Mai Adventurebike Guiding Plus Level 2 Driften12.Juni Adventurebike Guiding Plus Offroad Basics20.Juni Adventurebike Guiding Plus Level 2 Stefan J.25.Juni Adventurebike Training Pro Stefan M.11.July Rallyfahrtechniktraining Kupres12.July Rallyfahrtechniktraining Kupres\n	 \n\n Ich melde mich verbindlich für die Tour an.\n \n Ich stimme den Teilnahmebedingungen/AGB zu.\n-> Link zu den Teilnahmebedingungen\n \nIch habe die Datenschutzerklärung zur Kenntnis genommen und akzeptiert. Ich stimme zu\, dass meine Formularangaben zur Kontaktaufnahme bzw. zur Bearbeitung meines Anliegens gespeichert werden.\n-> Link zur Datenschutzerklärung\n \n\n \nFalls nach der Anmeldung keine Antwort kommt bitte SPAM-Ordner prüfen.\n ×
URL:https://www.jentlflow.at/event/adventurebike-warm-up-grazer-bergland-24-5-2020/
LOCATION:Graz Nord\, P+R Weinzödl\, P&R Weinzödl Wiener Str.\, Graz\, 8046\, Österreich
ATTACH;FMTTYPE=image/jpeg:https://www.jentlflow.at/wp-content/uploads/2020/04/Warmup4.jpg
ORGANIZER;CN="JentlFlow":MAILTO:jentl@jeneweinflow.at
END:VEVENT
END:VCALENDAR