BEGIN:VCALENDAR
VERSION:2.0
PRODID:-//JentlFlow - ECPv6.15.20//NONSGML v1.0//EN
CALSCALE:GREGORIAN
METHOD:PUBLISH
X-WR-CALNAME:JentlFlow
X-ORIGINAL-URL:https://www.jentlflow.at
X-WR-CALDESC:Veranstaltungen für JentlFlow
REFRESH-INTERVAL;VALUE=DURATION:PT1H
X-Robots-Tag:noindex
X-PUBLISHED-TTL:PT1H
BEGIN:VTIMEZONE
TZID:Europe/Vienna
BEGIN:DAYLIGHT
TZOFFSETFROM:+0100
TZOFFSETTO:+0200
TZNAME:CEST
DTSTART:20250330T010000
END:DAYLIGHT
BEGIN:STANDARD
TZOFFSETFROM:+0200
TZOFFSETTO:+0100
TZNAME:CET
DTSTART:20251026T010000
END:STANDARD
BEGIN:DAYLIGHT
TZOFFSETFROM:+0100
TZOFFSETTO:+0200
TZNAME:CEST
DTSTART:20260329T010000
END:DAYLIGHT
BEGIN:STANDARD
TZOFFSETFROM:+0200
TZOFFSETTO:+0100
TZNAME:CET
DTSTART:20261025T010000
END:STANDARD
BEGIN:DAYLIGHT
TZOFFSETFROM:+0100
TZOFFSETTO:+0200
TZNAME:CEST
DTSTART:20270328T010000
END:DAYLIGHT
BEGIN:STANDARD
TZOFFSETFROM:+0200
TZOFFSETTO:+0100
TZNAME:CET
DTSTART:20271031T010000
END:STANDARD
END:VTIMEZONE
BEGIN:VEVENT
DTSTART;VALUE=DATE:20260421
DTEND;VALUE=DATE:20260423
DTSTAMP:20260421T125139
CREATED:20260117T103821Z
LAST-MODIFIED:20260117T182155Z
UID:13709-1776729600-1776902399@www.jentlflow.at
SUMMARY:Adventurebike Guiding Plus Slowenien Offroad Basics
DESCRIPTION:< Exklusiver Termin Rene D. > \nNur 45 Minuten südlich von Graz oder süd-östlich von Klagenfurt bietet ein riesiges Schotterstaßennetz legalen Offroadfahrspaß. Für die ersten Versuche auf Schotter mit dem Adventurebike eignen sich die Tagestouren in Slowenien perfekt. Auf den leichten Schotterstraßen gewinnt man mit der richtigen Fahrtechnik schnell Vertrauen. Aber auch für fortgeschrittene Adventurebiker gibt es durchaus anspruchsvolle Traktorwege und Forststraßen. Je nach Fahrlevel und Bereifung der Gruppe richtet sich der Schwierigkeitsgrad der Touren. \nAdventurebike Guiding Plus\nDie Tour richtet sich sowohl an Offroadbeginner wie auch an fortgeschrittene Adventurebiker. Der Schwerpunkt liegt dabei auf  Guiding durch das wunderschöne Hügelland hinter der österreichischen Grenze. Das Fahrerlebnis steht hier im Vordergrund. In den Pausen gibt es Setup- und Fahrtechniktipps vom Ridingcoach. Alternativ gibt es das  „Adventurebike Training Pro“ mit dem Fokus auf Fahrtechnik an anderen Terminen. \n\nFahrlevel\nDurch die Angabe Deines Fahrlevels gestalten wir die Gruppen. Wir haben 3 Trainingslevels. \n\nLevel 1 Offroad Beginner: Für Deine ersten Erfahrungen abseits des Asphalts möchtest Du die Offroad Basics kennen lernen.\nLevel 2 Offroad Advanced Rider: Du bist schon Offroad erfahren möchtest aber die Fahrtechnik richtig erlernen.\nLevel 3 Offroad Expert Rider: Als erfahrener Offroad Biker beherrscht Du die Offroad Basics und es geht Dir um den Feinschliff.\n\nDie Teilnehmerzahl ist auf maximal 4 Biker begrenzt um eine gute Betreuung zu gewährleisten. Mindestteilnehmerzahl sind 2 Personen. Bei Schlechtwetter verschieben wir. Alternative Termine\, auch unter der Woche\, sind auch möglich\, ebenso Mehrtagestrainings. Einfach anfragen. \nVorbereitung\nWelches Motorrad ist geeignet? Kann ich mit „Straßenreifen“ mitfahren? Soll ich bei den Reifen Luft ablassen? Welches Gepäck ist ideal? Kann ich sonst mein Motorrad vorbereiten? Was soll ich anziehen? Was soll ich mitnehmen? Alles über die richtige Vorbereitung erfahrt Ihr im JentlFlow Adventurebike Blog Beitrag Jentlflow Adventurebike Offroad Fahrtechnik Training – perfekt vorbereitet am Start. \nInfo:\n\nWir starten beide Tage von Arnfels aus\, 10:00 Socar Tankstelle\nAnkunft wieder in Arnfels ca 17:00\nTagestouren mit ca 150km mit Mittagspause\n\nAnmeldung\n\n\n  \n\n\n\nVor-Nachname \nEmail  \nStraße \nPostleitzahl \nOrt  \nTelefon \nGeburtsjahr \nMotorrad \nAnmerkungen \nMein Fahrlevel - bitte auswählen:\n \n\n	Nach unten scrollen und Fahrlevel wählenOffroad BeginnerOffroad Advanced RiderOffroad Expert Rider\nTour bitte auswählen:\nNach unten scrollen und Tour wählen21-22.April Adventurebike Guidining Plus Rene D.28.Apr-1.Mai Rallyfahrtechniktraining Gospic 11-4.Mai Rallyfahrtechniktraining Gospic 26-7.Mai Adventurebike Guiding Plus Level 2 Pro Patricia K12-15.Mai Rallyfahrtechniktraining Gospic 315-18.Mai Rallyfahrtechniktraining Gospic 424-25.Mai Adventurebike Training Pro Offroad Basics31.Mai-1.Juni Adventurebike Training Pro Offroad Basics5-8.Juni Rallyfahrtechniktraining Gospic 528-29.Juni Adventurebike Training Pro Offroad Basics14-15.Juni Adventurebike Guiding Plus Level 2 Technik5-6.Juli Adventurebike Guiding Plus Level 2 Driften26-27.Juli Adventurebike Training Pro Offroad Basics7-10.Aug Adventurebike Advanced Tour Rakek26-30.Aug Westalpen Adventurebike Explor Week1-5.Sept Westalpen Adventurebike Enjoy Week7-11.Sept Westalpen Adventurebike Fast Week19-20.Sept Adventurebike Guiding Plus Gery S.26-28.Sep Adventurebike Training Pro Ronald N.2-5.Okt 4-Tage Adventurebike Kroatientour Gospic\n	 \n\n Ich melde mich verbindlich für die Tour an.\n \n Ich stimme den Teilnahmebedingungen/AGB zu.\n-> Link zu den Teilnahmebedingungen\n \nIch habe die Datenschutzerklärung zur Kenntnis genommen und akzeptiert. Ich stimme zu\, dass meine Formularangaben zur Kontaktaufnahme bzw. zur Bearbeitung meines Anliegens gespeichert werden.\n-> Link zur Datenschutzerklärung\n \n\n \nFalls nach der Anmeldung keine Antwort kommt bitte SPAM-Ordner prüfen.\n ×
URL:https://www.jentlflow.at/event/adventurebike-guiding-plus-slowenien-offroad-basics-21-4-2026/
LOCATION:Arnfels\, Socar Tankstelle\, Leibnitzer Str. 277\, Arnfels\, Steiermark\, 8454\, Österreich
CATEGORIES:Adventurebiketraining Basic
ATTACH;FMTTYPE=image/jpeg:https://www.jentlflow.at/wp-content/uploads/2026/01/2-Tage-Adventurebike-Guiding-Plus-ohne-Preis-sold.jpg
ORGANIZER;CN="JentlFlow":MAILTO:jentl@jeneweinflow.at
END:VEVENT
BEGIN:VEVENT
DTSTART;TZID=Europe/Vienna:20260426T100000
DTEND;TZID=Europe/Vienna:20260426T170000
DTSTAMP:20260421T125139
CREATED:20251118T083421Z
LAST-MODIFIED:20260106T141122Z
UID:13186-1777197600-1777222800@www.jentlflow.at
SUMMARY:Adventurebike Guiding Plus Level 2 Slowenien technisches Fahren
DESCRIPTION:< Diese Veranstaltung ist ausgebucht. Individuelle Termine auf Nachfrage > \nSchwerpunkt „technisches Fahren“\n\nLangsames Fahren in technischem Gelände\nWenden auf engem Raum\nVorderrad anheben\n\nIhr habt das JentlFlow Basic Training gemacht?  Die Schotterstraßen und Forstwege gleich hinter der steirisch – slowenischen Grenze bieten ideale Voraussetzungen Eure Fahrtechnik weiter zu entwickeln. \nAdventurebike Guiding Plus Level 2\nBei dieser Tour liegt der Schwerpunkt auf Guiding durch das wunderschöne Hügelland hinter der österreichischen Grenze. Je nach Gruppe fahren wir diesmal auch etwas anspruchsvollere Wege. In den Pausen gibt es Setup- und Fahrtechniktipps vom Ridingcoach. \nDie Guiding Plus Level 2 Tour schließt an den JentlFlow Basic Trainings („Training Pro“ und „Guiding Plus“) an\, bietet die Möglichkeit\, das Gelernte zu wiederholen und neue Techniken für härteres Gelände sowie sicheres\, schnelleres Fahren dazuzulernen. Die erste Anmeldung bestimmt dabei den Schwierigkeitsgrad der Tour. Auch die Fahrtechnikinhalte variieren je nach Gruppe. Ob Vertiefung der Basics bei einer Offroadeinsteiger Gruppe bis zum  Erlernen von Rallyfahrtechniken oder technisches Gelände bei einer Expert Rider Gruppe ist alles möglich. \nDie Teilnehmerzahl ist auf maximal 4 Biker begrenzt\, um eine gute Betreuung zu gewährleisten. Mindestteilnehmerzahl sind 2 Personen. Bei Schlechtwetter verschieben wir. Alternative Termine\, auch unter der Woche\, sind auch möglich\, ebenso Mehrtagestrainings. Einfach anfragen. \n\nInfo:\n\n„Level 2“ bedeutet Anschlusstour an ein JentlFlow Basic Training oder ein Level2 Training\nFür Offroad Beginner bis Expert Rider geeignet\, je nach Gruppe\nDen Schwierigkeitsgrad  und die Fahrtechnikinhalte bestimmt die erste Anmeldung\, bei weiteren Anmeldungen erfolgt eine Rückmeldung\, ob Ihr in diese Gruppe passt\n\nPreis: 229\,-\nAnmeldung\n\n\n  \n\n\n\nVor-Nachname \nEmail \nStrasse \nPostleitzahl \nOrt \nTelefon \nGeburtsjahr \nMotorrad \nAnmerkungen \n \nMein Fahrlevel - bitte auswählen:\n \n\n	Nach unten scrollen und Fahrlevel wählenOffroad BeginnerOffroad Advanced RiderOffroad Expert Rider\nTermin bitte auswählen:\nNach unten scrollen und Tour wählen15.April Adventurebike Guiding Plus Level 217.April Adventurebike Schöckl Warm Up Offroad Basics19.April Adventurebike Guiding Plus Level 224.April Adventurebike Schöckl Warm Up Offroad Basics26.April Adventurebike Guiding Plus Level 2 Technik10.Mai Adventurebike Training Pro Offroad Basics21. Mai Adventurebike Training Pro Stefan M.29.Mai Adventurebike Guiding Plus Level 2 Driften12.Juni Adventurebike Guiding Plus Offroad Basics20.Juni Adventurebike Guiding Plus Level 2 Stefan J.25.Juni Adventurebike Training Pro Stefan M.11.July Rallyfahrtechniktraining Kupres12.July Rallyfahrtechniktraining Kupres\n	 \n\n Ich melde mich verbindlich für die Tour an.\n \n Ich stimme den Teilnahmebedingungen/AGB zu.\n-> Link zu den Teilnahmebedingungen\n \nIch habe die Datenschutzerklärung zur Kenntnis genommen und akzeptiert. Ich stimme zu\, dass meine Formularangaben zur Kontaktaufnahme bzw. zur Bearbeitung meines Anliegens gespeichert werden.\n-> Link zur Datenschutzerklärung\n \n\n \nFalls nach der Anmeldung keine Antwort kommt bitte SPAM-Ordner prüfen.\n ×
URL:https://www.jentlflow.at/event/adventurebike-guiding-plus-level-2-slowenien-26-4-2026/
LOCATION:Arnfels\, Socar Tankstelle\, Leibnitzer Str. 277\, Arnfels\, Steiermark\, 8454\, Österreich
CATEGORIES:Adventurebiketraining advanced
ATTACH;FMTTYPE=image/jpeg:https://www.jentlflow.at/wp-content/uploads/2025/11/Adventurebike-Guidibg-Plus-Level-2-technisches-Fahren-sold.jpg
ORGANIZER;CN="JentlFlow":MAILTO:jentl@jeneweinflow.at
END:VEVENT
BEGIN:VEVENT
DTSTART;VALUE=DATE:20260428
DTEND;VALUE=DATE:20260502
DTSTAMP:20260421T125139
CREATED:20251110T183308Z
LAST-MODIFIED:20260416T072628Z
UID:13069-1777334400-1777679999@www.jentlflow.at
SUMMARY:4 Tage Rally Fahrtechniktraining Kroatien
DESCRIPTION:< Noch zwei Plätze  frei > \nSchnell\, aber kontrolliert\, effektiv und damit kraft- und materialschonend Offroad fahren – darum geht es beim Rallyfahren. Nirgendwo anders macht sich gute Fahrtechnik so bezahlt wie bei langen harten Geländeetappen. Dafür Voraussetzung sind eine gute Offroad Fahrtechnik und ein darauf abgestimmtes Motorradsetup. Lest dazu den Beitrag:  – Fahrtechniktraining für die Bosnia Rally – \nDieses 4 Tage Rally Fahrtechniktraining ist ideal als Vorbereitung für die Bosnia Rally. Es bietet die Möglichkeit\, intensiv Fahrtechnikskills zu trainieren und  Motorradsetup zu verfeinern um so top vorbereitet in die Rally zu gehen. Natürlich können auch sportliche Adventurebiker ohne Rallyambitionen teilnehmen. \n\nRally Fahrtechniktraining Kroatien\nWir wollen rallylike ohne Gepäck fahren\, daher starten wir die Etappen zentral in Gospic. Direkt in der Umgebung gibt es ein riesiges Forst-Schotterstraßennetz\, dass sich perfekt für kleinere Runden und zum Techniktraining eignet. Dazu können wir von hier aus große 300km Nord- und Südschleifen im Rallystyle der Bosnia Rally fahren. Mit dabei typisches Rallygelände auf den Hochebenen im Landesinneren aber auch feuchte Wälder und Forststrassen. Inklusive optionale technischer Passagen\, wie sie im Rallytrack der Bosnia Rally vorkommen. \n\nInfo\n\n2 Halbtags- und 2 Tagesetappen:\nErster Tag: Anreise und Warm Up\, Fokus auf Fahrtechnik und Motorradsetup\nZweiter und dritter Tag: Ganztagesetappen ähnlich der Bosnia Rally\nLetzter Tag: Halbtagsetappe bis Mittag und Heimreise\nQuartier: Es gibt mehrere Möglichkeiten bei Gospic (350km / 3:30 von Graz)\nBegrenzte Teilnehmerzahl: maximal 5 Personen\n\nMindestteilnehmeranzahl: 3 Personen\nFahrlevel: Advanced Rider\n\nPreis: 459\,-\nAnmeldung\n\n\n  \n\n\n\nVor-Nachname \nEmail  \nStraße \nPostleitzahl \nOrt  \nTelefon \nGeburtsjahr \nMotorrad \nAnmerkungen \nMein Fahrlevel - bitte auswählen:\n \n\n	Nach unten scrollen und Fahrlevel wählenOffroad BeginnerOffroad Advanced RiderOffroad Expert Rider\nTour bitte auswählen:\nNach unten scrollen und Tour wählen21-22.April Adventurebike Guidining Plus Rene D.28.Apr-1.Mai Rallyfahrtechniktraining Gospic 11-4.Mai Rallyfahrtechniktraining Gospic 26-7.Mai Adventurebike Guiding Plus Level 2 Pro Patricia K12-15.Mai Rallyfahrtechniktraining Gospic 315-18.Mai Rallyfahrtechniktraining Gospic 424-25.Mai Adventurebike Training Pro Offroad Basics31.Mai-1.Juni Adventurebike Training Pro Offroad Basics5-8.Juni Rallyfahrtechniktraining Gospic 528-29.Juni Adventurebike Training Pro Offroad Basics14-15.Juni Adventurebike Guiding Plus Level 2 Technik5-6.Juli Adventurebike Guiding Plus Level 2 Driften26-27.Juli Adventurebike Training Pro Offroad Basics7-10.Aug Adventurebike Advanced Tour Rakek26-30.Aug Westalpen Adventurebike Explor Week1-5.Sept Westalpen Adventurebike Enjoy Week7-11.Sept Westalpen Adventurebike Fast Week19-20.Sept Adventurebike Guiding Plus Gery S.26-28.Sep Adventurebike Training Pro Ronald N.2-5.Okt 4-Tage Adventurebike Kroatientour Gospic\n	 \n\n Ich melde mich verbindlich für die Tour an.\n \n Ich stimme den Teilnahmebedingungen/AGB zu.\n-> Link zu den Teilnahmebedingungen\n \nIch habe die Datenschutzerklärung zur Kenntnis genommen und akzeptiert. Ich stimme zu\, dass meine Formularangaben zur Kontaktaufnahme bzw. zur Bearbeitung meines Anliegens gespeichert werden.\n-> Link zur Datenschutzerklärung\n \n\n \nFalls nach der Anmeldung keine Antwort kommt bitte SPAM-Ordner prüfen.\n ×
URL:https://www.jentlflow.at/event/4-tage-rally-fahrtechniktraining-kroatien-28-4-2026/
LOCATION:Gospic\, Gospic\, Croatia (Local Name: Hrvatska)
CATEGORIES:Adventurebiketraining advanced
ATTACH;FMTTYPE=image/jpeg:https://www.jentlflow.at/wp-content/uploads/2025/12/4T-RT-Kro-459.jpg
ORGANIZER;CN="JentlFlow":MAILTO:jentl@jeneweinflow.at
END:VEVENT
END:VCALENDAR