BEGIN:VCALENDAR
VERSION:2.0
PRODID:-//JentlFlow - ECPv6.15.20//NONSGML v1.0//EN
CALSCALE:GREGORIAN
METHOD:PUBLISH
X-ORIGINAL-URL:https://www.jentlflow.at
X-WR-CALDESC:Veranstaltungen für JentlFlow
REFRESH-INTERVAL;VALUE=DURATION:PT1H
X-Robots-Tag:noindex
X-PUBLISHED-TTL:PT1H
BEGIN:VTIMEZONE
TZID:Europe/Vienna
BEGIN:DAYLIGHT
TZOFFSETFROM:+0100
TZOFFSETTO:+0200
TZNAME:CEST
DTSTART:20220327T010000
END:DAYLIGHT
BEGIN:STANDARD
TZOFFSETFROM:+0200
TZOFFSETTO:+0100
TZNAME:CET
DTSTART:20221030T010000
END:STANDARD
BEGIN:DAYLIGHT
TZOFFSETFROM:+0100
TZOFFSETTO:+0200
TZNAME:CEST
DTSTART:20230326T010000
END:DAYLIGHT
BEGIN:STANDARD
TZOFFSETFROM:+0200
TZOFFSETTO:+0100
TZNAME:CET
DTSTART:20231029T010000
END:STANDARD
BEGIN:DAYLIGHT
TZOFFSETFROM:+0100
TZOFFSETTO:+0200
TZNAME:CEST
DTSTART:20240331T010000
END:DAYLIGHT
BEGIN:STANDARD
TZOFFSETFROM:+0200
TZOFFSETTO:+0100
TZNAME:CET
DTSTART:20241027T010000
END:STANDARD
END:VTIMEZONE
BEGIN:VEVENT
DTSTART;VALUE=DATE:20230904
DTEND;VALUE=DATE:20230917
DTSTAMP:20260423T123213
CREATED:20221104T191141Z
LAST-MODIFIED:20221211T142540Z
UID:9077-1693785600-1694908799@www.jentlflow.at
SUMMARY:Westalpen Adventurebike Tour 2023
DESCRIPTION:< Beide Wochen sind ausgebucht > \nVoraussetzung für die Teilnahme ist ein absolviertes JentlFlow Basic Training. \nAuch 2023 gibt es wieder zwei Herbsttermine: Fast week:  4-10.9.2023 und Enjoy week: 10-16.9.2023 \nDas jährliche JentlFlow Adventurebike Highlight ist der Westalpentrip. Durch das alte Militärstraßennetz gibt es nirgends wo sonst so viele anspruchsvolle Schotterstraßen wie im italienisch- französichen Grenzgebiet. Unsere Base liegt in Oulx\, 75 km westlich von Turin. Von dort aus ist man in 20 min beim Einstieg zu den Klassikern Assietta Kammstraße\, Forte Jafferau oder Col Sommeiller. In 30 min ist man in Frankreich\, wo sich auch zahlreiche anfahrbare Hochziele befinden. Nach 15 Jahren Offroadurlaub im Susatal kenne ich aber auch weniger bekannten Strecken\, die in keinem Führer stehen. Grundsätzlich gibt es hier 2 Arten von Hochzielen. Das sind zum einen die zahlreichen Militärstraßen die zu verlassenen Forts und Stellungen führen und auf der anderen Seite Skipistenversorgungswege\, die legal befahren werden dürfen. Ein Paradies! Dabei geht es hoch hinauf; bis auf 2.995m am Col Sommeiller. Der Vorteil im Herbst sind die Schneereste geschmolzen und alle Hochziele anfahrbar. Ist zwar nicht so spannend\, dafür ist der Gipfelsieg garantiert. Außer es kommt ein Wintereinbruch\, dann wird es doch wieder spannend …. \nHier der Bericht von der Jentlflow Adventurebike Westalpentour 2020 \nEs gibt wieder zwei Wochen\, zwei Gruppen. Damit jeder Teilnehmer auf seine Kosten kommt und die Gruppen harmonischer sind. \nEnjoy week:  10-16.9.2023\nDie landschaftlichen Eindrücke in den Westalpen sind gigantisch. Dazu kommen verlassene Fortanlagen und spektakuläre Streckenabschnitte. Wer das erste Mal in dieser Gegend ist\, dem geht meist alles zu schnell um die vielen Erlebnisse zu erfassen. Daher lassen wir uns in dieser Woche mehr Zeit. Zum Genießen und zum Fotografieren. Wir fahren alle Klassiker und ein paar versteckte Routen. Keine technisch anspruchsvollen Trails\, dennoch sollte Fahrtechnik und Kondition passen. Ideal für Westalpenneulinge und Genussfahrer. \n\nFast week: 4.-10.9.2023\nWer gerne etwas flotter fährt und nichts gegen ein paar anspruchsvollere Passagen hat\, ist hier richtig. Neben den Westalpen Klassikern nehmen wir auch gröbere Trails mit. Immer noch 2-zylindertauglich\, aber gute Bereifung ist hier Pflicht. Gutes Fahrkönnen und Kondition sowieso. Perfekt für sportliche Adventurebiker. \n\nInfo\n\nGeplant sind jeweils 5 Tagestouren:\nFast week: Dienstag 5. September bis Samstag 9. September\nEnjoy week: Montag 11.September bis Freitag 15. September\nQuartier: Von Campingplatz bis Hotel ist alles möglich\nBegrenzte Teilnehmerzahl:\nFast week: maximal 5 Personen\nEnjoy week: maximal 6 Personen\n\nGutes Fahrkönnen ist Voraussetzung. (Alpines Gelände mit Absturzgefahr)\nVorherige Teilnahme an einem Jentflow Offroadtraining ist Voraussetzung\nTeilnahme auf eigene Gefahr: >> Teilnahmebedingungen\n\nPreis: 449\,-\nMichael Jentl\, Tel: 00436643915363\, e-mail: jentl@jeneweinflow.at \nAnmeldung\n\n\n  \n\n\n\nVor-Nachname \nEmail  \nStraße \nPostleitzahl \nOrt  \nTelefon \nGeburtsjahr \nMotorrad \nAnmerkungen \nMein Fahrlevel - bitte auswählen:\n \n\n	Nach unten scrollen und Fahrlevel wählenOffroad BeginnerOffroad Advanced RiderOffroad Expert Rider\nTour bitte auswählen:\nNach unten scrollen und Tour wählen21-22.April Adventurebike Guidining Plus Rene D.28.Apr-1.Mai Rallyfahrtechniktraining Gospic 11-4.Mai Rallyfahrtechniktraining Gospic 26-7.Mai Adventurebike Guiding Plus Level 2 Pro Patricia K12-15.Mai Rallyfahrtechniktraining Gospic 315-18.Mai Rallyfahrtechniktraining Gospic 424-25.Mai Adventurebike Training Pro Offroad Basics31.Mai-1.Juni Adventurebike Training Pro Offroad Basics5-8.Juni Rallyfahrtechniktraining Gospic 528-29.Juni Adventurebike Training Pro Offroad Basics14-15.Juni Adventurebike Guiding Plus Level 2 Technik5-6.Juli Adventurebike Guiding Plus Level 2 Driften26-27.Juli Adventurebike Training Pro Offroad Basics7-10.Aug Adventurebike Advanced Tour Rakek26-30.Aug Westalpen Adventurebike Explor Week1-5.Sept Westalpen Adventurebike Enjoy Week7-11.Sept Westalpen Adventurebike Fast Week19-20.Sept Adventurebike Guiding Plus Gery S.26-28.Sep Adventurebike Training Pro Ronald N.2-5.Okt 4-Tage Adventurebike Kroatientour Gospic\n	 \n\n Ich melde mich verbindlich für die Tour an.\n \n Ich stimme den Teilnahmebedingungen/AGB zu.\n-> Link zu den Teilnahmebedingungen\n \nIch habe die Datenschutzerklärung zur Kenntnis genommen und akzeptiert. Ich stimme zu\, dass meine Formularangaben zur Kontaktaufnahme bzw. zur Bearbeitung meines Anliegens gespeichert werden.\n-> Link zur Datenschutzerklärung\n \n\n \nFalls nach der Anmeldung keine Antwort kommt bitte SPAM-Ordner prüfen.\n ×
URL:https://www.jentlflow.at/event/westalpen-adventurebike-tour-2023/
LOCATION:Oulx\, Via Cazzettes\, 2\, Oulx\, 10056\, Italien
CATEGORIES:Adventurebiketour advanced
ORGANIZER;CN="JentlFlow":MAILTO:jentl@jeneweinflow.at
END:VEVENT
BEGIN:VEVENT
DTSTART;TZID=Europe/Vienna:20230924T100000
DTEND;TZID=Europe/Vienna:20230924T170000
DTSTAMP:20260423T123213
CREATED:20221110T100143Z
LAST-MODIFIED:20230921T184859Z
UID:9231-1695549600-1695574800@www.jentlflow.at
SUMMARY:Adventurebike Training Pro Slowenien
DESCRIPTION:<Diese Veranstaltung ist ausgebucht!> \nNur 45 Minuten südlich von Graz oder süd-östlich von Klagenfurt bietet ein riesiges Schotterstaßennetz Offroadfahrspaß ohne Ende. Für die ersten Versuche auf Schotter mit dem Adventurebike eigenen sich die Tagestouren in Slowenien perfekt. Auf den leichten Schotterstraßen gewinnt man mit der richtigen Fahrtechnik schnell Vertrauen. Aber auch für fortgeschrittene Adventurebiker gibt es durchaus anspruchsvolle Traktorwege und Forststraßen. Je nach Fahrlevel und Bereifung der Gruppe richtet sich der Schwierigkeitsgrad der Touren. \nAdventurebike Training PRO\nHier geht es in erster Linie um Fahrtechnik. Dazu machen wir am Übungsgelände das Motorradsetup und Techniktraining. Danach geht es auf eine Schotterrunde nach Slowenien; inkl. Videoanalyse vom Ridingcoach. Dieses Training bringt Dich garantiert einen Fahrlevel weiter. \n  \n\nFahrlevel\nDein Training gestaltet sich nach Deinen bisherigen Offroaderfahrungen und Deinem Fahrkönnen. Wir haben 3 Trainingslevels. \n\nLevel 1 Offroad Beginner: Für Deine ersten Offroaderfahrungen möchtest Du die Basics lernen.\nLevel 2 Offroad Advanced Rider: Du beherrscht die Offroad Basics und willst besser werden.\nLevel 3 Offroad Expert Rider: Als erfahrener Offroad Biker geht es Dir um den Feinschliff.\n\nDurch die Angabe Deines Fahrlevels gestalten wir die Gruppen. Die Teilnehmerzahl ist auf maximal 3 Biker begrenzt um eine gute Betreuung zu gewährleisten. Mindestteilnehmerzahl sind 2 Personen. Bei Schlechtwetter verschieben wir. Alternative Termine\, auch unter der Woche\, sind auch möglich\, ebenso Mehrtagestrainings. Einfach anfragen. \nVorbereitung\nWelches Motorrad ist geeignet? Kann ich mit „Straßenreifen“ mitfahren? Soll ich bei den Reifen Luft ablassen? Welches Gepäck ist ideal? Kann ich sonst mein Motorrad vorbereiten? Was soll ich anziehen? Was soll ich mitnehmen? Alles über die richtige Vorbereitung erfahrt Ihr im JentlFlow Adventurebike Blog Beitrag Jentlflow Adventurebike Offroad Fahrtechnik Training – perfekt vorbereitet am Start. \nPreis: 249\,-\nAnmeldung\n\n\n  \n\n\n\nVor-Nachname \nEmail \nStrasse \nPostleitzahl \nOrt \nTelefon \nGeburtsjahr \nMotorrad \nAnmerkungen \n \nMein Fahrlevel - bitte auswählen:\n \n\n	Nach unten scrollen und Fahrlevel wählenOffroad BeginnerOffroad Advanced RiderOffroad Expert Rider\nTermin bitte auswählen:\nNach unten scrollen und Tour wählen15.April Adventurebike Guiding Plus Level 217.April Adventurebike Schöckl Warm Up Offroad Basics19.April Adventurebike Guiding Plus Level 224.April Adventurebike Schöckl Warm Up Offroad Basics26.April Adventurebike Guiding Plus Level 2 Technik10.Mai Adventurebike Training Pro Offroad Basics21. Mai Adventurebike Training Pro Stefan M.29.Mai Adventurebike Guiding Plus Level 2 Driften12.Juni Adventurebike Guiding Plus Offroad Basics20.Juni Adventurebike Guiding Plus Level 2 Stefan J.25.Juni Adventurebike Training Pro Stefan M.11.July Rallyfahrtechniktraining Kupres12.July Rallyfahrtechniktraining Kupres\n	 \n\n Ich melde mich verbindlich für die Tour an.\n \n Ich stimme den Teilnahmebedingungen/AGB zu.\n-> Link zu den Teilnahmebedingungen\n \nIch habe die Datenschutzerklärung zur Kenntnis genommen und akzeptiert. Ich stimme zu\, dass meine Formularangaben zur Kontaktaufnahme bzw. zur Bearbeitung meines Anliegens gespeichert werden.\n-> Link zur Datenschutzerklärung\n \n\n \nFalls nach der Anmeldung keine Antwort kommt bitte SPAM-Ordner prüfen.\n ×
URL:https://www.jentlflow.at/event/adventurebike-training-pro-slowenien-24-9-2023/
LOCATION:Eibiswald Socar Tankstelle\, Eibiswald 242a\, Eibiswald\, Steiermark\, 8552\, Österreich
CATEGORIES:Adventurebiketraining Basic
ORGANIZER;CN="JentlFlow":MAILTO:jentl@jeneweinflow.at
END:VEVENT
BEGIN:VEVENT
DTSTART;TZID=Europe/Vienna:20230926T100000
DTEND;TZID=Europe/Vienna:20230926T170000
DTSTAMP:20260423T123213
CREATED:20230830T090357Z
LAST-MODIFIED:20230830T090357Z
UID:10284-1695722400-1695747600@www.jentlflow.at
SUMMARY:Adventurebike Training Pro Slowenien
DESCRIPTION:< Exklusives Einzeltraining Bernhard G. Weitere individuelle Termine auf Anfrage > \nNur 45 Minuten südlich von Graz oder süd-östlich von Klagenfurt bietet ein riesiges Schotterstaßennetz Offroadfahrspaß ohne Ende. Für die ersten Versuche auf Schotter mit dem Adventurebike eigenen sich die Tagestouren in Slowenien perfekt. Auf den leichten Schotterstraßen gewinnt man mit der richtigen Fahrtechnik schnell Vertrauen. Aber auch für fortgeschrittene Adventurebiker gibt es durchaus anspruchsvolle Traktorwege und Forststraßen. Je nach Fahrlevel und Bereifung der Gruppe richtet sich der Schwierigkeitsgrad der Touren. \nAdventurebike Training PRO\nHier geht es in erster Linie um Fahrtechnik. Dazu machen wir am Übungsgelände das Motorradsetup und Techniktraining. Danach geht es auf eine Schotterrunde nach Slowenien; inkl. Videoanalyse vom Ridingcoach. Dieses Training bringt Dich garantiert einen Fahrlevel weiter. \n  \n\nFahrlevel\nDein Training gestaltet sich nach Deinen bisherigen Offroaderfahrungen und Deinem Fahrkönnen. Wir haben 3 Trainingslevels. \n\nLevel 1 Offroad Beginner: Für Deine ersten Offroaderfahrungen möchtest Du die Basics lernen.\nLevel 2 Offroad Advanced Rider: Du beherrscht die Offroad Basics und willst besser werden.\nLevel 3 Offroad Expert Rider: Als erfahrener Offroad Biker geht es Dir um den Feinschliff.\n\nDurch die Angabe Deines Fahrlevels gestalten wir die Gruppen. Die Teilnehmerzahl ist auf maximal 3 Biker begrenzt um eine gute Betreuung zu gewährleisten. Mindestteilnehmerzahl sind 2 Personen. Bei Schlechtwetter verschieben wir. Alternative Termine\, auch unter der Woche\, sind auch möglich\, ebenso Mehrtagestrainings. Einfach anfragen. \nVorbereitung\nWelches Motorrad ist geeignet? Kann ich mit „Straßenreifen“ mitfahren? Soll ich bei den Reifen Luft ablassen? Welches Gepäck ist ideal? Kann ich sonst mein Motorrad vorbereiten? Was soll ich anziehen? Was soll ich mitnehmen? Alles über die richtige Vorbereitung erfahrt Ihr im JentlFlow Adventurebike Blog Beitrag Jentlflow Adventurebike Offroad Fahrtechnik Training – perfekt vorbereitet am Start. \nAnmeldung\n\n\n  \n\n\n\nVor-Nachname \nEmail \nStrasse \nPostleitzahl \nOrt \nTelefon \nGeburtsjahr \nMotorrad \nAnmerkungen \n \nMein Fahrlevel - bitte auswählen:\n \n\n	Nach unten scrollen und Fahrlevel wählenOffroad BeginnerOffroad Advanced RiderOffroad Expert Rider\nTermin bitte auswählen:\nNach unten scrollen und Tour wählen15.April Adventurebike Guiding Plus Level 217.April Adventurebike Schöckl Warm Up Offroad Basics19.April Adventurebike Guiding Plus Level 224.April Adventurebike Schöckl Warm Up Offroad Basics26.April Adventurebike Guiding Plus Level 2 Technik10.Mai Adventurebike Training Pro Offroad Basics21. Mai Adventurebike Training Pro Stefan M.29.Mai Adventurebike Guiding Plus Level 2 Driften12.Juni Adventurebike Guiding Plus Offroad Basics20.Juni Adventurebike Guiding Plus Level 2 Stefan J.25.Juni Adventurebike Training Pro Stefan M.11.July Rallyfahrtechniktraining Kupres12.July Rallyfahrtechniktraining Kupres\n	 \n\n Ich melde mich verbindlich für die Tour an.\n \n Ich stimme den Teilnahmebedingungen/AGB zu.\n-> Link zu den Teilnahmebedingungen\n \nIch habe die Datenschutzerklärung zur Kenntnis genommen und akzeptiert. Ich stimme zu\, dass meine Formularangaben zur Kontaktaufnahme bzw. zur Bearbeitung meines Anliegens gespeichert werden.\n-> Link zur Datenschutzerklärung\n \n\n \nFalls nach der Anmeldung keine Antwort kommt bitte SPAM-Ordner prüfen.\n ×
URL:https://www.jentlflow.at/event/adventurebike-training-pro-slowenien-26-9-2023/
LOCATION:Eibiswald Socar Tankstelle\, Eibiswald 242a\, Eibiswald\, Steiermark\, 8552\, Österreich
CATEGORIES:Adventurebiketraining Basic
ORGANIZER;CN="JentlFlow":MAILTO:jentl@jeneweinflow.at
END:VEVENT
BEGIN:VEVENT
DTSTART;VALUE=DATE:20230928
DTEND;VALUE=DATE:20230930
DTSTAMP:20260423T123213
CREATED:20230301T150448Z
LAST-MODIFIED:20230922T161615Z
UID:9981-1695859200-1696031999@www.jentlflow.at
SUMMARY:2 Tage Adventurebike Trail Riding Slowenien
DESCRIPTION:<Diese Veranstaltung ist ausgebucht!> Anspruchsvolles Gelände für erfahrene 2-Zylinder Adventurebikepiloten.\n \nNur 45 Minuten südlich von Graz bietet ein riesiges Schotterstaßennetz gleich hinter der steirisch-slowenischen Grenze die Basis für legalen Offroadfahrspaß. Die öffentlichen Nebenstraßen sind in diesem Gebiet meist geschottert und zahlreiche Traktor- und Forstwege legal befahrbar.  Dabei nehmen wir immer wieder anspruchsvolle Abschneider mit. Die Tour richtet sich an gute und sehr gute 2-Zylinder Adventurebiker. Gutes Fahrkönnen ist Voraussetzung\, gute Offroadreifen kein Fehler. \n  \n\nInfo\n\nMaximal 5 Teilnehmer\nNur 2-Zylinder\nGute Offroad Fahrtechnik\nZumindest 50:50 Reifen\, je nach Witterung\nWir starten beide Tage von Arnfels aus\, 10:00 Socar Tankstelle\nAnkunft wieder in Arnfels ca 17:00\nTagestouren ca 150-200km mit Mittagspause\n\nPreis: 229\,- \nAnmeldung\n\n\n  \n\n\n\nVor-Nachname \nEmail  \nStraße \nPostleitzahl \nOrt  \nTelefon \nGeburtsjahr \nMotorrad \nAnmerkungen \nMein Fahrlevel - bitte auswählen:\n \n\n	Nach unten scrollen und Fahrlevel wählenOffroad BeginnerOffroad Advanced RiderOffroad Expert Rider\nTour bitte auswählen:\nNach unten scrollen und Tour wählen21-22.April Adventurebike Guidining Plus Rene D.28.Apr-1.Mai Rallyfahrtechniktraining Gospic 11-4.Mai Rallyfahrtechniktraining Gospic 26-7.Mai Adventurebike Guiding Plus Level 2 Pro Patricia K12-15.Mai Rallyfahrtechniktraining Gospic 315-18.Mai Rallyfahrtechniktraining Gospic 424-25.Mai Adventurebike Training Pro Offroad Basics31.Mai-1.Juni Adventurebike Training Pro Offroad Basics5-8.Juni Rallyfahrtechniktraining Gospic 528-29.Juni Adventurebike Training Pro Offroad Basics14-15.Juni Adventurebike Guiding Plus Level 2 Technik5-6.Juli Adventurebike Guiding Plus Level 2 Driften26-27.Juli Adventurebike Training Pro Offroad Basics7-10.Aug Adventurebike Advanced Tour Rakek26-30.Aug Westalpen Adventurebike Explor Week1-5.Sept Westalpen Adventurebike Enjoy Week7-11.Sept Westalpen Adventurebike Fast Week19-20.Sept Adventurebike Guiding Plus Gery S.26-28.Sep Adventurebike Training Pro Ronald N.2-5.Okt 4-Tage Adventurebike Kroatientour Gospic\n	 \n\n Ich melde mich verbindlich für die Tour an.\n \n Ich stimme den Teilnahmebedingungen/AGB zu.\n-> Link zu den Teilnahmebedingungen\n \nIch habe die Datenschutzerklärung zur Kenntnis genommen und akzeptiert. Ich stimme zu\, dass meine Formularangaben zur Kontaktaufnahme bzw. zur Bearbeitung meines Anliegens gespeichert werden.\n-> Link zur Datenschutzerklärung\n \n\n \nFalls nach der Anmeldung keine Antwort kommt bitte SPAM-Ordner prüfen.\n ×
URL:https://www.jentlflow.at/event/2-tage-adventurebike-trail-riding-slowenien-28-9-2023/
LOCATION:Arnfels\, Socar Tankstelle\, Leibnitzer Str. 277\, Arnfels\, Steiermark\, 8454\, Österreich
CATEGORIES:Adventurebiketour advanced
ORGANIZER;CN="JentlFlow":MAILTO:jentl@jeneweinflow.at
END:VEVENT
END:VCALENDAR