BEGIN:VCALENDAR
VERSION:2.0
PRODID:-//JentlFlow - ECPv6.15.20//NONSGML v1.0//EN
CALSCALE:GREGORIAN
METHOD:PUBLISH
X-ORIGINAL-URL:https://www.jentlflow.at
X-WR-CALDESC:Veranstaltungen für JentlFlow
REFRESH-INTERVAL;VALUE=DURATION:PT1H
X-Robots-Tag:noindex
X-PUBLISHED-TTL:PT1H
BEGIN:VTIMEZONE
TZID:Europe/Vienna
BEGIN:DAYLIGHT
TZOFFSETFROM:+0100
TZOFFSETTO:+0200
TZNAME:CEST
DTSTART:20210328T010000
END:DAYLIGHT
BEGIN:STANDARD
TZOFFSETFROM:+0200
TZOFFSETTO:+0100
TZNAME:CET
DTSTART:20211031T010000
END:STANDARD
BEGIN:DAYLIGHT
TZOFFSETFROM:+0100
TZOFFSETTO:+0200
TZNAME:CEST
DTSTART:20220327T010000
END:DAYLIGHT
BEGIN:STANDARD
TZOFFSETFROM:+0200
TZOFFSETTO:+0100
TZNAME:CET
DTSTART:20221030T010000
END:STANDARD
BEGIN:DAYLIGHT
TZOFFSETFROM:+0100
TZOFFSETTO:+0200
TZNAME:CEST
DTSTART:20230326T010000
END:DAYLIGHT
BEGIN:STANDARD
TZOFFSETFROM:+0200
TZOFFSETTO:+0100
TZNAME:CET
DTSTART:20231029T010000
END:STANDARD
END:VTIMEZONE
BEGIN:VEVENT
DTSTART;TZID=Europe/Vienna:20220806T100000
DTEND;TZID=Europe/Vienna:20220806T170000
DTSTAMP:20260424T064510
CREATED:20220613T124323Z
LAST-MODIFIED:20220803T064103Z
UID:8872-1659780000-1659805200@www.jentlflow.at
SUMMARY:Adventurebike Guiding Plus Slowenien
DESCRIPTION:< Noch 1 Platz frei\, advanced rider > \nNur 45 Minuten südlich von Graz oder süd-östlich von Klagenfurt bietet ein riesiges Schotterstaßennetz Offroadfahrspaß ohne Ende. Für die ersten Versuche auf Schotter mit dem Adventurebike eigenen sich die Tagestouren in Slowenien perfekt. Auf den leichten Schotterstraßen gewinnt man mit der richtigen Fahrtechnik schnell Vertrauen. Aber auch für fortgeschrittene Adventurebiker gibt es durchaus anspruchsvolle Traktorwege und Forststraßen. Je nach Fahrlevel und Bereifung der Gruppe richtet sich der Schwierigkeitsgrad der Touren. \nAdventurebike Guiding Plus\nBei dieser Tour liegt der Schwerpunkt auf Guiding durch das wunderschöne Hügelland hinter der österreichischen Grenze. Das Fahrerlebnis steht hier im Vordergrund. In den Pausen gibt es Setup- und Fahrtechniktipps vom Ridingcoach. Alternativ gibt es das Adventurebike Training Pro mit Fokus auf Fahrtechnik an anderen Terminen. \n\nFahrlevel\nDas Guiding gestaltet sich nach Deinen bisherigen Offroaderfahrungen und Deinem Fahrkönnen. Wir haben 3 Trainingslevels. Dieser Termin richtet sich speziell an fortgeschrittene Offroad Biker! \n\nLevel 1 Offroad Beginner: Für Deine ersten Offroaderfahrungen möchtest Du die Basics lernen.\nLevel 2 Offroad Advanced Rider: Du beherrscht die Offroad Basics und willst besser werden.\nLevel 3 Offroad Expert Rider: Als erfahrener Offroad Biker geht es Dir um den Feinschliff.\n\nDurch die Angabe Deines Fahrlevels gestalten wir die Gruppen. Die Teilnehmerzahl ist auf maximal 4 Biker begrenzt um eine gute Betreuung zu gewährleisten. Mindestteilnehmerzahl sind 2 Personen. Bei Schlechtwetter verschieben wir. Alternative Termine\, auch unter der Woche\, sind auch möglich\, ebenso Mehrtagestrainings. Einfach anfragen. \nVorbereitung\nWelches Motorrad ist geeignet? Kann ich mit „Straßenreifen“ mitfahren? Soll ich bei den Reifen Luft ablassen? Welches Gepäck ist ideal? Kann ich sonst mein Motorrad vorbereiten? Was soll ich anziehen? Was soll ich mitnehmen? Alles über die richtige Vorbereitung erfahrt Ihr im JentlFlow Adventurebike Blog Beitrag Jentlflow Adventurebike Offroad Fahrtechnik Training – perfekt vorbereitet am Start. \nPreis: 149\,-\nAnmeldung\n\n\n  \n\n\n\nVor-Nachname \nEmail \nStrasse \nPostleitzahl \nOrt \nTelefon \nGeburtsjahr \nMotorrad \nAnmerkungen \n \nMein Fahrlevel - bitte auswählen:\n \n\n	Nach unten scrollen und Fahrlevel wählenOffroad BeginnerOffroad Advanced RiderOffroad Expert Rider\nTermin bitte auswählen:\nNach unten scrollen und Tour wählen26.April Adventurebike Guiding Plus Level 2 Technik10.Mai Adventurebike Training Pro Offroad Basics21. Mai Adventurebike Training Pro Stefan M.29.Mai Adventurebike Guiding Plus Level 2 Driften12.Juni Adventurebike Guiding Plus Offroad Basics20.Juni Adventurebike Guiding Plus Level 2 Stefan J.25.Juni Adventurebike Training Pro Stefan M.11.July Rallyfahrtechniktraining Kupres12.July Rallyfahrtechniktraining Kupres\n	 \n\n Ich melde mich verbindlich für die Tour an.\n \n Ich stimme den Teilnahmebedingungen/AGB zu.\n-> Link zu den Teilnahmebedingungen\n \nIch habe die Datenschutzerklärung zur Kenntnis genommen und akzeptiert. Ich stimme zu\, dass meine Formularangaben zur Kontaktaufnahme bzw. zur Bearbeitung meines Anliegens gespeichert werden.\n-> Link zur Datenschutzerklärung\n \n\n \nFalls nach der Anmeldung keine Antwort kommt bitte SPAM-Ordner prüfen.\n ×
URL:https://www.jentlflow.at/event/adventurebike-guiding-plus-slowenien-6-8-2022/
LOCATION:Arnfels\, Socar Tankstelle\, Leibnitzer Str. 277\, Arnfels\, Steiermark\, 8454\, Österreich
CATEGORIES:Adventurebiketraining Basic
ORGANIZER;CN="JentlFlow":MAILTO:jentl@jeneweinflow.at
END:VEVENT
BEGIN:VEVENT
DTSTART;TZID=Europe/Vienna:20220812T100000
DTEND;TZID=Europe/Vienna:20220812T170000
DTSTAMP:20260424T064510
CREATED:20211111T195339Z
LAST-MODIFIED:20220810T140638Z
UID:8004-1660298400-1660323600@www.jentlflow.at
SUMMARY:Endurowandern Tagestour Slowenien
DESCRIPTION:< Diese Tour ist ausgebucht. Individuelle Termine auf Anfrage > \nNur 45 Minuten südlich von Graz bietet ein riesiges Schotterstaßennetz gleich hinter der steirisch-slowenischen Grenze die Basis für legalen Offroadfahrspaß\, auch mit der Sportenduro. Sofern man keinen Hardenduroanspruch hat. Die öffentlichen Nebenstraßen sind in diesem Gebiet meist geschottert und zahlreiche Traktor- und Forstwege legal befahrbar. Wir starten in Eibiswald und fahren gemeinsam über einen der zahlreichen kleinen unbesetzten Grenzübergänge nach Slowenien. \nDie Tour richtet sich an Einsteiger und Genussfahrer auf leisen\, angemeldeten Sportenduros. Beim Endurowandern geht es nicht um Geschwindigkeit. Spaß und Fahrerlebnis in herrlicher Landschaft stehen im Vordergrund. Wir verhalten uns leise und rücksichtsvoll. Noch sind wir hier willkommen\, und so soll es auch bleiben! ? \nDie Teilnehmerzahl ist auf maximal 5 Biker begrenzt\, um eine gute Betreuung zu gewährleisten. Mindestteilnehmerzahl sind 2 Personen. Bei Schlechtwetter verschieben wir. Alternative Termine sind auch gerne möglich\, ebenso Mehrtagestouren oder eine Kombination mit Techniktraining. Einfach anfragen. \n\nPreis: 99\,-\nAnmeldung\n\n\n  \n\n\n\nVor-Nachname \nEmail \nStrasse \nPostleitzahl \nOrt \nTelefon \nGeburtsjahr \nMotorrad \nAnmerkungen \n \nMein Fahrlevel - bitte auswählen:\n \n\n	Nach unten scrollen und Fahrlevel wählenOffroad BeginnerOffroad Advanced RiderOffroad Expert Rider\nTermin bitte auswählen:\nNach unten scrollen und Tour wählen26.April Adventurebike Guiding Plus Level 2 Technik10.Mai Adventurebike Training Pro Offroad Basics21. Mai Adventurebike Training Pro Stefan M.29.Mai Adventurebike Guiding Plus Level 2 Driften12.Juni Adventurebike Guiding Plus Offroad Basics20.Juni Adventurebike Guiding Plus Level 2 Stefan J.25.Juni Adventurebike Training Pro Stefan M.11.July Rallyfahrtechniktraining Kupres12.July Rallyfahrtechniktraining Kupres\n	 \n\n Ich melde mich verbindlich für die Tour an.\n \n Ich stimme den Teilnahmebedingungen/AGB zu.\n-> Link zu den Teilnahmebedingungen\n \nIch habe die Datenschutzerklärung zur Kenntnis genommen und akzeptiert. Ich stimme zu\, dass meine Formularangaben zur Kontaktaufnahme bzw. zur Bearbeitung meines Anliegens gespeichert werden.\n-> Link zur Datenschutzerklärung\n \n\n \nFalls nach der Anmeldung keine Antwort kommt bitte SPAM-Ordner prüfen.\n ×
URL:https://www.jentlflow.at/event/endurowandern-tagestour-slowenien-12-08-2022/
LOCATION:Steiermark
CATEGORIES:Endurowandern
ORGANIZER;CN="JentlFlow":MAILTO:jentl@jeneweinflow.at
END:VEVENT
BEGIN:VEVENT
DTSTART;VALUE=DATE:20220814
DTEND;VALUE=DATE:20220816
DTSTAMP:20260424T064510
CREATED:20211105T135438Z
LAST-MODIFIED:20220526T140435Z
UID:7962-1660435200-1660607999@www.jentlflow.at
SUMMARY:2 Tage Adventurebike Training Pro Slowenien
DESCRIPTION:< Diese Tour ist ausgebucht. Individuelle Termine auf Anfrage > \nNur 45 Minuten südlich von Graz oder süd-östlich von Klagenfurt bietet ein riesiges Schotterstaßennetz Offroadfahrspaß ohne Ende. Für die ersten Versuche auf Schotter mit dem Adventurebike eigenen sich die Tagestouren in Slowenien perfekt. Auf den leichten Schotterstraßen gewinnt man mit der richtigen Fahrtechnik schnell Vertrauen. Aber auch für fortgeschrittene Adventurebiker gibt es durchaus anspruchsvolle Traktorwege und Forststraßen. Je nach Fahrlevel und Bereifung der Gruppe richtet sich der Schwierigkeitsgrad der Touren. \nAdventurebike Training PRO\nWir starten beide Tage von Eibiswald aus. Am ersten Tag geht es in erster Linie um Motorradsetup und Fahrtechnik Basics. Dazu nutzen wir das Übungsgelände. Danach geht es auf eine Schotterrunde nach Slowenien; inkl. Videoanalyse vom Ridingcoach. Am zweiten Tag vertiefen wir das Gelernte auf einer größeren Tour im slowenischen Hügelland. So ist der Lernerfolg deutlich größer als bei Tagestrainings. \n\nFahrlevel\nDas Training gestaltet sich nach Deinen bisherigen Offroaderfahrungen und Deinem Fahrkönnen. Wir haben 3 Trainingslevels. \n\nLevel 1 Offroad Beginner: Für Deine ersten Offroaderfahrungen möchtest Du die Basics lernen.\nLevel 2 Offroad Advanced Rider: Du beherrscht die Offroad Basics und willst besser werden.\nLevel 3 Offroad Expert Rider: Als erfahrener Offroad Biker geht es Dir um den Feinschliff.\n\nDurch die Angabe Deines Fahrlevels gestalten wir die Gruppen. Die Teilnehmerzahl ist auf maximal 4 Biker begrenzt\, um eine gute Betreuung zu gewährleisten. Bei Schlechtwetter verschieben wir. Alternative Termine\, auch unter der Woche\, sind gerne auch möglich. Einfach anfragen. \nVorbereitung\nWelches Motorrad ist geeignet? Kann ich mit „Straßenreifen“ mitfahren? Soll ich bei den Reifen Luft ablassen? Welches Gepäck ist ideal? Kann ich sonst mein Motorrad vorbereiten? Was soll ich anziehen? Was soll ich mitnehmen? Alles über die richtige Vorbereitung erfahrt Ihr im JentlFlow Adventurebike Blog Beitrag Jentlflow Adventurebike Offroad Fahrtechnik Training – perfekt vorbereitet am Start. \nInfo:\n\n2-Tages Adventurebike Training von Eibiswald aus\nStart beide Tage 10:00 in Eibiswald\, A1 Tankstelle\nTrainingsende beide Tage 17:00 in Eibiswald\nÜbernachtungsmöglichkeiten gibt es in den Ausläufern der steirischen Weinstraße\nMindestens 2\, maximal 4 Personen\n\nPreis: 349\,-\nAnmeldung\n\n\n  \n\n\n\nVor-Nachname \nEmail  \nStraße \nPostleitzahl \nOrt  \nTelefon \nGeburtsjahr \nMotorrad \nAnmerkungen \nMein Fahrlevel - bitte auswählen:\n \n\n	Nach unten scrollen und Fahrlevel wählenOffroad BeginnerOffroad Advanced RiderOffroad Expert Rider\nTour bitte auswählen:\nNach unten scrollen und Tour wählen28.Apr-1.Mai Rallyfahrtechniktraining Gospic 11-4.Mai Rallyfahrtechniktraining Gospic 26-7.Mai Adventurebike Guiding Plus Level 2 Pro Patricia K12-15.Mai Rallyfahrtechniktraining Gospic 315-18.Mai Rallyfahrtechniktraining Gospic 424-25.Mai Adventurebike Training Pro Offroad Basics31.Mai-1.Juni Adventurebike Training Pro Offroad Basics5-8.Juni Rallyfahrtechniktraining Gospic 528-29.Juni Adventurebike Training Pro Offroad Basics14-15.Juni Adventurebike Guiding Plus Level 2 Technik5-6.Juli Adventurebike Guiding Plus Level 2 Driften26-27.Juli Adventurebike Training Pro Offroad Basics7-10.Aug Adventurebike Advanced Tour Rakek18-19.Aug Adventurebike Training Pro Offroad Basics26-30.Aug Westalpen Adventurebike Explor Week1-5.Sept Westalpen Adventurebike Enjoy Week7-11.Sept Westalpen Adventurebike Fast Week19-20.Sept Adventurebike Guiding Plus Gery S.26-28.Sep Adventurebike Training Pro Ronald N.2-5.Okt 4-Tage Adventurebike Kroatientour Gospic\n	 \n\n Ich melde mich verbindlich für die Tour an.\n \n Ich stimme den Teilnahmebedingungen/AGB zu.\n-> Link zu den Teilnahmebedingungen\n \nIch habe die Datenschutzerklärung zur Kenntnis genommen und akzeptiert. Ich stimme zu\, dass meine Formularangaben zur Kontaktaufnahme bzw. zur Bearbeitung meines Anliegens gespeichert werden.\n-> Link zur Datenschutzerklärung\n \n\n \nFalls nach der Anmeldung keine Antwort kommt bitte SPAM-Ordner prüfen.\n ×
URL:https://www.jentlflow.at/event/2-tage-adventurebike-training-pro-slowenien-14-08-2022/
LOCATION:Eibiswald Socar Tankstelle\, Eibiswald 242a\, Eibiswald\, Steiermark\, 8552\, Österreich
CATEGORIES:Adventurebiketraining Basic
ORGANIZER;CN="JentlFlow":MAILTO:jentl@jeneweinflow.at
END:VEVENT
BEGIN:VEVENT
DTSTART;VALUE=DATE:20220820
DTEND;VALUE=DATE:20220823
DTSTAMP:20260424T064510
CREATED:20211104T140706Z
LAST-MODIFIED:20220812T185428Z
UID:7892-1660953600-1661212799@www.jentlflow.at
SUMMARY:3 Tage Adventurebiketour Slowenien
DESCRIPTION:< Noch ein Platz frei! >\nZwischen Ljubljana und Triest gelegen eignet sich die Hochebene um Postojna ideal als Ausgangspunkt für herrliche Offroadausflüge. Die Wäder sind durchzogen mit Forstwegen und die Wege für Adventurebikes durchwegs anspruchsvoll. \nBei dieser Tour fahren wir von Postojna aus 3 Schleifen. Am ersten Tag als Warm up eine 150km 100% Offroadrunde mit viel Schotter und ein paar anspruchsvollen Wegen. Die große 300km Runde am zweiten Tag führt durch unterschiedlichste Landschaften und bietet tolle Geländepassagen. Inkusive Meerblick bei Triest. Am dritten und letzten Tag geht es dann über Schotterstraßen nach Süden bis zur kroatischen Grenze und über herrliche Hochebenen zurück nach Postojna. Ca. 200km. \nDabei fahren Teile des TET Sloweniens\, hier der Bericht von der JentlFlow Scouting Tour 2020: TET Experience Slowenien – KTM Adventure 790R \n\nInfo\n\nZeitplan:\nSamstag: Anreise\, Tourstart 14:00\, 150km Warmup um Postojna 100% offroad\nSonntag: Große Schleife bis Triest\, ca 300km\nMontag: Südrunde und retour nach Postojna\, ca 200km\, Heimreise\nFahrlevel: Advanced Rider\nQuartier: Mehrere Möglichkeiten in und um Postojna\nBegrenzte Teilnehmerzahl: maximal 5 Personen\nTeilnahme auf eigene Gefahr: >> Teilnahmebedingungen\n\nPreis: 199\,-\nAnmeldung\n\n\n  \n\n\n\nVor-Nachname \nEmail  \nStraße \nPostleitzahl \nOrt  \nTelefon \nGeburtsjahr \nMotorrad \nAnmerkungen \nMein Fahrlevel - bitte auswählen:\n \n\n	Nach unten scrollen und Fahrlevel wählenOffroad BeginnerOffroad Advanced RiderOffroad Expert Rider\nTour bitte auswählen:\nNach unten scrollen und Tour wählen28.Apr-1.Mai Rallyfahrtechniktraining Gospic 11-4.Mai Rallyfahrtechniktraining Gospic 26-7.Mai Adventurebike Guiding Plus Level 2 Pro Patricia K12-15.Mai Rallyfahrtechniktraining Gospic 315-18.Mai Rallyfahrtechniktraining Gospic 424-25.Mai Adventurebike Training Pro Offroad Basics31.Mai-1.Juni Adventurebike Training Pro Offroad Basics5-8.Juni Rallyfahrtechniktraining Gospic 528-29.Juni Adventurebike Training Pro Offroad Basics14-15.Juni Adventurebike Guiding Plus Level 2 Technik5-6.Juli Adventurebike Guiding Plus Level 2 Driften26-27.Juli Adventurebike Training Pro Offroad Basics7-10.Aug Adventurebike Advanced Tour Rakek18-19.Aug Adventurebike Training Pro Offroad Basics26-30.Aug Westalpen Adventurebike Explor Week1-5.Sept Westalpen Adventurebike Enjoy Week7-11.Sept Westalpen Adventurebike Fast Week19-20.Sept Adventurebike Guiding Plus Gery S.26-28.Sep Adventurebike Training Pro Ronald N.2-5.Okt 4-Tage Adventurebike Kroatientour Gospic\n	 \n\n Ich melde mich verbindlich für die Tour an.\n \n Ich stimme den Teilnahmebedingungen/AGB zu.\n-> Link zu den Teilnahmebedingungen\n \nIch habe die Datenschutzerklärung zur Kenntnis genommen und akzeptiert. Ich stimme zu\, dass meine Formularangaben zur Kontaktaufnahme bzw. zur Bearbeitung meines Anliegens gespeichert werden.\n-> Link zur Datenschutzerklärung\n \n\n \nFalls nach der Anmeldung keine Antwort kommt bitte SPAM-Ordner prüfen.\n ×
URL:https://www.jentlflow.at/event/3-tage-adventurebiketour-slowenien-20-08-2022/
LOCATION:Steiermark
CATEGORIES:Adventurebiketour advanced
ORGANIZER;CN="JentlFlow":MAILTO:jentl@jeneweinflow.at
END:VEVENT
BEGIN:VEVENT
DTSTART;VALUE=DATE:20220824
DTEND;VALUE=DATE:20220826
DTSTAMP:20260424T064510
CREATED:20220614T181136Z
LAST-MODIFIED:20220615T183311Z
UID:8884-1661299200-1661471999@www.jentlflow.at
SUMMARY:2 Tage Adventurebike Training Pro Slowenien
DESCRIPTION:< Exklusiver Termin Karl H. > \nNur 45 Minuten südlich von Graz oder süd-östlich von Klagenfurt bietet ein riesiges Schotterstaßennetz Offroadfahrspaß ohne Ende. Für die ersten Versuche auf Schotter mit dem Adventurebike eigenen sich die Tagestouren in Slowenien perfekt. Auf den leichten Schotterstraßen gewinnt man mit der richtigen Fahrtechnik schnell Vertrauen. Aber auch für fortgeschrittene Adventurebiker gibt es durchaus anspruchsvolle Traktorwege und Forststraßen. Je nach Fahrlevel und Bereifung der Gruppe richtet sich der Schwierigkeitsgrad der Touren. \nAdventurebike Training PRO\nWir starten beide Tage von Eibiswald aus. Am ersten Tag geht es in erster Linie um Motorradsetup und Fahrtechnik Basics. Dazu nutzen wir das Übungsgelände. Danach geht es auf eine Schotterrunde nach Slowenien; inkl. Videoanalyse vom Ridingcoach. Am zweiten Tag vertiefen wir das Gelernte auf einer größeren Tour im slowenischen Hügelland. So ist der Lernerfolg deutlich größer als bei Tagestrainings. \n\nFahrlevel\nDas Training gestaltet sich nach Deinen bisherigen Offroaderfahrungen und Deinem Fahrkönnen. Wir haben 3 Trainingslevels. \n\nLevel 1 Offroad Beginner: Für Deine ersten Offroaderfahrungen möchtest Du die Basics lernen.\nLevel 2 Offroad Advanced Rider: Du beherrscht die Offroad Basics und willst besser werden.\nLevel 3 Offroad Expert Rider: Als erfahrener Offroad Biker geht es Dir um den Feinschliff.\n\nDurch die Angabe Deines Fahrlevels gestalten wir die Gruppen. Die Teilnehmerzahl ist auf maximal 4 Biker begrenzt\, um eine gute Betreuung zu gewährleisten. Bei Schlechtwetter verschieben wir. Alternative Termine\, auch unter der Woche\, sind gerne auch möglich. Einfach anfragen. \nVorbereitung\nWelches Motorrad ist geeignet? Kann ich mit „Straßenreifen“ mitfahren? Soll ich bei den Reifen Luft ablassen? Welches Gepäck ist ideal? Kann ich sonst mein Motorrad vorbereiten? Was soll ich anziehen? Was soll ich mitnehmen? Alles über die richtige Vorbereitung erfahrt Ihr im JentlFlow Adventurebike Blog Beitrag Jentlflow Adventurebike Offroad Fahrtechnik Training – perfekt vorbereitet am Start. \nInfo:\n\n2-Tages Adventurebike Training von Eibiswald aus\nStart beide Tage 10:00 in Eibiswald\, Socar Tankstelle\nTrainingsende beide Tage 17:00 in Eibiswald\nÜbernachtungsmöglichkeiten gibt es in den Ausläufern der steirischen Weinstraße\nMindestens 2\, maximal 4 Personen\n\nAnmeldung\n\n\n  \n\n\n\nVor-Nachname \nEmail  \nStraße \nPostleitzahl \nOrt  \nTelefon \nGeburtsjahr \nMotorrad \nAnmerkungen \nMein Fahrlevel - bitte auswählen:\n \n\n	Nach unten scrollen und Fahrlevel wählenOffroad BeginnerOffroad Advanced RiderOffroad Expert Rider\nTour bitte auswählen:\nNach unten scrollen und Tour wählen28.Apr-1.Mai Rallyfahrtechniktraining Gospic 11-4.Mai Rallyfahrtechniktraining Gospic 26-7.Mai Adventurebike Guiding Plus Level 2 Pro Patricia K12-15.Mai Rallyfahrtechniktraining Gospic 315-18.Mai Rallyfahrtechniktraining Gospic 424-25.Mai Adventurebike Training Pro Offroad Basics31.Mai-1.Juni Adventurebike Training Pro Offroad Basics5-8.Juni Rallyfahrtechniktraining Gospic 528-29.Juni Adventurebike Training Pro Offroad Basics14-15.Juni Adventurebike Guiding Plus Level 2 Technik5-6.Juli Adventurebike Guiding Plus Level 2 Driften26-27.Juli Adventurebike Training Pro Offroad Basics7-10.Aug Adventurebike Advanced Tour Rakek18-19.Aug Adventurebike Training Pro Offroad Basics26-30.Aug Westalpen Adventurebike Explor Week1-5.Sept Westalpen Adventurebike Enjoy Week7-11.Sept Westalpen Adventurebike Fast Week19-20.Sept Adventurebike Guiding Plus Gery S.26-28.Sep Adventurebike Training Pro Ronald N.2-5.Okt 4-Tage Adventurebike Kroatientour Gospic\n	 \n\n Ich melde mich verbindlich für die Tour an.\n \n Ich stimme den Teilnahmebedingungen/AGB zu.\n-> Link zu den Teilnahmebedingungen\n \nIch habe die Datenschutzerklärung zur Kenntnis genommen und akzeptiert. Ich stimme zu\, dass meine Formularangaben zur Kontaktaufnahme bzw. zur Bearbeitung meines Anliegens gespeichert werden.\n-> Link zur Datenschutzerklärung\n \n\n \nFalls nach der Anmeldung keine Antwort kommt bitte SPAM-Ordner prüfen.\n ×
URL:https://www.jentlflow.at/event/2-tage-adventurebike-training-pro-slowenien-24-8-2022/
LOCATION:Eibiswald Socar Tankstelle\, Eibiswald 242a\, Eibiswald\, Steiermark\, 8552\, Österreich
CATEGORIES:Adventurebiketraining Basic
ORGANIZER;CN="JentlFlow":MAILTO:jentl@jeneweinflow.at
END:VEVENT
BEGIN:VEVENT
DTSTART;TZID=Europe/Vienna:20220827T100000
DTEND;TZID=Europe/Vienna:20220827T170000
DTSTAMP:20260424T064510
CREATED:20220622T142244Z
LAST-MODIFIED:20220720T114743Z
UID:8888-1661594400-1661619600@www.jentlflow.at
SUMMARY:Adventurebike Guiding Plus Level 2 Slowenien
DESCRIPTION:< Diese Tour ist ausgebucht. Individuelle Termine auf Anfrage > \nIhr habt das JentlFlow Basic Training gemacht? Dann könnt Ihr bei dieser Tour an Eurer Technik feilen und weiter dazulernen. Die Schotterstraßen und Forstwege gleich hinter der steirisch – slowenischen Grenze bieten auch fortgeschrittenen Adventurebikern perfekte Voraussetzungen. \nAdventurebike Guiding Plus Level 2\nBei dieser Tour liegt der Schwerpunkt auf Guiding durch das wunderschöne Hügelland hinter der österreichischen Grenze. Dabei fahren wir diesmal auch etwas anspruchsvollere Wege. In den Pausen gibt es Setup- und Fahrtechniktipps vom Ridingcoach. Dabei geht es vor allem darum\, die Basictechniken für härteres Gelände und schnellers Fahren weiterzuentwickeln. \n\n  \nDie Teilnehmerzahl ist auf maximal 4 Biker begrenzt um eine gute Betreuung zu gewährleisten. Mindestteilnehmerzahl sind 2 Personen. Bei Schlechtwetter verschieben wir. Alternative Termine\, auch unter der Woche\, sind auch möglich\, ebenso Mehrtagestrainings. Einfach anfragen. \nPreis: 149\,-\nAnmeldung\n\n\n  \n\n\n\nVor-Nachname \nEmail \nStrasse \nPostleitzahl \nOrt \nTelefon \nGeburtsjahr \nMotorrad \nAnmerkungen \n \nMein Fahrlevel - bitte auswählen:\n \n\n	Nach unten scrollen und Fahrlevel wählenOffroad BeginnerOffroad Advanced RiderOffroad Expert Rider\nTermin bitte auswählen:\nNach unten scrollen und Tour wählen26.April Adventurebike Guiding Plus Level 2 Technik10.Mai Adventurebike Training Pro Offroad Basics21. Mai Adventurebike Training Pro Stefan M.29.Mai Adventurebike Guiding Plus Level 2 Driften12.Juni Adventurebike Guiding Plus Offroad Basics20.Juni Adventurebike Guiding Plus Level 2 Stefan J.25.Juni Adventurebike Training Pro Stefan M.11.July Rallyfahrtechniktraining Kupres12.July Rallyfahrtechniktraining Kupres\n	 \n\n Ich melde mich verbindlich für die Tour an.\n \n Ich stimme den Teilnahmebedingungen/AGB zu.\n-> Link zu den Teilnahmebedingungen\n \nIch habe die Datenschutzerklärung zur Kenntnis genommen und akzeptiert. Ich stimme zu\, dass meine Formularangaben zur Kontaktaufnahme bzw. zur Bearbeitung meines Anliegens gespeichert werden.\n-> Link zur Datenschutzerklärung\n \n\n \nFalls nach der Anmeldung keine Antwort kommt bitte SPAM-Ordner prüfen.\n ×
URL:https://www.jentlflow.at/event/adventurebike-guiding-plus-level-2-slowenien-27-8-2022/
LOCATION:Arnfels\, Socar Tankstelle\, Leibnitzer Str. 277\, Arnfels\, Steiermark\, 8454\, Österreich
CATEGORIES:Adventurebiketraining advanced
ORGANIZER;CN="JentlFlow":MAILTO:jentl@jeneweinflow.at
END:VEVENT
BEGIN:VEVENT
DTSTART;TZID=Europe/Vienna:20220828T100000
DTEND;TZID=Europe/Vienna:20220828T170000
DTSTAMP:20260424T064510
CREATED:20211105T092315Z
LAST-MODIFIED:20220801T100158Z
UID:7924-1661680800-1661706000@www.jentlflow.at
SUMMARY:Adventurebike Guiding Plus Slowenien
DESCRIPTION:< Diese Tour ist ausgebucht. Individuelle Termine auf Anfrage > \nNur 45 Minuten südlich von Graz oder süd-östlich von Klagenfurt bietet ein riesiges Schotterstaßennetz Offroadfahrspaß ohne Ende. Für die ersten Versuche auf Schotter mit dem Adventurebike eigenen sich die Tagestouren in Slowenien perfekt. Auf den leichten Schotterstraßen gewinnt man mit der richtigen Fahrtechnik schnell Vertrauen. Aber auch für fortgeschrittene Adventurebiker gibt es durchaus anspruchsvolle Traktorwege und Forststraßen. Je nach Fahrlevel und Bereifung der Gruppe richtet sich der Schwierigkeitsgrad der Touren. \nAdventurebike Guiding Plus\nBei dieser Tour liegt der Schwerpunkt auf Guiding durch das wunderschöne Hügelland hinter der österreichischen Grenze. Das Fahrerlebnis steht hier im Vordergrund. In den Pausen gibt es Setup- und Fahrtechniktipps vom Ridingcoach. Alternativ gibt es das Adventurebike Training Pro mit Fokus auf Fahrtechnik an anderen Terminen. \n\nFahrlevel\nDas Guiding gestaltet sich nach Deinen bisherigen Offroaderfahrungen und Deinem Fahrkönnen. Wir haben 3 Trainingslevels. Dieser Termin richtet sich speziell an fortgeschrittene Offroad Biker! \n\nLevel 1 Offroad Beginner: Für Deine ersten Offroaderfahrungen möchtest Du die Basics lernen.\nLevel 2 Offroad Advanced Rider: Du beherrscht die Offroad Basics und willst besser werden.\nLevel 3 Offroad Expert Rider: Als erfahrener Offroad Biker geht es Dir um den Feinschliff.\n\nDurch die Angabe Deines Fahrlevels gestalten wir die Gruppen. Die Teilnehmerzahl ist auf maximal 4 Biker begrenzt um eine gute Betreuung zu gewährleisten. Mindestteilnehmerzahl sind 2 Personen. Bei Schlechtwetter verschieben wir. Alternative Termine\, auch unter der Woche\, sind auch möglich\, ebenso Mehrtagestrainings. Einfach anfragen. \nVorbereitung\nWelches Motorrad ist geeignet? Kann ich mit „Straßenreifen“ mitfahren? Soll ich bei den Reifen Luft ablassen? Welches Gepäck ist ideal? Kann ich sonst mein Motorrad vorbereiten? Was soll ich anziehen? Was soll ich mitnehmen? Alles über die richtige Vorbereitung erfahrt Ihr im JentlFlow Adventurebike Blog Beitrag Jentlflow Adventurebike Offroad Fahrtechnik Training – perfekt vorbereitet am Start. \nPreis: 149\,-\nAnmeldung\n\n\n  \n\n\n\nVor-Nachname \nEmail \nStrasse \nPostleitzahl \nOrt \nTelefon \nGeburtsjahr \nMotorrad \nAnmerkungen \n \nMein Fahrlevel - bitte auswählen:\n \n\n	Nach unten scrollen und Fahrlevel wählenOffroad BeginnerOffroad Advanced RiderOffroad Expert Rider\nTermin bitte auswählen:\nNach unten scrollen und Tour wählen26.April Adventurebike Guiding Plus Level 2 Technik10.Mai Adventurebike Training Pro Offroad Basics21. Mai Adventurebike Training Pro Stefan M.29.Mai Adventurebike Guiding Plus Level 2 Driften12.Juni Adventurebike Guiding Plus Offroad Basics20.Juni Adventurebike Guiding Plus Level 2 Stefan J.25.Juni Adventurebike Training Pro Stefan M.11.July Rallyfahrtechniktraining Kupres12.July Rallyfahrtechniktraining Kupres\n	 \n\n Ich melde mich verbindlich für die Tour an.\n \n Ich stimme den Teilnahmebedingungen/AGB zu.\n-> Link zu den Teilnahmebedingungen\n \nIch habe die Datenschutzerklärung zur Kenntnis genommen und akzeptiert. Ich stimme zu\, dass meine Formularangaben zur Kontaktaufnahme bzw. zur Bearbeitung meines Anliegens gespeichert werden.\n-> Link zur Datenschutzerklärung\n \n\n \nFalls nach der Anmeldung keine Antwort kommt bitte SPAM-Ordner prüfen.\n ×
URL:https://www.jentlflow.at/event/adventurebike-guiding-plus-slowenien-28-08-2022/
LOCATION:Eibiswald Socar Tankstelle\, Eibiswald 242a\, Eibiswald\, Steiermark\, 8552\, Österreich
CATEGORIES:Adventurebiketraining Basic
ORGANIZER;CN="JentlFlow":MAILTO:jentl@jeneweinflow.at
END:VEVENT
END:VCALENDAR